



BEGIN:VCALENDAR
VERSION:2.0
PRODID:-//BeMore - ECPv6.15.1//NONSGML v1.0//EN
CALSCALE:GREGORIAN
METHOD:PUBLISH
X-ORIGINAL-URL:https://dev-bemore.awtg.net
X-WR-CALDESC:Events for BeMore
REFRESH-INTERVAL;VALUE=DURATION:PT1H
X-Robots-Tag:noindex
X-PUBLISHED-TTL:PT1H
BEGIN:VTIMEZONE
TZID:UTC
BEGIN:STANDARD
TZOFFSETFROM:+0000
TZOFFSETTO:+0000
TZNAME:UTC
DTSTART:20250101T000000
END:STANDARD
END:VTIMEZONE
BEGIN:VEVENT
DTSTART;TZID=UTC:20251024T103000
DTEND;TZID=UTC:20251024T103000
DTSTAMP:20260424T205215
CREATED:20221018T181702Z
LAST-MODIFIED:20221018T181703Z
UID:10009977-1761301800-1761301800@dev-bemore.awtg.net
SUMMARY:DBS EXPERIENCE PROGRAMME
DESCRIPTION:
URL:https://dev-bemore.awtg.net/events/dbs-experience-programme/2025-10-24/
LOCATION:Thrive\, 21-23 Preston Street\, Liverpool\, Liverpool\, L1 6DP\, United Kingdom
ATTACH;FMTTYPE=image/jpeg:https://dev-bemore.awtg.net/wp-content/uploads/2022/10/Thrive.jpg
GEO:53.408947259526;-2.9849363644176
X-APPLE-STRUCTURED-LOCATION;VALUE=URI;X-ADDRESS=Thrive 21-23 Preston Street Liverpool Liverpool L1 6DP United Kingdom;X-APPLE-RADIUS=500;X-TITLE=21-23 Preston Street:geo:-2.9849363644176,53.408947259526
END:VEVENT
BEGIN:VEVENT
DTSTART;TZID=UTC:20251023T103000
DTEND;TZID=UTC:20251023T103000
DTSTAMP:20260424T205215
CREATED:20221018T181702Z
LAST-MODIFIED:20221018T181703Z
UID:10009976-1761215400-1761215400@dev-bemore.awtg.net
SUMMARY:DBS EXPERIENCE PROGRAMME
DESCRIPTION:
URL:https://dev-bemore.awtg.net/events/dbs-experience-programme/2025-10-23/
LOCATION:Thrive\, 21-23 Preston Street\, Liverpool\, Liverpool\, L1 6DP\, United Kingdom
ATTACH;FMTTYPE=image/jpeg:https://dev-bemore.awtg.net/wp-content/uploads/2022/10/Thrive.jpg
GEO:53.408947259526;-2.9849363644176
X-APPLE-STRUCTURED-LOCATION;VALUE=URI;X-ADDRESS=Thrive 21-23 Preston Street Liverpool Liverpool L1 6DP United Kingdom;X-APPLE-RADIUS=500;X-TITLE=21-23 Preston Street:geo:-2.9849363644176,53.408947259526
END:VEVENT
BEGIN:VEVENT
DTSTART;TZID=UTC:20251022T103000
DTEND;TZID=UTC:20251022T103000
DTSTAMP:20260424T205215
CREATED:20221018T181702Z
LAST-MODIFIED:20221018T181703Z
UID:10009975-1761129000-1761129000@dev-bemore.awtg.net
SUMMARY:DBS EXPERIENCE PROGRAMME
DESCRIPTION:
URL:https://dev-bemore.awtg.net/events/dbs-experience-programme/2025-10-22/
LOCATION:Thrive\, 21-23 Preston Street\, Liverpool\, Liverpool\, L1 6DP\, United Kingdom
ATTACH;FMTTYPE=image/jpeg:https://dev-bemore.awtg.net/wp-content/uploads/2022/10/Thrive.jpg
GEO:53.408947259526;-2.9849363644176
X-APPLE-STRUCTURED-LOCATION;VALUE=URI;X-ADDRESS=Thrive 21-23 Preston Street Liverpool Liverpool L1 6DP United Kingdom;X-APPLE-RADIUS=500;X-TITLE=21-23 Preston Street:geo:-2.9849363644176,53.408947259526
END:VEVENT
BEGIN:VEVENT
DTSTART;TZID=UTC:20251021T103000
DTEND;TZID=UTC:20251021T103000
DTSTAMP:20260424T205215
CREATED:20221018T181702Z
LAST-MODIFIED:20221018T181703Z
UID:10009974-1761042600-1761042600@dev-bemore.awtg.net
SUMMARY:DBS EXPERIENCE PROGRAMME
DESCRIPTION:
URL:https://dev-bemore.awtg.net/events/dbs-experience-programme/2025-10-21/
LOCATION:Thrive\, 21-23 Preston Street\, Liverpool\, Liverpool\, L1 6DP\, United Kingdom
ATTACH;FMTTYPE=image/jpeg:https://dev-bemore.awtg.net/wp-content/uploads/2022/10/Thrive.jpg
GEO:53.408947259526;-2.9849363644176
X-APPLE-STRUCTURED-LOCATION;VALUE=URI;X-ADDRESS=Thrive 21-23 Preston Street Liverpool Liverpool L1 6DP United Kingdom;X-APPLE-RADIUS=500;X-TITLE=21-23 Preston Street:geo:-2.9849363644176,53.408947259526
END:VEVENT
BEGIN:VEVENT
DTSTART;TZID=UTC:20251020T103000
DTEND;TZID=UTC:20251020T103000
DTSTAMP:20260424T205215
CREATED:20221018T181702Z
LAST-MODIFIED:20221018T181703Z
UID:10009973-1760956200-1760956200@dev-bemore.awtg.net
SUMMARY:DBS EXPERIENCE PROGRAMME
DESCRIPTION:
URL:https://dev-bemore.awtg.net/events/dbs-experience-programme/2025-10-20/
LOCATION:Thrive\, 21-23 Preston Street\, Liverpool\, Liverpool\, L1 6DP\, United Kingdom
ATTACH;FMTTYPE=image/jpeg:https://dev-bemore.awtg.net/wp-content/uploads/2022/10/Thrive.jpg
GEO:53.408947259526;-2.9849363644176
X-APPLE-STRUCTURED-LOCATION;VALUE=URI;X-ADDRESS=Thrive 21-23 Preston Street Liverpool Liverpool L1 6DP United Kingdom;X-APPLE-RADIUS=500;X-TITLE=21-23 Preston Street:geo:-2.9849363644176,53.408947259526
END:VEVENT
BEGIN:VEVENT
DTSTART;TZID=UTC:20251019T103000
DTEND;TZID=UTC:20251019T103000
DTSTAMP:20260424T205215
CREATED:20221018T181702Z
LAST-MODIFIED:20221018T181703Z
UID:10009972-1760869800-1760869800@dev-bemore.awtg.net
SUMMARY:DBS EXPERIENCE PROGRAMME
DESCRIPTION:
URL:https://dev-bemore.awtg.net/events/dbs-experience-programme/2025-10-19/
LOCATION:Thrive\, 21-23 Preston Street\, Liverpool\, Liverpool\, L1 6DP\, United Kingdom
ATTACH;FMTTYPE=image/jpeg:https://dev-bemore.awtg.net/wp-content/uploads/2022/10/Thrive.jpg
GEO:53.408947259526;-2.9849363644176
X-APPLE-STRUCTURED-LOCATION;VALUE=URI;X-ADDRESS=Thrive 21-23 Preston Street Liverpool Liverpool L1 6DP United Kingdom;X-APPLE-RADIUS=500;X-TITLE=21-23 Preston Street:geo:-2.9849363644176,53.408947259526
END:VEVENT
BEGIN:VEVENT
DTSTART;TZID=UTC:20251018T103000
DTEND;TZID=UTC:20251018T103000
DTSTAMP:20260424T205215
CREATED:20221018T181702Z
LAST-MODIFIED:20221018T181703Z
UID:10009971-1760783400-1760783400@dev-bemore.awtg.net
SUMMARY:DBS EXPERIENCE PROGRAMME
DESCRIPTION:
URL:https://dev-bemore.awtg.net/events/dbs-experience-programme/2025-10-18/
LOCATION:Thrive\, 21-23 Preston Street\, Liverpool\, Liverpool\, L1 6DP\, United Kingdom
ATTACH;FMTTYPE=image/jpeg:https://dev-bemore.awtg.net/wp-content/uploads/2022/10/Thrive.jpg
GEO:53.408947259526;-2.9849363644176
X-APPLE-STRUCTURED-LOCATION;VALUE=URI;X-ADDRESS=Thrive 21-23 Preston Street Liverpool Liverpool L1 6DP United Kingdom;X-APPLE-RADIUS=500;X-TITLE=21-23 Preston Street:geo:-2.9849363644176,53.408947259526
END:VEVENT
BEGIN:VEVENT
DTSTART;TZID=UTC:20251017T103000
DTEND;TZID=UTC:20251017T103000
DTSTAMP:20260424T205215
CREATED:20221018T181702Z
LAST-MODIFIED:20221018T181703Z
UID:10009970-1760697000-1760697000@dev-bemore.awtg.net
SUMMARY:DBS EXPERIENCE PROGRAMME
DESCRIPTION:
URL:https://dev-bemore.awtg.net/events/dbs-experience-programme/2025-10-17/
LOCATION:Thrive\, 21-23 Preston Street\, Liverpool\, Liverpool\, L1 6DP\, United Kingdom
ATTACH;FMTTYPE=image/jpeg:https://dev-bemore.awtg.net/wp-content/uploads/2022/10/Thrive.jpg
GEO:53.408947259526;-2.9849363644176
X-APPLE-STRUCTURED-LOCATION;VALUE=URI;X-ADDRESS=Thrive 21-23 Preston Street Liverpool Liverpool L1 6DP United Kingdom;X-APPLE-RADIUS=500;X-TITLE=21-23 Preston Street:geo:-2.9849363644176,53.408947259526
END:VEVENT
BEGIN:VEVENT
DTSTART;TZID=UTC:20251016T103000
DTEND;TZID=UTC:20251016T103000
DTSTAMP:20260424T205215
CREATED:20221018T181702Z
LAST-MODIFIED:20221018T181703Z
UID:10009969-1760610600-1760610600@dev-bemore.awtg.net
SUMMARY:DBS EXPERIENCE PROGRAMME
DESCRIPTION:
URL:https://dev-bemore.awtg.net/events/dbs-experience-programme/2025-10-16/
LOCATION:Thrive\, 21-23 Preston Street\, Liverpool\, Liverpool\, L1 6DP\, United Kingdom
ATTACH;FMTTYPE=image/jpeg:https://dev-bemore.awtg.net/wp-content/uploads/2022/10/Thrive.jpg
GEO:53.408947259526;-2.9849363644176
X-APPLE-STRUCTURED-LOCATION;VALUE=URI;X-ADDRESS=Thrive 21-23 Preston Street Liverpool Liverpool L1 6DP United Kingdom;X-APPLE-RADIUS=500;X-TITLE=21-23 Preston Street:geo:-2.9849363644176,53.408947259526
END:VEVENT
BEGIN:VEVENT
DTSTART;TZID=UTC:20251015T103000
DTEND;TZID=UTC:20251015T103000
DTSTAMP:20260424T205215
CREATED:20221018T181702Z
LAST-MODIFIED:20221018T181703Z
UID:10009968-1760524200-1760524200@dev-bemore.awtg.net
SUMMARY:DBS EXPERIENCE PROGRAMME
DESCRIPTION:
URL:https://dev-bemore.awtg.net/events/dbs-experience-programme/2025-10-15/
LOCATION:Thrive\, 21-23 Preston Street\, Liverpool\, Liverpool\, L1 6DP\, United Kingdom
ATTACH;FMTTYPE=image/jpeg:https://dev-bemore.awtg.net/wp-content/uploads/2022/10/Thrive.jpg
GEO:53.408947259526;-2.9849363644176
X-APPLE-STRUCTURED-LOCATION;VALUE=URI;X-ADDRESS=Thrive 21-23 Preston Street Liverpool Liverpool L1 6DP United Kingdom;X-APPLE-RADIUS=500;X-TITLE=21-23 Preston Street:geo:-2.9849363644176,53.408947259526
END:VEVENT
BEGIN:VEVENT
DTSTART;TZID=UTC:20251014T103000
DTEND;TZID=UTC:20251014T103000
DTSTAMP:20260424T205215
CREATED:20221018T181702Z
LAST-MODIFIED:20221018T181703Z
UID:10009967-1760437800-1760437800@dev-bemore.awtg.net
SUMMARY:DBS EXPERIENCE PROGRAMME
DESCRIPTION:
URL:https://dev-bemore.awtg.net/events/dbs-experience-programme/2025-10-14/
LOCATION:Thrive\, 21-23 Preston Street\, Liverpool\, Liverpool\, L1 6DP\, United Kingdom
ATTACH;FMTTYPE=image/jpeg:https://dev-bemore.awtg.net/wp-content/uploads/2022/10/Thrive.jpg
GEO:53.408947259526;-2.9849363644176
X-APPLE-STRUCTURED-LOCATION;VALUE=URI;X-ADDRESS=Thrive 21-23 Preston Street Liverpool Liverpool L1 6DP United Kingdom;X-APPLE-RADIUS=500;X-TITLE=21-23 Preston Street:geo:-2.9849363644176,53.408947259526
END:VEVENT
BEGIN:VEVENT
DTSTART;TZID=UTC:20251013T103000
DTEND;TZID=UTC:20251013T103000
DTSTAMP:20260424T205215
CREATED:20221018T181702Z
LAST-MODIFIED:20221018T181703Z
UID:10009966-1760351400-1760351400@dev-bemore.awtg.net
SUMMARY:DBS EXPERIENCE PROGRAMME
DESCRIPTION:
URL:https://dev-bemore.awtg.net/events/dbs-experience-programme/2025-10-13/
LOCATION:Thrive\, 21-23 Preston Street\, Liverpool\, Liverpool\, L1 6DP\, United Kingdom
ATTACH;FMTTYPE=image/jpeg:https://dev-bemore.awtg.net/wp-content/uploads/2022/10/Thrive.jpg
GEO:53.408947259526;-2.9849363644176
X-APPLE-STRUCTURED-LOCATION;VALUE=URI;X-ADDRESS=Thrive 21-23 Preston Street Liverpool Liverpool L1 6DP United Kingdom;X-APPLE-RADIUS=500;X-TITLE=21-23 Preston Street:geo:-2.9849363644176,53.408947259526
END:VEVENT
BEGIN:VEVENT
DTSTART;TZID=UTC:20251012T103000
DTEND;TZID=UTC:20251012T103000
DTSTAMP:20260424T205215
CREATED:20221018T181702Z
LAST-MODIFIED:20221018T181703Z
UID:10009965-1760265000-1760265000@dev-bemore.awtg.net
SUMMARY:DBS EXPERIENCE PROGRAMME
DESCRIPTION:
URL:https://dev-bemore.awtg.net/events/dbs-experience-programme/2025-10-12/
LOCATION:Thrive\, 21-23 Preston Street\, Liverpool\, Liverpool\, L1 6DP\, United Kingdom
ATTACH;FMTTYPE=image/jpeg:https://dev-bemore.awtg.net/wp-content/uploads/2022/10/Thrive.jpg
GEO:53.408947259526;-2.9849363644176
X-APPLE-STRUCTURED-LOCATION;VALUE=URI;X-ADDRESS=Thrive 21-23 Preston Street Liverpool Liverpool L1 6DP United Kingdom;X-APPLE-RADIUS=500;X-TITLE=21-23 Preston Street:geo:-2.9849363644176,53.408947259526
END:VEVENT
BEGIN:VEVENT
DTSTART;TZID=UTC:20251011T103000
DTEND;TZID=UTC:20251011T103000
DTSTAMP:20260424T205215
CREATED:20221018T181702Z
LAST-MODIFIED:20221018T181703Z
UID:10009964-1760178600-1760178600@dev-bemore.awtg.net
SUMMARY:DBS EXPERIENCE PROGRAMME
DESCRIPTION:
URL:https://dev-bemore.awtg.net/events/dbs-experience-programme/2025-10-11/
LOCATION:Thrive\, 21-23 Preston Street\, Liverpool\, Liverpool\, L1 6DP\, United Kingdom
ATTACH;FMTTYPE=image/jpeg:https://dev-bemore.awtg.net/wp-content/uploads/2022/10/Thrive.jpg
GEO:53.408947259526;-2.9849363644176
X-APPLE-STRUCTURED-LOCATION;VALUE=URI;X-ADDRESS=Thrive 21-23 Preston Street Liverpool Liverpool L1 6DP United Kingdom;X-APPLE-RADIUS=500;X-TITLE=21-23 Preston Street:geo:-2.9849363644176,53.408947259526
END:VEVENT
BEGIN:VEVENT
DTSTART;TZID=UTC:20251010T103000
DTEND;TZID=UTC:20251010T103000
DTSTAMP:20260424T205215
CREATED:20221018T181702Z
LAST-MODIFIED:20221018T181703Z
UID:10009963-1760092200-1760092200@dev-bemore.awtg.net
SUMMARY:DBS EXPERIENCE PROGRAMME
DESCRIPTION:
URL:https://dev-bemore.awtg.net/events/dbs-experience-programme/2025-10-10/
LOCATION:Thrive\, 21-23 Preston Street\, Liverpool\, Liverpool\, L1 6DP\, United Kingdom
ATTACH;FMTTYPE=image/jpeg:https://dev-bemore.awtg.net/wp-content/uploads/2022/10/Thrive.jpg
GEO:53.408947259526;-2.9849363644176
X-APPLE-STRUCTURED-LOCATION;VALUE=URI;X-ADDRESS=Thrive 21-23 Preston Street Liverpool Liverpool L1 6DP United Kingdom;X-APPLE-RADIUS=500;X-TITLE=21-23 Preston Street:geo:-2.9849363644176,53.408947259526
END:VEVENT
BEGIN:VEVENT
DTSTART;TZID=UTC:20251009T103000
DTEND;TZID=UTC:20251009T103000
DTSTAMP:20260424T205215
CREATED:20221018T181702Z
LAST-MODIFIED:20221018T181703Z
UID:10009962-1760005800-1760005800@dev-bemore.awtg.net
SUMMARY:DBS EXPERIENCE PROGRAMME
DESCRIPTION:
URL:https://dev-bemore.awtg.net/events/dbs-experience-programme/2025-10-09/
LOCATION:Thrive\, 21-23 Preston Street\, Liverpool\, Liverpool\, L1 6DP\, United Kingdom
ATTACH;FMTTYPE=image/jpeg:https://dev-bemore.awtg.net/wp-content/uploads/2022/10/Thrive.jpg
GEO:53.408947259526;-2.9849363644176
X-APPLE-STRUCTURED-LOCATION;VALUE=URI;X-ADDRESS=Thrive 21-23 Preston Street Liverpool Liverpool L1 6DP United Kingdom;X-APPLE-RADIUS=500;X-TITLE=21-23 Preston Street:geo:-2.9849363644176,53.408947259526
END:VEVENT
BEGIN:VEVENT
DTSTART;TZID=UTC:20251008T103000
DTEND;TZID=UTC:20251008T103000
DTSTAMP:20260424T205215
CREATED:20221018T181702Z
LAST-MODIFIED:20221018T181703Z
UID:10009961-1759919400-1759919400@dev-bemore.awtg.net
SUMMARY:DBS EXPERIENCE PROGRAMME
DESCRIPTION:
URL:https://dev-bemore.awtg.net/events/dbs-experience-programme/2025-10-08/
LOCATION:Thrive\, 21-23 Preston Street\, Liverpool\, Liverpool\, L1 6DP\, United Kingdom
ATTACH;FMTTYPE=image/jpeg:https://dev-bemore.awtg.net/wp-content/uploads/2022/10/Thrive.jpg
GEO:53.408947259526;-2.9849363644176
X-APPLE-STRUCTURED-LOCATION;VALUE=URI;X-ADDRESS=Thrive 21-23 Preston Street Liverpool Liverpool L1 6DP United Kingdom;X-APPLE-RADIUS=500;X-TITLE=21-23 Preston Street:geo:-2.9849363644176,53.408947259526
END:VEVENT
BEGIN:VEVENT
DTSTART;TZID=UTC:20251007T103000
DTEND;TZID=UTC:20251007T103000
DTSTAMP:20260424T205215
CREATED:20221018T181702Z
LAST-MODIFIED:20221018T181703Z
UID:10009960-1759833000-1759833000@dev-bemore.awtg.net
SUMMARY:DBS EXPERIENCE PROGRAMME
DESCRIPTION:
URL:https://dev-bemore.awtg.net/events/dbs-experience-programme/2025-10-07/
LOCATION:Thrive\, 21-23 Preston Street\, Liverpool\, Liverpool\, L1 6DP\, United Kingdom
ATTACH;FMTTYPE=image/jpeg:https://dev-bemore.awtg.net/wp-content/uploads/2022/10/Thrive.jpg
GEO:53.408947259526;-2.9849363644176
X-APPLE-STRUCTURED-LOCATION;VALUE=URI;X-ADDRESS=Thrive 21-23 Preston Street Liverpool Liverpool L1 6DP United Kingdom;X-APPLE-RADIUS=500;X-TITLE=21-23 Preston Street:geo:-2.9849363644176,53.408947259526
END:VEVENT
BEGIN:VEVENT
DTSTART;TZID=UTC:20251006T103000
DTEND;TZID=UTC:20251006T103000
DTSTAMP:20260424T205215
CREATED:20221018T181702Z
LAST-MODIFIED:20221018T181703Z
UID:10009959-1759746600-1759746600@dev-bemore.awtg.net
SUMMARY:DBS EXPERIENCE PROGRAMME
DESCRIPTION:
URL:https://dev-bemore.awtg.net/events/dbs-experience-programme/2025-10-06/
LOCATION:Thrive\, 21-23 Preston Street\, Liverpool\, Liverpool\, L1 6DP\, United Kingdom
ATTACH;FMTTYPE=image/jpeg:https://dev-bemore.awtg.net/wp-content/uploads/2022/10/Thrive.jpg
GEO:53.408947259526;-2.9849363644176
X-APPLE-STRUCTURED-LOCATION;VALUE=URI;X-ADDRESS=Thrive 21-23 Preston Street Liverpool Liverpool L1 6DP United Kingdom;X-APPLE-RADIUS=500;X-TITLE=21-23 Preston Street:geo:-2.9849363644176,53.408947259526
END:VEVENT
BEGIN:VEVENT
DTSTART;TZID=UTC:20251005T130000
DTEND;TZID=UTC:20251005T130000
DTSTAMP:20260424T205215
CREATED:20221018T182437Z
LAST-MODIFIED:20221018T182438Z
UID:10009843-1759669200-1759669200@dev-bemore.awtg.net
SUMMARY:REGENDA HOUSING SUPPORT
DESCRIPTION:
URL:https://dev-bemore.awtg.net/events/regenda-housing-support/2025-10-05/
LOCATION:Thrive\, 21-23 Preston Street\, Liverpool\, Liverpool\, L1 6DP\, United Kingdom
ATTACH;FMTTYPE=image/jpeg:https://dev-bemore.awtg.net/wp-content/uploads/2022/10/Thrive.jpg
GEO:53.408947259526;-2.9849363644176
X-APPLE-STRUCTURED-LOCATION;VALUE=URI;X-ADDRESS=Thrive 21-23 Preston Street Liverpool Liverpool L1 6DP United Kingdom;X-APPLE-RADIUS=500;X-TITLE=21-23 Preston Street:geo:-2.9849363644176,53.408947259526
END:VEVENT
BEGIN:VEVENT
DTSTART;TZID=UTC:20251005T130000
DTEND;TZID=UTC:20251005T130000
DTSTAMP:20260424T205215
CREATED:20221018T181508Z
LAST-MODIFIED:20221018T181509Z
UID:10007614-1759669200-1759669200@dev-bemore.awtg.net
SUMMARY:CV DROP IN
DESCRIPTION:
URL:https://dev-bemore.awtg.net/events/cv-drop-in/2025-10-05/
LOCATION:Thrive\, 21-23 Preston Street\, Liverpool\, Liverpool\, L1 6DP\, United Kingdom
ATTACH;FMTTYPE=image/jpeg:https://dev-bemore.awtg.net/wp-content/uploads/2022/10/Thrive.jpg
GEO:53.408947259526;-2.9849363644176
X-APPLE-STRUCTURED-LOCATION;VALUE=URI;X-ADDRESS=Thrive 21-23 Preston Street Liverpool Liverpool L1 6DP United Kingdom;X-APPLE-RADIUS=500;X-TITLE=21-23 Preston Street:geo:-2.9849363644176,53.408947259526
END:VEVENT
BEGIN:VEVENT
DTSTART;TZID=UTC:20251005T103000
DTEND;TZID=UTC:20251005T103000
DTSTAMP:20260424T205215
CREATED:20221018T181857Z
LAST-MODIFIED:20221018T181858Z
UID:10008767-1759660200-1759660200@dev-bemore.awtg.net
SUMMARY:TRAINING WITH THE LEARNING FOUNDRY
DESCRIPTION:
URL:https://dev-bemore.awtg.net/events/training-with-the-learning-foundry/2025-10-05/
LOCATION:Thrive\, 21-23 Preston Street\, Liverpool\, Liverpool\, L1 6DP\, United Kingdom
ATTACH;FMTTYPE=image/jpeg:https://dev-bemore.awtg.net/wp-content/uploads/2022/10/Thrive.jpg
GEO:53.408947259526;-2.9849363644176
X-APPLE-STRUCTURED-LOCATION;VALUE=URI;X-ADDRESS=Thrive 21-23 Preston Street Liverpool Liverpool L1 6DP United Kingdom;X-APPLE-RADIUS=500;X-TITLE=21-23 Preston Street:geo:-2.9849363644176,53.408947259526
END:VEVENT
BEGIN:VEVENT
DTSTART;TZID=UTC:20251005T103000
DTEND;TZID=UTC:20251005T103000
DTSTAMP:20260424T205215
CREATED:20221018T181702Z
LAST-MODIFIED:20221018T181703Z
UID:10007691-1759660200-1759660200@dev-bemore.awtg.net
SUMMARY:DBS EXPERIENCE PROGRAMME
DESCRIPTION:
URL:https://dev-bemore.awtg.net/events/dbs-experience-programme/2025-10-05/
LOCATION:Thrive\, 21-23 Preston Street\, Liverpool\, Liverpool\, L1 6DP\, United Kingdom
ATTACH;FMTTYPE=image/jpeg:https://dev-bemore.awtg.net/wp-content/uploads/2022/10/Thrive.jpg
GEO:53.408947259526;-2.9849363644176
X-APPLE-STRUCTURED-LOCATION;VALUE=URI;X-ADDRESS=Thrive 21-23 Preston Street Liverpool Liverpool L1 6DP United Kingdom;X-APPLE-RADIUS=500;X-TITLE=21-23 Preston Street:geo:-2.9849363644176,53.408947259526
END:VEVENT
BEGIN:VEVENT
DTSTART;TZID=UTC:20251004T130000
DTEND;TZID=UTC:20251004T130000
DTSTAMP:20260424T205215
CREATED:20221018T182437Z
LAST-MODIFIED:20221018T182438Z
UID:10009842-1759582800-1759582800@dev-bemore.awtg.net
SUMMARY:REGENDA HOUSING SUPPORT
DESCRIPTION:
URL:https://dev-bemore.awtg.net/events/regenda-housing-support/2025-10-04/
LOCATION:Thrive\, 21-23 Preston Street\, Liverpool\, Liverpool\, L1 6DP\, United Kingdom
ATTACH;FMTTYPE=image/jpeg:https://dev-bemore.awtg.net/wp-content/uploads/2022/10/Thrive.jpg
GEO:53.408947259526;-2.9849363644176
X-APPLE-STRUCTURED-LOCATION;VALUE=URI;X-ADDRESS=Thrive 21-23 Preston Street Liverpool Liverpool L1 6DP United Kingdom;X-APPLE-RADIUS=500;X-TITLE=21-23 Preston Street:geo:-2.9849363644176,53.408947259526
END:VEVENT
BEGIN:VEVENT
DTSTART;TZID=UTC:20251004T130000
DTEND;TZID=UTC:20251004T130000
DTSTAMP:20260424T205215
CREATED:20221018T181508Z
LAST-MODIFIED:20221018T181509Z
UID:10007613-1759582800-1759582800@dev-bemore.awtg.net
SUMMARY:CV DROP IN
DESCRIPTION:
URL:https://dev-bemore.awtg.net/events/cv-drop-in/2025-10-04/
LOCATION:Thrive\, 21-23 Preston Street\, Liverpool\, Liverpool\, L1 6DP\, United Kingdom
ATTACH;FMTTYPE=image/jpeg:https://dev-bemore.awtg.net/wp-content/uploads/2022/10/Thrive.jpg
GEO:53.408947259526;-2.9849363644176
X-APPLE-STRUCTURED-LOCATION;VALUE=URI;X-ADDRESS=Thrive 21-23 Preston Street Liverpool Liverpool L1 6DP United Kingdom;X-APPLE-RADIUS=500;X-TITLE=21-23 Preston Street:geo:-2.9849363644176,53.408947259526
END:VEVENT
BEGIN:VEVENT
DTSTART;TZID=UTC:20251004T103000
DTEND;TZID=UTC:20251004T103000
DTSTAMP:20260424T205215
CREATED:20221018T181857Z
LAST-MODIFIED:20221018T181858Z
UID:10008766-1759573800-1759573800@dev-bemore.awtg.net
SUMMARY:TRAINING WITH THE LEARNING FOUNDRY
DESCRIPTION:
URL:https://dev-bemore.awtg.net/events/training-with-the-learning-foundry/2025-10-04/
LOCATION:Thrive\, 21-23 Preston Street\, Liverpool\, Liverpool\, L1 6DP\, United Kingdom
ATTACH;FMTTYPE=image/jpeg:https://dev-bemore.awtg.net/wp-content/uploads/2022/10/Thrive.jpg
GEO:53.408947259526;-2.9849363644176
X-APPLE-STRUCTURED-LOCATION;VALUE=URI;X-ADDRESS=Thrive 21-23 Preston Street Liverpool Liverpool L1 6DP United Kingdom;X-APPLE-RADIUS=500;X-TITLE=21-23 Preston Street:geo:-2.9849363644176,53.408947259526
END:VEVENT
BEGIN:VEVENT
DTSTART;TZID=UTC:20251004T103000
DTEND;TZID=UTC:20251004T103000
DTSTAMP:20260424T205215
CREATED:20221018T181702Z
LAST-MODIFIED:20221018T181703Z
UID:10007690-1759573800-1759573800@dev-bemore.awtg.net
SUMMARY:DBS EXPERIENCE PROGRAMME
DESCRIPTION:
URL:https://dev-bemore.awtg.net/events/dbs-experience-programme/2025-10-04/
LOCATION:Thrive\, 21-23 Preston Street\, Liverpool\, Liverpool\, L1 6DP\, United Kingdom
ATTACH;FMTTYPE=image/jpeg:https://dev-bemore.awtg.net/wp-content/uploads/2022/10/Thrive.jpg
GEO:53.408947259526;-2.9849363644176
X-APPLE-STRUCTURED-LOCATION;VALUE=URI;X-ADDRESS=Thrive 21-23 Preston Street Liverpool Liverpool L1 6DP United Kingdom;X-APPLE-RADIUS=500;X-TITLE=21-23 Preston Street:geo:-2.9849363644176,53.408947259526
END:VEVENT
BEGIN:VEVENT
DTSTART;TZID=UTC:20251003T130000
DTEND;TZID=UTC:20251003T130000
DTSTAMP:20260424T205215
CREATED:20221018T182437Z
LAST-MODIFIED:20221018T182438Z
UID:10009841-1759496400-1759496400@dev-bemore.awtg.net
SUMMARY:REGENDA HOUSING SUPPORT
DESCRIPTION:
URL:https://dev-bemore.awtg.net/events/regenda-housing-support/2025-10-03/
LOCATION:Thrive\, 21-23 Preston Street\, Liverpool\, Liverpool\, L1 6DP\, United Kingdom
ATTACH;FMTTYPE=image/jpeg:https://dev-bemore.awtg.net/wp-content/uploads/2022/10/Thrive.jpg
GEO:53.408947259526;-2.9849363644176
X-APPLE-STRUCTURED-LOCATION;VALUE=URI;X-ADDRESS=Thrive 21-23 Preston Street Liverpool Liverpool L1 6DP United Kingdom;X-APPLE-RADIUS=500;X-TITLE=21-23 Preston Street:geo:-2.9849363644176,53.408947259526
END:VEVENT
BEGIN:VEVENT
DTSTART;TZID=UTC:20251003T130000
DTEND;TZID=UTC:20251003T130000
DTSTAMP:20260424T205215
CREATED:20221018T181508Z
LAST-MODIFIED:20221018T181509Z
UID:10007612-1759496400-1759496400@dev-bemore.awtg.net
SUMMARY:CV DROP IN
DESCRIPTION:
URL:https://dev-bemore.awtg.net/events/cv-drop-in/2025-10-03/
LOCATION:Thrive\, 21-23 Preston Street\, Liverpool\, Liverpool\, L1 6DP\, United Kingdom
ATTACH;FMTTYPE=image/jpeg:https://dev-bemore.awtg.net/wp-content/uploads/2022/10/Thrive.jpg
GEO:53.408947259526;-2.9849363644176
X-APPLE-STRUCTURED-LOCATION;VALUE=URI;X-ADDRESS=Thrive 21-23 Preston Street Liverpool Liverpool L1 6DP United Kingdom;X-APPLE-RADIUS=500;X-TITLE=21-23 Preston Street:geo:-2.9849363644176,53.408947259526
END:VEVENT
BEGIN:VEVENT
DTSTART;TZID=UTC:20251003T103000
DTEND;TZID=UTC:20251003T103000
DTSTAMP:20260424T205215
CREATED:20221018T181857Z
LAST-MODIFIED:20221018T181858Z
UID:10008765-1759487400-1759487400@dev-bemore.awtg.net
SUMMARY:TRAINING WITH THE LEARNING FOUNDRY
DESCRIPTION:
URL:https://dev-bemore.awtg.net/events/training-with-the-learning-foundry/2025-10-03/
LOCATION:Thrive\, 21-23 Preston Street\, Liverpool\, Liverpool\, L1 6DP\, United Kingdom
ATTACH;FMTTYPE=image/jpeg:https://dev-bemore.awtg.net/wp-content/uploads/2022/10/Thrive.jpg
GEO:53.408947259526;-2.9849363644176
X-APPLE-STRUCTURED-LOCATION;VALUE=URI;X-ADDRESS=Thrive 21-23 Preston Street Liverpool Liverpool L1 6DP United Kingdom;X-APPLE-RADIUS=500;X-TITLE=21-23 Preston Street:geo:-2.9849363644176,53.408947259526
END:VEVENT
END:VCALENDAR