



BEGIN:VCALENDAR
VERSION:2.0
PRODID:-//BeMore - ECPv6.15.1//NONSGML v1.0//EN
CALSCALE:GREGORIAN
METHOD:PUBLISH
X-WR-CALNAME:BeMore
X-ORIGINAL-URL:https://dev-bemore.awtg.net
X-WR-CALDESC:Events for BeMore
REFRESH-INTERVAL;VALUE=DURATION:PT1H
X-Robots-Tag:noindex
X-PUBLISHED-TTL:PT1H
BEGIN:VTIMEZONE
TZID:UTC
BEGIN:STANDARD
TZOFFSETFROM:+0000
TZOFFSETTO:+0000
TZNAME:UTC
DTSTART:20230101T000000
END:STANDARD
END:VTIMEZONE
BEGIN:VEVENT
DTSTART;TZID=UTC:20230306T080000
DTEND;TZID=UTC:20230306T170000
DTSTAMP:20260424T125558
CREATED:20230222T093859Z
LAST-MODIFIED:20230222T093901Z
UID:10009883-1678089600-1678122000@dev-bemore.awtg.net
SUMMARY:Weapons Down Gloves Up
DESCRIPTION:Aged 16-24 in the Liverpool City Region? \n\n\n\nThis Sports\, Education and Employment programme is delivered in partnership with Weapons Down Gloves Up. You’ll take get access to employment and construction training opportunities alongside boxing or Mixed Martial Arts (MMA) classes.   \n\n\n\nIt’s all about improving confidence\, discipline and teamwork\, with sessions coached by ‘Meatball Molly’ McCann and Tony Bellew. \n\n\n\nThe construction learning will set you on the right path to a successful career in the building industry. From new homes to world famous football stadiums and everything in between\, you’ll meet renowned guest speakers and learn about:  \n\n\n\n\nAsbestos Awareness \n\n\n\nManual Handling \n\n\n\nFirst Aid \n\n\n\nHealth and Safety in Construction \n\n\n\nMental Health First Aid in Construction \n\n\n\nCustomer Service Skills \n\n\n\nEmployability Skills \n\n\n\nTravel Management\n\n\n\n\nHow long is the course?  \n\n\n\n12 weeks  \n\n\n\nLocation: Ruskin Sports Village\, Ruskin Drive\, St Helens\, WA10 6RP \n\n\n\nWill I get work experience?  \n\n\n\nYou’ll undertake a 4-week work experience placement with a local construction company\, getting hands on experience for your future career.  \n\n\n\nWill I get a qualification?   \n\n\n\nYou’ll leave this course with:   \n\n\n\n\nA CSCS card\, which allows you to work on UK construction sites  \n\n\n\nNCFE Level 1 Certificate Occupational Studies in the Workplace   \n\n\n\nTemporary Traffic Management Basic Course certificate\n\n\n\nMaths and/or English functional skills (if needed)  \n\n\n\n\nWhat can I do next?   \n\n\n\nOnce you’ve completed this course\, you can move straight into employment and apprenticeship opportunities.  
URL:https://dev-bemore.awtg.net/events/weapons-down-gloves-up-2/
LOCATION:Ruskin Sports Village\, Ruskin Drive\, St Helens\, Merseyside\, WA10 6RP\, United Kingdom
ATTACH;FMTTYPE=image/png:https://dev-bemore.awtg.net/wp-content/uploads/2023/01/Screenshot-2023-01-17-at-11.32.34.png
ORGANIZER;CN="The Learning Foundry":MAILTO:info@thelearningfoundry.co.uk
END:VEVENT
END:VCALENDAR