



BEGIN:VCALENDAR
VERSION:2.0
PRODID:-//BeMore - ECPv6.15.1//NONSGML v1.0//EN
CALSCALE:GREGORIAN
METHOD:PUBLISH
X-WR-CALNAME:BeMore
X-ORIGINAL-URL:https://dev-bemore.awtg.net
X-WR-CALDESC:Events for BeMore
REFRESH-INTERVAL;VALUE=DURATION:PT1H
X-Robots-Tag:noindex
X-PUBLISHED-TTL:PT1H
BEGIN:VTIMEZONE
TZID:UTC
BEGIN:STANDARD
TZOFFSETFROM:+0000
TZOFFSETTO:+0000
TZNAME:UTC
DTSTART:20260101T000000
END:STANDARD
END:VTIMEZONE
BEGIN:VEVENT
DTSTART;TZID=UTC:20260427T170000
DTEND;TZID=UTC:20260427T183000
DTSTAMP:20260426T002723
CREATED:20240510T105800Z
LAST-MODIFIED:20240510T105802Z
UID:10010232-1777309200-1777314600@dev-bemore.awtg.net
SUMMARY:YOUTH VOICE PROJECTS
DESCRIPTION:Wirral Youth Voice Projects enable young people to have a voice and influence providers\, in Wirral and beyond.  \n\n\n\nThese groups work on the annual Wirral Youth Conference and Parliament  \n\n\n\n11-19yrs (up to 25 for SEND/CIC/ND) \n\n\n\nFor more details contact Seline Wakerley – selinewakerley@wirral.gov.uk
URL:https://dev-bemore.awtg.net/events/youth-voice-projects/2026-04-27/
LOCATION:Pilgrim Street Arts Centre\, 1 Pilgrim Street\, Birkenhead\, CH41 5EH\, United Kingdom
ATTACH;FMTTYPE=image/jpeg:https://dev-bemore.awtg.net/wp-content/uploads/2024/05/YOUTH-VOICE-WIRRAL.jpg
END:VEVENT
BEGIN:VEVENT
DTSTART;TZID=UTC:20260428T180000
DTEND;TZID=UTC:20260428T193000
DTSTAMP:20260426T002723
CREATED:20240510T110052Z
LAST-MODIFIED:20240510T110053Z
UID:10010257-1777399200-1777404600@dev-bemore.awtg.net
SUMMARY:SEND YOUTH VOICE GROUP
DESCRIPTION:Wirral Youth Voice Projects enable young people to have a voice and influence providers\, in Wirral and beyond. \n\n\n\nThese groups work on the annual Wirral Youth Conference and Parliament \n\n\n\n11-19yrs (up to 25 for SEND/CIC/ND) \n\n\n\nFor more details contact Seline Wakerley – selinewakerley@wirral.gov.uk
URL:https://dev-bemore.awtg.net/events/send-youth-voice-group/2026-04-28/
LOCATION:Pilgrim Street Arts Centre\, 1 Pilgrim Street\, Birkenhead\, CH41 5EH\, United Kingdom
ATTACH;FMTTYPE=image/jpeg:https://dev-bemore.awtg.net/wp-content/uploads/2024/05/YOUTH-VOICE-WIRRAL.jpg
END:VEVENT
BEGIN:VEVENT
DTSTART;TZID=UTC:20260502T100000
DTEND;TZID=UTC:20260502T120000
DTSTAMP:20260426T002723
CREATED:20240510T110847Z
LAST-MODIFIED:20240510T110848Z
UID:10010465-1777716000-1777723200@dev-bemore.awtg.net
SUMMARY:JUNIOR ARTS SMART
DESCRIPTION:For young people who are children in Care aged between 8-14 years  \n\n\n\nWirral Youth Voice Projects enable young people to have a voice and influence providers\, in Wirral and beyond. \n\n\n\nThese groups work on the annual Wirral Youth Conference and Parliament \n\n\n\nFor more details contact Seline Wakerley – selinewakerley@wirral.gov.uk
URL:https://dev-bemore.awtg.net/events/junior-arts-smart/2026-05-02/
LOCATION:Pilgrim Street Arts Centre\, 1 Pilgrim Street\, Birkenhead\, CH41 5EH\, United Kingdom
ATTACH;FMTTYPE=image/jpeg:https://dev-bemore.awtg.net/wp-content/uploads/2024/05/YOUTH-VOICE-WIRRAL.jpg
END:VEVENT
BEGIN:VEVENT
DTSTART;TZID=UTC:20260504T170000
DTEND;TZID=UTC:20260504T183000
DTSTAMP:20260426T002723
CREATED:20240510T105800Z
LAST-MODIFIED:20240510T105802Z
UID:10010233-1777914000-1777919400@dev-bemore.awtg.net
SUMMARY:YOUTH VOICE PROJECTS
DESCRIPTION:Wirral Youth Voice Projects enable young people to have a voice and influence providers\, in Wirral and beyond.  \n\n\n\nThese groups work on the annual Wirral Youth Conference and Parliament  \n\n\n\n11-19yrs (up to 25 for SEND/CIC/ND) \n\n\n\nFor more details contact Seline Wakerley – selinewakerley@wirral.gov.uk
URL:https://dev-bemore.awtg.net/events/youth-voice-projects/2026-05-04/
LOCATION:Pilgrim Street Arts Centre\, 1 Pilgrim Street\, Birkenhead\, CH41 5EH\, United Kingdom
ATTACH;FMTTYPE=image/jpeg:https://dev-bemore.awtg.net/wp-content/uploads/2024/05/YOUTH-VOICE-WIRRAL.jpg
END:VEVENT
BEGIN:VEVENT
DTSTART;TZID=UTC:20260509T100000
DTEND;TZID=UTC:20260509T120000
DTSTAMP:20260426T002723
CREATED:20240510T110847Z
LAST-MODIFIED:20240510T110848Z
UID:10010466-1778320800-1778328000@dev-bemore.awtg.net
SUMMARY:JUNIOR ARTS SMART
DESCRIPTION:For young people who are children in Care aged between 8-14 years  \n\n\n\nWirral Youth Voice Projects enable young people to have a voice and influence providers\, in Wirral and beyond. \n\n\n\nThese groups work on the annual Wirral Youth Conference and Parliament \n\n\n\nFor more details contact Seline Wakerley – selinewakerley@wirral.gov.uk
URL:https://dev-bemore.awtg.net/events/junior-arts-smart/2026-05-09/
LOCATION:Pilgrim Street Arts Centre\, 1 Pilgrim Street\, Birkenhead\, CH41 5EH\, United Kingdom
ATTACH;FMTTYPE=image/jpeg:https://dev-bemore.awtg.net/wp-content/uploads/2024/05/YOUTH-VOICE-WIRRAL.jpg
END:VEVENT
END:VCALENDAR