



BEGIN:VCALENDAR
VERSION:2.0
PRODID:-//BeMore - ECPv6.15.1//NONSGML v1.0//EN
CALSCALE:GREGORIAN
METHOD:PUBLISH
X-WR-CALNAME:BeMore
X-ORIGINAL-URL:https://dev-bemore.awtg.net
X-WR-CALDESC:Events for BeMore
REFRESH-INTERVAL;VALUE=DURATION:PT1H
X-Robots-Tag:noindex
X-PUBLISHED-TTL:PT1H
BEGIN:VTIMEZONE
TZID:UTC
BEGIN:STANDARD
TZOFFSETFROM:+0000
TZOFFSETTO:+0000
TZNAME:UTC
DTSTART:20240101T000000
END:STANDARD
END:VTIMEZONE
BEGIN:VEVENT
DTSTART;TZID=UTC:20240802T000000
DTEND;TZID=UTC:20240802T235959
DTSTAMP:20260425T174618
CREATED:20221018T172012Z
LAST-MODIFIED:20221018T180345Z
UID:10005167-1722556800-1722643199@dev-bemore.awtg.net
SUMMARY:CV SUPPORT
DESCRIPTION:Seetec CV Advisor attending Hub
URL:https://dev-bemore.awtg.net/events/cv-support/2024-08-02/
LOCATION:Merseyside Youth Association\, 65-67 Hanover Street\, Liverpool\, Liverpool\, L1 3DY\, United Kingdom
ATTACH;FMTTYPE=image/png:https://dev-bemore.awtg.net/wp-content/uploads/2022/10/stock-event.png
GEO:53.404306319392;-2.9825169067472
X-APPLE-STRUCTURED-LOCATION;VALUE=URI;X-ADDRESS=Merseyside Youth Association 65-67 Hanover Street Liverpool Liverpool L1 3DY United Kingdom;X-APPLE-RADIUS=500;X-TITLE=65-67 Hanover Street:geo:-2.9825169067472,53.404306319392
END:VEVENT
BEGIN:VEVENT
DTSTART;TZID=UTC:20240801T130000
DTEND;TZID=UTC:20240801T160000
DTSTAMP:20260425T174618
CREATED:20240722T073820Z
LAST-MODIFIED:20240722T073821Z
UID:10010536-1722517200-1722528000@dev-bemore.awtg.net
SUMMARY:JOB CLUB
DESCRIPTION:Access to digital equipment for job search.
URL:https://dev-bemore.awtg.net/events/job-club-2/2024-08-01/
LOCATION:Merseyside Youth Association\, 65-67 Hanover Street\, Liverpool\, Liverpool\, L1 3DY\, United Kingdom
ATTACH;FMTTYPE=image/png:https://dev-bemore.awtg.net/wp-content/uploads/2024/06/logo.png
GEO:53.404306319392;-2.9825169067472
X-APPLE-STRUCTURED-LOCATION;VALUE=URI;X-ADDRESS=Merseyside Youth Association 65-67 Hanover Street Liverpool Liverpool L1 3DY United Kingdom;X-APPLE-RADIUS=500;X-TITLE=65-67 Hanover Street:geo:-2.9825169067472,53.404306319392
END:VEVENT
BEGIN:VEVENT
DTSTART;TZID=UTC:20240731T130000
DTEND;TZID=UTC:20240731T170000
DTSTAMP:20260425T174618
CREATED:20221018T175015Z
LAST-MODIFIED:20231218T144607Z
UID:10005311-1722430800-1722445200@dev-bemore.awtg.net
SUMMARY:WEDNESDAY AFTERNOONS WITH THE HUB
DESCRIPTION:Personal skills development programme for a neurodiverse cohort of 15 young people. Activities include – CV building\, employer sessions\, woodland walk and much more!
URL:https://dev-bemore.awtg.net/events/wednesday-afternoons-with-the-hub-2/2024-07-31/
LOCATION:Merseyside Youth Association\, 65-67 Hanover Street\, Liverpool\, Liverpool\, L1 3DY\, United Kingdom
ATTACH;FMTTYPE=image/jpeg:https://dev-bemore.awtg.net/wp-content/uploads/2022/10/Merseyside-Youth-Association.jpg
GEO:53.404306319392;-2.9825169067472
X-APPLE-STRUCTURED-LOCATION;VALUE=URI;X-ADDRESS=Merseyside Youth Association 65-67 Hanover Street Liverpool Liverpool L1 3DY United Kingdom;X-APPLE-RADIUS=500;X-TITLE=65-67 Hanover Street:geo:-2.9825169067472,53.404306319392
END:VEVENT
BEGIN:VEVENT
DTSTART;TZID=UTC:20240731T130000
DTEND;TZID=UTC:20240731T170000
DTSTAMP:20260425T174618
CREATED:20221018T172632Z
LAST-MODIFIED:20221018T180221Z
UID:10005466-1722430800-1722445200@dev-bemore.awtg.net
SUMMARY:DROP IN SESSIONS
DESCRIPTION:DWP Work Coach available to support with Universal Credit claims.
URL:https://dev-bemore.awtg.net/events/drop-in-sessions/2024-07-31/
LOCATION:Merseyside Youth Association\, 65-67 Hanover Street\, Liverpool\, Liverpool\, L1 3DY\, United Kingdom
ATTACH;FMTTYPE=image/png:https://dev-bemore.awtg.net/wp-content/uploads/2022/10/stock-event.png
GEO:53.404306319392;-2.9825169067472
X-APPLE-STRUCTURED-LOCATION;VALUE=URI;X-ADDRESS=Merseyside Youth Association 65-67 Hanover Street Liverpool Liverpool L1 3DY United Kingdom;X-APPLE-RADIUS=500;X-TITLE=65-67 Hanover Street:geo:-2.9825169067472,53.404306319392
END:VEVENT
BEGIN:VEVENT
DTSTART;TZID=UTC:20240731T130000
DTEND;TZID=UTC:20240731T163000
DTSTAMP:20260425T174618
CREATED:20240719T042955Z
LAST-MODIFIED:20240719T042957Z
UID:10010535-1722430800-1722443400@dev-bemore.awtg.net
SUMMARY:Become a Wikipedia whiz!
DESCRIPTION:🌟 Become a Wikipedia Whiz! 🌟 \n\n\n\nJoin us for a FREE skills workshop where you can get hands-on experience editing Wikipedia\, share your local knowledge with the world\, and earn a £50 high street voucher for participating! 📝🌍💷 \n\n\n\nFree lunch and snacks provided—just bring your enthusiasm! 🍽️✨ Limited spots available\, so don’t miss out on this exciting opportunity!
URL:https://dev-bemore.awtg.net/events/become-a-wikipedia-whiz/
LOCATION:Merseyside Youth Association\, 65-67 Hanover Street\, Liverpool\, Liverpool\, L1 3DY\, United Kingdom
ATTACH;FMTTYPE=image/png:https://dev-bemore.awtg.net/wp-content/uploads/2024/06/logo.png
GEO:53.404306319392;-2.9825169067472
X-APPLE-STRUCTURED-LOCATION;VALUE=URI;X-ADDRESS=Merseyside Youth Association 65-67 Hanover Street Liverpool Liverpool L1 3DY United Kingdom;X-APPLE-RADIUS=500;X-TITLE=65-67 Hanover Street:geo:-2.9825169067472,53.404306319392
END:VEVENT
BEGIN:VEVENT
DTSTART;TZID=UTC:20240731T130000
DTEND;TZID=UTC:20240731T160000
DTSTAMP:20260425T174618
CREATED:20240628T075334Z
LAST-MODIFIED:20240628T075336Z
UID:10010518-1722430800-1722441600@dev-bemore.awtg.net
SUMMARY:Job Club
DESCRIPTION:Access to digital equipment for your job search.
URL:https://dev-bemore.awtg.net/events/job-club/2024-07-31/
LOCATION:Merseyside Youth Association\, 65-67 Hanover Street\, Liverpool\, Liverpool\, L1 3DY\, United Kingdom
ATTACH;FMTTYPE=image/png:https://dev-bemore.awtg.net/wp-content/uploads/2024/06/logo.png
GEO:53.404306319392;-2.9825169067472
X-APPLE-STRUCTURED-LOCATION;VALUE=URI;X-ADDRESS=Merseyside Youth Association 65-67 Hanover Street Liverpool Liverpool L1 3DY United Kingdom;X-APPLE-RADIUS=500;X-TITLE=65-67 Hanover Street:geo:-2.9825169067472,53.404306319392
END:VEVENT
BEGIN:VEVENT
DTSTART;TZID=UTC:20240731T130000
DTEND;TZID=UTC:20240731T150000
DTSTAMP:20260425T174618
CREATED:20240628T075350Z
LAST-MODIFIED:20240628T075352Z
UID:10010523-1722430800-1722438000@dev-bemore.awtg.net
SUMMARY:Food Bank
DESCRIPTION:Our food bank is open to anybody in need every Wednesday.
URL:https://dev-bemore.awtg.net/events/food-bank/2024-07-31/
LOCATION:Merseyside Youth Association\, 65-67 Hanover Street\, Liverpool\, Liverpool\, L1 3DY\, United Kingdom
ATTACH;FMTTYPE=image/png:https://dev-bemore.awtg.net/wp-content/uploads/2024/06/logo.png
GEO:53.404306319392;-2.9825169067472
X-APPLE-STRUCTURED-LOCATION;VALUE=URI;X-ADDRESS=Merseyside Youth Association 65-67 Hanover Street Liverpool Liverpool L1 3DY United Kingdom;X-APPLE-RADIUS=500;X-TITLE=65-67 Hanover Street:geo:-2.9825169067472,53.404306319392
END:VEVENT
BEGIN:VEVENT
DTSTART;TZID=UTC:20240729T133000
DTEND;TZID=UTC:20240729T143000
DTSTAMP:20260425T174618
CREATED:20240628T075318Z
LAST-MODIFIED:20240628T075320Z
UID:10010513-1722259800-1722263400@dev-bemore.awtg.net
SUMMARY:Be Free - Mental Health Workshops
DESCRIPTION:Over a span of four weeks\, four modules are taught: \n\n\n\nWeek One: Mental Health and WellbeingWeek Two: It’s OK to not be OKWeek Three: Goals and Digital WellnessWeek Four: Body Image and Self Esteem
URL:https://dev-bemore.awtg.net/events/be-free-mental-health-workshops/2024-07-29/
LOCATION:Merseyside Youth Association\, 65-67 Hanover Street\, Liverpool\, Liverpool\, L1 3DY\, United Kingdom
ATTACH;FMTTYPE=image/png:https://dev-bemore.awtg.net/wp-content/uploads/2024/06/logo.png
GEO:53.404306319392;-2.9825169067472
X-APPLE-STRUCTURED-LOCATION;VALUE=URI;X-ADDRESS=Merseyside Youth Association 65-67 Hanover Street Liverpool Liverpool L1 3DY United Kingdom;X-APPLE-RADIUS=500;X-TITLE=65-67 Hanover Street:geo:-2.9825169067472,53.404306319392
END:VEVENT
BEGIN:VEVENT
DTSTART;TZID=UTC:20240726T090000
DTEND;TZID=UTC:20240726T163000
DTSTAMP:20260425T174618
CREATED:20240628T075422Z
LAST-MODIFIED:20240628T075423Z
UID:10010532-1721984400-1722011400@dev-bemore.awtg.net
SUMMARY:IAG/CV Creation
DESCRIPTION:Hourly appointments to help you craft the perfect CV!
URL:https://dev-bemore.awtg.net/events/iag-cv-creation/2024-07-26/
LOCATION:Merseyside Youth Association\, 65-67 Hanover Street\, Liverpool\, Liverpool\, L1 3DY\, United Kingdom
ATTACH;FMTTYPE=image/png:https://dev-bemore.awtg.net/wp-content/uploads/2024/06/logo.png
GEO:53.404306319392;-2.9825169067472
X-APPLE-STRUCTURED-LOCATION;VALUE=URI;X-ADDRESS=Merseyside Youth Association 65-67 Hanover Street Liverpool Liverpool L1 3DY United Kingdom;X-APPLE-RADIUS=500;X-TITLE=65-67 Hanover Street:geo:-2.9825169067472,53.404306319392
END:VEVENT
BEGIN:VEVENT
DTSTART;TZID=UTC:20240726T000000
DTEND;TZID=UTC:20240726T235959
DTSTAMP:20260425T174618
CREATED:20221018T172012Z
LAST-MODIFIED:20221018T180345Z
UID:10005166-1721952000-1722038399@dev-bemore.awtg.net
SUMMARY:CV SUPPORT
DESCRIPTION:Seetec CV Advisor attending Hub
URL:https://dev-bemore.awtg.net/events/cv-support/2024-07-26/
LOCATION:Merseyside Youth Association\, 65-67 Hanover Street\, Liverpool\, Liverpool\, L1 3DY\, United Kingdom
ATTACH;FMTTYPE=image/png:https://dev-bemore.awtg.net/wp-content/uploads/2022/10/stock-event.png
GEO:53.404306319392;-2.9825169067472
X-APPLE-STRUCTURED-LOCATION;VALUE=URI;X-ADDRESS=Merseyside Youth Association 65-67 Hanover Street Liverpool Liverpool L1 3DY United Kingdom;X-APPLE-RADIUS=500;X-TITLE=65-67 Hanover Street:geo:-2.9825169067472,53.404306319392
END:VEVENT
BEGIN:VEVENT
DTSTART;TZID=UTC:20240725T130000
DTEND;TZID=UTC:20240725T150000
DTSTAMP:20260425T174618
CREATED:20240628T075302Z
LAST-MODIFIED:20240628T075304Z
UID:10010509-1721912400-1721919600@dev-bemore.awtg.net
SUMMARY:The Learning Foundry: Traineeships Info & Enrolment
DESCRIPTION:Group session. \n\n\n\nInformation and enrolment onto the following traineeships: \n\n\n\nSound Check \n\n\n\nConstruction including CSCS card \n\n\n\nDental \n\n\n\nChildcare \n\n\n\nPicture Your Future
URL:https://dev-bemore.awtg.net/events/the-learning-foundry-traineeships-info-enrolment/
LOCATION:Merseyside Youth Association\, 65-67 Hanover Street\, Liverpool\, Liverpool\, L1 3DY\, United Kingdom
ATTACH;FMTTYPE=image/png:https://dev-bemore.awtg.net/wp-content/uploads/2024/06/logo.png
GEO:53.404306319392;-2.9825169067472
X-APPLE-STRUCTURED-LOCATION;VALUE=URI;X-ADDRESS=Merseyside Youth Association 65-67 Hanover Street Liverpool Liverpool L1 3DY United Kingdom;X-APPLE-RADIUS=500;X-TITLE=65-67 Hanover Street:geo:-2.9825169067472,53.404306319392
END:VEVENT
BEGIN:VEVENT
DTSTART;TZID=UTC:20240724T130000
DTEND;TZID=UTC:20240724T170000
DTSTAMP:20260425T174618
CREATED:20221018T175015Z
LAST-MODIFIED:20231218T144607Z
UID:10005310-1721826000-1721840400@dev-bemore.awtg.net
SUMMARY:WEDNESDAY AFTERNOONS WITH THE HUB
DESCRIPTION:Personal skills development programme for a neurodiverse cohort of 15 young people. Activities include – CV building\, employer sessions\, woodland walk and much more!
URL:https://dev-bemore.awtg.net/events/wednesday-afternoons-with-the-hub-2/2024-07-24/
LOCATION:Merseyside Youth Association\, 65-67 Hanover Street\, Liverpool\, Liverpool\, L1 3DY\, United Kingdom
ATTACH;FMTTYPE=image/jpeg:https://dev-bemore.awtg.net/wp-content/uploads/2022/10/Merseyside-Youth-Association.jpg
GEO:53.404306319392;-2.9825169067472
X-APPLE-STRUCTURED-LOCATION;VALUE=URI;X-ADDRESS=Merseyside Youth Association 65-67 Hanover Street Liverpool Liverpool L1 3DY United Kingdom;X-APPLE-RADIUS=500;X-TITLE=65-67 Hanover Street:geo:-2.9825169067472,53.404306319392
END:VEVENT
BEGIN:VEVENT
DTSTART;TZID=UTC:20240724T130000
DTEND;TZID=UTC:20240724T170000
DTSTAMP:20260425T174618
CREATED:20221018T172632Z
LAST-MODIFIED:20221018T180221Z
UID:10005465-1721826000-1721840400@dev-bemore.awtg.net
SUMMARY:DROP IN SESSIONS
DESCRIPTION:DWP Work Coach available to support with Universal Credit claims.
URL:https://dev-bemore.awtg.net/events/drop-in-sessions/2024-07-24/
LOCATION:Merseyside Youth Association\, 65-67 Hanover Street\, Liverpool\, Liverpool\, L1 3DY\, United Kingdom
ATTACH;FMTTYPE=image/png:https://dev-bemore.awtg.net/wp-content/uploads/2022/10/stock-event.png
GEO:53.404306319392;-2.9825169067472
X-APPLE-STRUCTURED-LOCATION;VALUE=URI;X-ADDRESS=Merseyside Youth Association 65-67 Hanover Street Liverpool Liverpool L1 3DY United Kingdom;X-APPLE-RADIUS=500;X-TITLE=65-67 Hanover Street:geo:-2.9825169067472,53.404306319392
END:VEVENT
BEGIN:VEVENT
DTSTART;TZID=UTC:20240724T130000
DTEND;TZID=UTC:20240724T160000
DTSTAMP:20260425T174618
CREATED:20240628T075334Z
LAST-MODIFIED:20240628T075336Z
UID:10010517-1721826000-1721836800@dev-bemore.awtg.net
SUMMARY:Job Club
DESCRIPTION:Access to digital equipment for your job search.
URL:https://dev-bemore.awtg.net/events/job-club/2024-07-24/
LOCATION:Merseyside Youth Association\, 65-67 Hanover Street\, Liverpool\, Liverpool\, L1 3DY\, United Kingdom
ATTACH;FMTTYPE=image/png:https://dev-bemore.awtg.net/wp-content/uploads/2024/06/logo.png
GEO:53.404306319392;-2.9825169067472
X-APPLE-STRUCTURED-LOCATION;VALUE=URI;X-ADDRESS=Merseyside Youth Association 65-67 Hanover Street Liverpool Liverpool L1 3DY United Kingdom;X-APPLE-RADIUS=500;X-TITLE=65-67 Hanover Street:geo:-2.9825169067472,53.404306319392
END:VEVENT
BEGIN:VEVENT
DTSTART;TZID=UTC:20240724T130000
DTEND;TZID=UTC:20240724T150000
DTSTAMP:20260425T174618
CREATED:20240628T075350Z
LAST-MODIFIED:20240628T075352Z
UID:10010522-1721826000-1721833200@dev-bemore.awtg.net
SUMMARY:Food Bank
DESCRIPTION:Our food bank is open to anybody in need every Wednesday.
URL:https://dev-bemore.awtg.net/events/food-bank/2024-07-24/
LOCATION:Merseyside Youth Association\, 65-67 Hanover Street\, Liverpool\, Liverpool\, L1 3DY\, United Kingdom
ATTACH;FMTTYPE=image/png:https://dev-bemore.awtg.net/wp-content/uploads/2024/06/logo.png
GEO:53.404306319392;-2.9825169067472
X-APPLE-STRUCTURED-LOCATION;VALUE=URI;X-ADDRESS=Merseyside Youth Association 65-67 Hanover Street Liverpool Liverpool L1 3DY United Kingdom;X-APPLE-RADIUS=500;X-TITLE=65-67 Hanover Street:geo:-2.9825169067472,53.404306319392
END:VEVENT
BEGIN:VEVENT
DTSTART;TZID=UTC:20240723T133000
DTEND;TZID=UTC:20240723T150000
DTSTAMP:20260425T174618
CREATED:20240628T075246Z
LAST-MODIFIED:20240628T075248Z
UID:10010508-1721741400-1721746800@dev-bemore.awtg.net
SUMMARY:Oxfam Volunteer Positions
DESCRIPTION:Group session. Young people who need work experience are supported in making applications for volunteering positions with Oxfam.
URL:https://dev-bemore.awtg.net/events/oxfam-volunteer-positions/
LOCATION:Merseyside Youth Association\, 65-67 Hanover Street\, Liverpool\, Liverpool\, L1 3DY\, United Kingdom
ATTACH;FMTTYPE=image/png:https://dev-bemore.awtg.net/wp-content/uploads/2024/06/logo.png
GEO:53.404306319392;-2.9825169067472
X-APPLE-STRUCTURED-LOCATION;VALUE=URI;X-ADDRESS=Merseyside Youth Association 65-67 Hanover Street Liverpool Liverpool L1 3DY United Kingdom;X-APPLE-RADIUS=500;X-TITLE=65-67 Hanover Street:geo:-2.9825169067472,53.404306319392
END:VEVENT
BEGIN:VEVENT
DTSTART;TZID=UTC:20240722T133000
DTEND;TZID=UTC:20240722T143000
DTSTAMP:20260425T174618
CREATED:20240628T075318Z
LAST-MODIFIED:20240628T075320Z
UID:10010512-1721655000-1721658600@dev-bemore.awtg.net
SUMMARY:Be Free - Mental Health Workshops
DESCRIPTION:Over a span of four weeks\, four modules are taught: \n\n\n\nWeek One: Mental Health and WellbeingWeek Two: It’s OK to not be OKWeek Three: Goals and Digital WellnessWeek Four: Body Image and Self Esteem
URL:https://dev-bemore.awtg.net/events/be-free-mental-health-workshops/2024-07-22/
LOCATION:Merseyside Youth Association\, 65-67 Hanover Street\, Liverpool\, Liverpool\, L1 3DY\, United Kingdom
ATTACH;FMTTYPE=image/png:https://dev-bemore.awtg.net/wp-content/uploads/2024/06/logo.png
GEO:53.404306319392;-2.9825169067472
X-APPLE-STRUCTURED-LOCATION;VALUE=URI;X-ADDRESS=Merseyside Youth Association 65-67 Hanover Street Liverpool Liverpool L1 3DY United Kingdom;X-APPLE-RADIUS=500;X-TITLE=65-67 Hanover Street:geo:-2.9825169067472,53.404306319392
END:VEVENT
BEGIN:VEVENT
DTSTART;TZID=UTC:20240719T090000
DTEND;TZID=UTC:20240719T163000
DTSTAMP:20260425T174618
CREATED:20240628T075422Z
LAST-MODIFIED:20240628T075423Z
UID:10010531-1721379600-1721406600@dev-bemore.awtg.net
SUMMARY:IAG/CV Creation
DESCRIPTION:Hourly appointments to help you craft the perfect CV!
URL:https://dev-bemore.awtg.net/events/iag-cv-creation/2024-07-19/
LOCATION:Merseyside Youth Association\, 65-67 Hanover Street\, Liverpool\, Liverpool\, L1 3DY\, United Kingdom
ATTACH;FMTTYPE=image/png:https://dev-bemore.awtg.net/wp-content/uploads/2024/06/logo.png
GEO:53.404306319392;-2.9825169067472
X-APPLE-STRUCTURED-LOCATION;VALUE=URI;X-ADDRESS=Merseyside Youth Association 65-67 Hanover Street Liverpool Liverpool L1 3DY United Kingdom;X-APPLE-RADIUS=500;X-TITLE=65-67 Hanover Street:geo:-2.9825169067472,53.404306319392
END:VEVENT
BEGIN:VEVENT
DTSTART;TZID=UTC:20240719T000000
DTEND;TZID=UTC:20240719T235959
DTSTAMP:20260425T174618
CREATED:20221018T172012Z
LAST-MODIFIED:20221018T180345Z
UID:10005165-1721347200-1721433599@dev-bemore.awtg.net
SUMMARY:CV SUPPORT
DESCRIPTION:Seetec CV Advisor attending Hub
URL:https://dev-bemore.awtg.net/events/cv-support/2024-07-19/
LOCATION:Merseyside Youth Association\, 65-67 Hanover Street\, Liverpool\, Liverpool\, L1 3DY\, United Kingdom
ATTACH;FMTTYPE=image/png:https://dev-bemore.awtg.net/wp-content/uploads/2022/10/stock-event.png
GEO:53.404306319392;-2.9825169067472
X-APPLE-STRUCTURED-LOCATION;VALUE=URI;X-ADDRESS=Merseyside Youth Association 65-67 Hanover Street Liverpool Liverpool L1 3DY United Kingdom;X-APPLE-RADIUS=500;X-TITLE=65-67 Hanover Street:geo:-2.9825169067472,53.404306319392
END:VEVENT
BEGIN:VEVENT
DTSTART;TZID=UTC:20240718T130000
DTEND;TZID=UTC:20240718T160000
DTSTAMP:20260425T174618
CREATED:20240628T075334Z
LAST-MODIFIED:20240628T075336Z
UID:10010516-1721307600-1721318400@dev-bemore.awtg.net
SUMMARY:Job Club
DESCRIPTION:Access to digital equipment for your job search.
URL:https://dev-bemore.awtg.net/events/job-club/2024-07-18/
LOCATION:Merseyside Youth Association\, 65-67 Hanover Street\, Liverpool\, Liverpool\, L1 3DY\, United Kingdom
ATTACH;FMTTYPE=image/png:https://dev-bemore.awtg.net/wp-content/uploads/2024/06/logo.png
GEO:53.404306319392;-2.9825169067472
X-APPLE-STRUCTURED-LOCATION;VALUE=URI;X-ADDRESS=Merseyside Youth Association 65-67 Hanover Street Liverpool Liverpool L1 3DY United Kingdom;X-APPLE-RADIUS=500;X-TITLE=65-67 Hanover Street:geo:-2.9825169067472,53.404306319392
END:VEVENT
BEGIN:VEVENT
DTSTART;TZID=UTC:20240717T130000
DTEND;TZID=UTC:20240717T170000
DTSTAMP:20260425T174618
CREATED:20221018T175015Z
LAST-MODIFIED:20231218T144607Z
UID:10005309-1721221200-1721235600@dev-bemore.awtg.net
SUMMARY:WEDNESDAY AFTERNOONS WITH THE HUB
DESCRIPTION:Personal skills development programme for a neurodiverse cohort of 15 young people. Activities include – CV building\, employer sessions\, woodland walk and much more!
URL:https://dev-bemore.awtg.net/events/wednesday-afternoons-with-the-hub-2/2024-07-17/
LOCATION:Merseyside Youth Association\, 65-67 Hanover Street\, Liverpool\, Liverpool\, L1 3DY\, United Kingdom
ATTACH;FMTTYPE=image/jpeg:https://dev-bemore.awtg.net/wp-content/uploads/2022/10/Merseyside-Youth-Association.jpg
GEO:53.404306319392;-2.9825169067472
X-APPLE-STRUCTURED-LOCATION;VALUE=URI;X-ADDRESS=Merseyside Youth Association 65-67 Hanover Street Liverpool Liverpool L1 3DY United Kingdom;X-APPLE-RADIUS=500;X-TITLE=65-67 Hanover Street:geo:-2.9825169067472,53.404306319392
END:VEVENT
BEGIN:VEVENT
DTSTART;TZID=UTC:20240717T130000
DTEND;TZID=UTC:20240717T170000
DTSTAMP:20260425T174618
CREATED:20221018T172632Z
LAST-MODIFIED:20221018T180221Z
UID:10005464-1721221200-1721235600@dev-bemore.awtg.net
SUMMARY:DROP IN SESSIONS
DESCRIPTION:DWP Work Coach available to support with Universal Credit claims.
URL:https://dev-bemore.awtg.net/events/drop-in-sessions/2024-07-17/
LOCATION:Merseyside Youth Association\, 65-67 Hanover Street\, Liverpool\, Liverpool\, L1 3DY\, United Kingdom
ATTACH;FMTTYPE=image/png:https://dev-bemore.awtg.net/wp-content/uploads/2022/10/stock-event.png
GEO:53.404306319392;-2.9825169067472
X-APPLE-STRUCTURED-LOCATION;VALUE=URI;X-ADDRESS=Merseyside Youth Association 65-67 Hanover Street Liverpool Liverpool L1 3DY United Kingdom;X-APPLE-RADIUS=500;X-TITLE=65-67 Hanover Street:geo:-2.9825169067472,53.404306319392
END:VEVENT
BEGIN:VEVENT
DTSTART;TZID=UTC:20240717T130000
DTEND;TZID=UTC:20240717T150000
DTSTAMP:20260425T174618
CREATED:20240628T075350Z
LAST-MODIFIED:20240628T075352Z
UID:10010521-1721221200-1721228400@dev-bemore.awtg.net
SUMMARY:Food Bank
DESCRIPTION:Our food bank is open to anybody in need every Wednesday.
URL:https://dev-bemore.awtg.net/events/food-bank/2024-07-17/
LOCATION:Merseyside Youth Association\, 65-67 Hanover Street\, Liverpool\, Liverpool\, L1 3DY\, United Kingdom
ATTACH;FMTTYPE=image/png:https://dev-bemore.awtg.net/wp-content/uploads/2024/06/logo.png
GEO:53.404306319392;-2.9825169067472
X-APPLE-STRUCTURED-LOCATION;VALUE=URI;X-ADDRESS=Merseyside Youth Association 65-67 Hanover Street Liverpool Liverpool L1 3DY United Kingdom;X-APPLE-RADIUS=500;X-TITLE=65-67 Hanover Street:geo:-2.9825169067472,53.404306319392
END:VEVENT
BEGIN:VEVENT
DTSTART;TZID=UTC:20240717T130000
DTEND;TZID=UTC:20240717T140000
DTSTAMP:20260425T174618
CREATED:20240628T075406Z
LAST-MODIFIED:20240628T075408Z
UID:10010524-1721221200-1721224800@dev-bemore.awtg.net
SUMMARY:John Lewis Mentoring Circles
DESCRIPTION: A group session deep dive into all the different jobs within the organisation.
URL:https://dev-bemore.awtg.net/events/john-lewis-mentoring-circles/
LOCATION:Merseyside Youth Association\, 65-67 Hanover Street\, Liverpool\, Liverpool\, L1 3DY\, United Kingdom
ATTACH;FMTTYPE=image/png:https://dev-bemore.awtg.net/wp-content/uploads/2024/06/logo.png
GEO:53.404306319392;-2.9825169067472
X-APPLE-STRUCTURED-LOCATION;VALUE=URI;X-ADDRESS=Merseyside Youth Association 65-67 Hanover Street Liverpool Liverpool L1 3DY United Kingdom;X-APPLE-RADIUS=500;X-TITLE=65-67 Hanover Street:geo:-2.9825169067472,53.404306319392
END:VEVENT
BEGIN:VEVENT
DTSTART;TZID=UTC:20240715T133000
DTEND;TZID=UTC:20240715T143000
DTSTAMP:20260425T174618
CREATED:20240628T075318Z
LAST-MODIFIED:20240628T075320Z
UID:10010511-1721050200-1721053800@dev-bemore.awtg.net
SUMMARY:Be Free - Mental Health Workshops
DESCRIPTION:Over a span of four weeks\, four modules are taught: \n\n\n\nWeek One: Mental Health and WellbeingWeek Two: It’s OK to not be OKWeek Three: Goals and Digital WellnessWeek Four: Body Image and Self Esteem
URL:https://dev-bemore.awtg.net/events/be-free-mental-health-workshops/2024-07-15/
LOCATION:Merseyside Youth Association\, 65-67 Hanover Street\, Liverpool\, Liverpool\, L1 3DY\, United Kingdom
ATTACH;FMTTYPE=image/png:https://dev-bemore.awtg.net/wp-content/uploads/2024/06/logo.png
GEO:53.404306319392;-2.9825169067472
X-APPLE-STRUCTURED-LOCATION;VALUE=URI;X-ADDRESS=Merseyside Youth Association 65-67 Hanover Street Liverpool Liverpool L1 3DY United Kingdom;X-APPLE-RADIUS=500;X-TITLE=65-67 Hanover Street:geo:-2.9825169067472,53.404306319392
END:VEVENT
BEGIN:VEVENT
DTSTART;TZID=UTC:20240712T090000
DTEND;TZID=UTC:20240712T163000
DTSTAMP:20260425T174618
CREATED:20240628T075422Z
LAST-MODIFIED:20240628T075423Z
UID:10010530-1720774800-1720801800@dev-bemore.awtg.net
SUMMARY:IAG/CV Creation
DESCRIPTION:Hourly appointments to help you craft the perfect CV!
URL:https://dev-bemore.awtg.net/events/iag-cv-creation/2024-07-12/
LOCATION:Merseyside Youth Association\, 65-67 Hanover Street\, Liverpool\, Liverpool\, L1 3DY\, United Kingdom
ATTACH;FMTTYPE=image/png:https://dev-bemore.awtg.net/wp-content/uploads/2024/06/logo.png
GEO:53.404306319392;-2.9825169067472
X-APPLE-STRUCTURED-LOCATION;VALUE=URI;X-ADDRESS=Merseyside Youth Association 65-67 Hanover Street Liverpool Liverpool L1 3DY United Kingdom;X-APPLE-RADIUS=500;X-TITLE=65-67 Hanover Street:geo:-2.9825169067472,53.404306319392
END:VEVENT
BEGIN:VEVENT
DTSTART;TZID=UTC:20240712T000000
DTEND;TZID=UTC:20240712T235959
DTSTAMP:20260425T174618
CREATED:20221018T172012Z
LAST-MODIFIED:20221018T180345Z
UID:10005164-1720742400-1720828799@dev-bemore.awtg.net
SUMMARY:CV SUPPORT
DESCRIPTION:Seetec CV Advisor attending Hub
URL:https://dev-bemore.awtg.net/events/cv-support/2024-07-12/
LOCATION:Merseyside Youth Association\, 65-67 Hanover Street\, Liverpool\, Liverpool\, L1 3DY\, United Kingdom
ATTACH;FMTTYPE=image/png:https://dev-bemore.awtg.net/wp-content/uploads/2022/10/stock-event.png
GEO:53.404306319392;-2.9825169067472
X-APPLE-STRUCTURED-LOCATION;VALUE=URI;X-ADDRESS=Merseyside Youth Association 65-67 Hanover Street Liverpool Liverpool L1 3DY United Kingdom;X-APPLE-RADIUS=500;X-TITLE=65-67 Hanover Street:geo:-2.9825169067472,53.404306319392
END:VEVENT
BEGIN:VEVENT
DTSTART;TZID=UTC:20240711T130000
DTEND;TZID=UTC:20240711T160000
DTSTAMP:20260425T174618
CREATED:20240628T075334Z
LAST-MODIFIED:20240628T075336Z
UID:10010515-1720702800-1720713600@dev-bemore.awtg.net
SUMMARY:Job Club
DESCRIPTION:Access to digital equipment for your job search.
URL:https://dev-bemore.awtg.net/events/job-club/2024-07-11/
LOCATION:Merseyside Youth Association\, 65-67 Hanover Street\, Liverpool\, Liverpool\, L1 3DY\, United Kingdom
ATTACH;FMTTYPE=image/png:https://dev-bemore.awtg.net/wp-content/uploads/2024/06/logo.png
GEO:53.404306319392;-2.9825169067472
X-APPLE-STRUCTURED-LOCATION;VALUE=URI;X-ADDRESS=Merseyside Youth Association 65-67 Hanover Street Liverpool Liverpool L1 3DY United Kingdom;X-APPLE-RADIUS=500;X-TITLE=65-67 Hanover Street:geo:-2.9825169067472,53.404306319392
END:VEVENT
BEGIN:VEVENT
DTSTART;TZID=UTC:20240710T130000
DTEND;TZID=UTC:20240710T170000
DTSTAMP:20260425T174618
CREATED:20221018T175015Z
LAST-MODIFIED:20231218T144607Z
UID:10005308-1720616400-1720630800@dev-bemore.awtg.net
SUMMARY:WEDNESDAY AFTERNOONS WITH THE HUB
DESCRIPTION:Personal skills development programme for a neurodiverse cohort of 15 young people. Activities include – CV building\, employer sessions\, woodland walk and much more!
URL:https://dev-bemore.awtg.net/events/wednesday-afternoons-with-the-hub-2/2024-07-10/
LOCATION:Merseyside Youth Association\, 65-67 Hanover Street\, Liverpool\, Liverpool\, L1 3DY\, United Kingdom
ATTACH;FMTTYPE=image/jpeg:https://dev-bemore.awtg.net/wp-content/uploads/2022/10/Merseyside-Youth-Association.jpg
GEO:53.404306319392;-2.9825169067472
X-APPLE-STRUCTURED-LOCATION;VALUE=URI;X-ADDRESS=Merseyside Youth Association 65-67 Hanover Street Liverpool Liverpool L1 3DY United Kingdom;X-APPLE-RADIUS=500;X-TITLE=65-67 Hanover Street:geo:-2.9825169067472,53.404306319392
END:VEVENT
BEGIN:VEVENT
DTSTART;TZID=UTC:20240710T130000
DTEND;TZID=UTC:20240710T170000
DTSTAMP:20260425T174618
CREATED:20221018T172632Z
LAST-MODIFIED:20221018T180221Z
UID:10005463-1720616400-1720630800@dev-bemore.awtg.net
SUMMARY:DROP IN SESSIONS
DESCRIPTION:DWP Work Coach available to support with Universal Credit claims.
URL:https://dev-bemore.awtg.net/events/drop-in-sessions/2024-07-10/
LOCATION:Merseyside Youth Association\, 65-67 Hanover Street\, Liverpool\, Liverpool\, L1 3DY\, United Kingdom
ATTACH;FMTTYPE=image/png:https://dev-bemore.awtg.net/wp-content/uploads/2022/10/stock-event.png
GEO:53.404306319392;-2.9825169067472
X-APPLE-STRUCTURED-LOCATION;VALUE=URI;X-ADDRESS=Merseyside Youth Association 65-67 Hanover Street Liverpool Liverpool L1 3DY United Kingdom;X-APPLE-RADIUS=500;X-TITLE=65-67 Hanover Street:geo:-2.9825169067472,53.404306319392
END:VEVENT
END:VCALENDAR