



BEGIN:VCALENDAR
VERSION:2.0
PRODID:-//BeMore - ECPv6.15.1//NONSGML v1.0//EN
CALSCALE:GREGORIAN
METHOD:PUBLISH
X-ORIGINAL-URL:https://dev-bemore.awtg.net
X-WR-CALDESC:Events for BeMore
REFRESH-INTERVAL;VALUE=DURATION:PT1H
X-Robots-Tag:noindex
X-PUBLISHED-TTL:PT1H
BEGIN:VTIMEZONE
TZID:UTC
BEGIN:STANDARD
TZOFFSETFROM:+0000
TZOFFSETTO:+0000
TZNAME:UTC
DTSTART:20240101T000000
END:STANDARD
END:VTIMEZONE
BEGIN:VEVENT
DTSTART;TZID=UTC:20240822T130000
DTEND;TZID=UTC:20240822T160000
DTSTAMP:20260425T150807
CREATED:20240722T073820Z
LAST-MODIFIED:20240722T073821Z
UID:10010538-1724331600-1724342400@dev-bemore.awtg.net
SUMMARY:JOB CLUB
DESCRIPTION:Access to digital equipment for job search.
URL:https://dev-bemore.awtg.net/events/job-club-2/2024-08-22/
LOCATION:Merseyside Youth Association\, 65-67 Hanover Street\, Liverpool\, Liverpool\, L1 3DY\, United Kingdom
ATTACH;FMTTYPE=image/png:https://dev-bemore.awtg.net/wp-content/uploads/2024/06/logo.png
GEO:53.404306319392;-2.9825169067472
X-APPLE-STRUCTURED-LOCATION;VALUE=URI;X-ADDRESS=Merseyside Youth Association 65-67 Hanover Street Liverpool Liverpool L1 3DY United Kingdom;X-APPLE-RADIUS=500;X-TITLE=65-67 Hanover Street:geo:-2.9825169067472,53.404306319392
END:VEVENT
BEGIN:VEVENT
DTSTART;TZID=UTC:20240821T130000
DTEND;TZID=UTC:20240821T170000
DTSTAMP:20260425T150807
CREATED:20221018T175015Z
LAST-MODIFIED:20231218T144607Z
UID:10005314-1724245200-1724259600@dev-bemore.awtg.net
SUMMARY:WEDNESDAY AFTERNOONS WITH THE HUB
DESCRIPTION:Personal skills development programme for a neurodiverse cohort of 15 young people. Activities include – CV building\, employer sessions\, woodland walk and much more!
URL:https://dev-bemore.awtg.net/events/wednesday-afternoons-with-the-hub-2/2024-08-21/
LOCATION:Merseyside Youth Association\, 65-67 Hanover Street\, Liverpool\, Liverpool\, L1 3DY\, United Kingdom
ATTACH;FMTTYPE=image/jpeg:https://dev-bemore.awtg.net/wp-content/uploads/2022/10/Merseyside-Youth-Association.jpg
GEO:53.404306319392;-2.9825169067472
X-APPLE-STRUCTURED-LOCATION;VALUE=URI;X-ADDRESS=Merseyside Youth Association 65-67 Hanover Street Liverpool Liverpool L1 3DY United Kingdom;X-APPLE-RADIUS=500;X-TITLE=65-67 Hanover Street:geo:-2.9825169067472,53.404306319392
END:VEVENT
BEGIN:VEVENT
DTSTART;TZID=UTC:20240821T130000
DTEND;TZID=UTC:20240821T170000
DTSTAMP:20260425T150807
CREATED:20221018T172632Z
LAST-MODIFIED:20221018T180221Z
UID:10005469-1724245200-1724259600@dev-bemore.awtg.net
SUMMARY:DROP IN SESSIONS
DESCRIPTION:DWP Work Coach available to support with Universal Credit claims.
URL:https://dev-bemore.awtg.net/events/drop-in-sessions/2024-08-21/
LOCATION:Merseyside Youth Association\, 65-67 Hanover Street\, Liverpool\, Liverpool\, L1 3DY\, United Kingdom
ATTACH;FMTTYPE=image/png:https://dev-bemore.awtg.net/wp-content/uploads/2022/10/stock-event.png
GEO:53.404306319392;-2.9825169067472
X-APPLE-STRUCTURED-LOCATION;VALUE=URI;X-ADDRESS=Merseyside Youth Association 65-67 Hanover Street Liverpool Liverpool L1 3DY United Kingdom;X-APPLE-RADIUS=500;X-TITLE=65-67 Hanover Street:geo:-2.9825169067472,53.404306319392
END:VEVENT
BEGIN:VEVENT
DTSTART;TZID=UTC:20240821T130000
DTEND;TZID=UTC:20240821T150000
DTSTAMP:20260425T150807
CREATED:20240722T074019Z
LAST-MODIFIED:20240722T074021Z
UID:10010649-1724245200-1724252400@dev-bemore.awtg.net
SUMMARY:FOOD BANK
DESCRIPTION:Available for everybody.
URL:https://dev-bemore.awtg.net/events/food-bank-2/2024-08-21/
LOCATION:Merseyside Youth Association\, 65-67 Hanover Street\, Liverpool\, Liverpool\, L1 3DY\, United Kingdom
ATTACH;FMTTYPE=image/png:https://dev-bemore.awtg.net/wp-content/uploads/2023/01/Screenshot-2023-01-17-at-11.32.34.png
GEO:53.404306319392;-2.9825169067472
X-APPLE-STRUCTURED-LOCATION;VALUE=URI;X-ADDRESS=Merseyside Youth Association 65-67 Hanover Street Liverpool Liverpool L1 3DY United Kingdom;X-APPLE-RADIUS=500;X-TITLE=65-67 Hanover Street:geo:-2.9825169067472,53.404306319392
END:VEVENT
BEGIN:VEVENT
DTSTART;TZID=UTC:20240816T090000
DTEND;TZID=UTC:20240816T163000
DTSTAMP:20260425T150807
CREATED:20240722T073752Z
LAST-MODIFIED:20240722T073753Z
UID:10010542-1723798800-1723825800@dev-bemore.awtg.net
SUMMARY:SEETEC: IAG/CV CREATION
DESCRIPTION:Hourly appointments to help you create a stunning CV.
URL:https://dev-bemore.awtg.net/events/seetec-iag-cv-creation/2024-08-16/
LOCATION:Merseyside Youth Association\, 65-67 Hanover Street\, Liverpool\, Liverpool\, L1 3DY\, United Kingdom
ATTACH;FMTTYPE=image/png:https://dev-bemore.awtg.net/wp-content/uploads/2023/01/Screenshot-2023-01-17-at-11.32.34.png
GEO:53.404306319392;-2.9825169067472
X-APPLE-STRUCTURED-LOCATION;VALUE=URI;X-ADDRESS=Merseyside Youth Association 65-67 Hanover Street Liverpool Liverpool L1 3DY United Kingdom;X-APPLE-RADIUS=500;X-TITLE=65-67 Hanover Street:geo:-2.9825169067472,53.404306319392
END:VEVENT
BEGIN:VEVENT
DTSTART;TZID=UTC:20240816T000000
DTEND;TZID=UTC:20240816T235959
DTSTAMP:20260425T150807
CREATED:20221018T172012Z
LAST-MODIFIED:20221018T180345Z
UID:10005169-1723766400-1723852799@dev-bemore.awtg.net
SUMMARY:CV SUPPORT
DESCRIPTION:Seetec CV Advisor attending Hub
URL:https://dev-bemore.awtg.net/events/cv-support/2024-08-16/
LOCATION:Merseyside Youth Association\, 65-67 Hanover Street\, Liverpool\, Liverpool\, L1 3DY\, United Kingdom
ATTACH;FMTTYPE=image/png:https://dev-bemore.awtg.net/wp-content/uploads/2022/10/stock-event.png
GEO:53.404306319392;-2.9825169067472
X-APPLE-STRUCTURED-LOCATION;VALUE=URI;X-ADDRESS=Merseyside Youth Association 65-67 Hanover Street Liverpool Liverpool L1 3DY United Kingdom;X-APPLE-RADIUS=500;X-TITLE=65-67 Hanover Street:geo:-2.9825169067472,53.404306319392
END:VEVENT
BEGIN:VEVENT
DTSTART;TZID=UTC:20240815T130000
DTEND;TZID=UTC:20240815T160000
DTSTAMP:20260425T150807
CREATED:20240722T073820Z
LAST-MODIFIED:20240722T073821Z
UID:10010537-1723726800-1723737600@dev-bemore.awtg.net
SUMMARY:JOB CLUB
DESCRIPTION:Access to digital equipment for job search.
URL:https://dev-bemore.awtg.net/events/job-club-2/2024-08-15/
LOCATION:Merseyside Youth Association\, 65-67 Hanover Street\, Liverpool\, Liverpool\, L1 3DY\, United Kingdom
ATTACH;FMTTYPE=image/png:https://dev-bemore.awtg.net/wp-content/uploads/2024/06/logo.png
GEO:53.404306319392;-2.9825169067472
X-APPLE-STRUCTURED-LOCATION;VALUE=URI;X-ADDRESS=Merseyside Youth Association 65-67 Hanover Street Liverpool Liverpool L1 3DY United Kingdom;X-APPLE-RADIUS=500;X-TITLE=65-67 Hanover Street:geo:-2.9825169067472,53.404306319392
END:VEVENT
BEGIN:VEVENT
DTSTART;TZID=UTC:20240814T130000
DTEND;TZID=UTC:20240814T170000
DTSTAMP:20260425T150807
CREATED:20221018T175015Z
LAST-MODIFIED:20231218T144607Z
UID:10005313-1723640400-1723654800@dev-bemore.awtg.net
SUMMARY:WEDNESDAY AFTERNOONS WITH THE HUB
DESCRIPTION:Personal skills development programme for a neurodiverse cohort of 15 young people. Activities include – CV building\, employer sessions\, woodland walk and much more!
URL:https://dev-bemore.awtg.net/events/wednesday-afternoons-with-the-hub-2/2024-08-14/
LOCATION:Merseyside Youth Association\, 65-67 Hanover Street\, Liverpool\, Liverpool\, L1 3DY\, United Kingdom
ATTACH;FMTTYPE=image/jpeg:https://dev-bemore.awtg.net/wp-content/uploads/2022/10/Merseyside-Youth-Association.jpg
GEO:53.404306319392;-2.9825169067472
X-APPLE-STRUCTURED-LOCATION;VALUE=URI;X-ADDRESS=Merseyside Youth Association 65-67 Hanover Street Liverpool Liverpool L1 3DY United Kingdom;X-APPLE-RADIUS=500;X-TITLE=65-67 Hanover Street:geo:-2.9825169067472,53.404306319392
END:VEVENT
BEGIN:VEVENT
DTSTART;TZID=UTC:20240814T130000
DTEND;TZID=UTC:20240814T170000
DTSTAMP:20260425T150807
CREATED:20221018T172632Z
LAST-MODIFIED:20221018T180221Z
UID:10005468-1723640400-1723654800@dev-bemore.awtg.net
SUMMARY:DROP IN SESSIONS
DESCRIPTION:DWP Work Coach available to support with Universal Credit claims.
URL:https://dev-bemore.awtg.net/events/drop-in-sessions/2024-08-14/
LOCATION:Merseyside Youth Association\, 65-67 Hanover Street\, Liverpool\, Liverpool\, L1 3DY\, United Kingdom
ATTACH;FMTTYPE=image/png:https://dev-bemore.awtg.net/wp-content/uploads/2022/10/stock-event.png
GEO:53.404306319392;-2.9825169067472
X-APPLE-STRUCTURED-LOCATION;VALUE=URI;X-ADDRESS=Merseyside Youth Association 65-67 Hanover Street Liverpool Liverpool L1 3DY United Kingdom;X-APPLE-RADIUS=500;X-TITLE=65-67 Hanover Street:geo:-2.9825169067472,53.404306319392
END:VEVENT
BEGIN:VEVENT
DTSTART;TZID=UTC:20240814T130000
DTEND;TZID=UTC:20240814T150000
DTSTAMP:20260425T150807
CREATED:20240722T074019Z
LAST-MODIFIED:20240722T074021Z
UID:10010648-1723640400-1723647600@dev-bemore.awtg.net
SUMMARY:FOOD BANK
DESCRIPTION:Available for everybody.
URL:https://dev-bemore.awtg.net/events/food-bank-2/2024-08-14/
LOCATION:Merseyside Youth Association\, 65-67 Hanover Street\, Liverpool\, Liverpool\, L1 3DY\, United Kingdom
ATTACH;FMTTYPE=image/png:https://dev-bemore.awtg.net/wp-content/uploads/2023/01/Screenshot-2023-01-17-at-11.32.34.png
GEO:53.404306319392;-2.9825169067472
X-APPLE-STRUCTURED-LOCATION;VALUE=URI;X-ADDRESS=Merseyside Youth Association 65-67 Hanover Street Liverpool Liverpool L1 3DY United Kingdom;X-APPLE-RADIUS=500;X-TITLE=65-67 Hanover Street:geo:-2.9825169067472,53.404306319392
END:VEVENT
BEGIN:VEVENT
DTSTART;TZID=UTC:20240814T120000
DTEND;TZID=UTC:20240814T160000
DTSTAMP:20260425T150807
CREATED:20240722T074105Z
LAST-MODIFIED:20240722T074107Z
UID:10010651-1723636800-1723651200@dev-bemore.awtg.net
SUMMARY:PRINCES TRUST PROGRAMME INFO
DESCRIPTION:Information and enrolment onto their programmes. Appointment only.
URL:https://dev-bemore.awtg.net/events/princes-trust-programme-info/
LOCATION:Merseyside Youth Association\, 65-67 Hanover Street\, Liverpool\, Liverpool\, L1 3DY\, United Kingdom
ATTACH;FMTTYPE=image/png:https://dev-bemore.awtg.net/wp-content/uploads/2023/01/Screenshot-2023-01-17-at-11.32.34.png
GEO:53.404306319392;-2.9825169067472
X-APPLE-STRUCTURED-LOCATION;VALUE=URI;X-ADDRESS=Merseyside Youth Association 65-67 Hanover Street Liverpool Liverpool L1 3DY United Kingdom;X-APPLE-RADIUS=500;X-TITLE=65-67 Hanover Street:geo:-2.9825169067472,53.404306319392
END:VEVENT
BEGIN:VEVENT
DTSTART;TZID=UTC:20240813T120000
DTEND;TZID=UTC:20240813T160000
DTSTAMP:20260425T150807
CREATED:20240722T073943Z
LAST-MODIFIED:20240722T073945Z
UID:10010646-1723550400-1723564800@dev-bemore.awtg.net
SUMMARY:RAISE: DEBT MANAGEMENT ADVICE
DESCRIPTION:Advice on debt management. Appointment only
URL:https://dev-bemore.awtg.net/events/raise-debt-management-advice/
LOCATION:Merseyside Youth Association\, 65-67 Hanover Street\, Liverpool\, Liverpool\, L1 3DY\, United Kingdom
ATTACH;FMTTYPE=image/png:https://dev-bemore.awtg.net/wp-content/uploads/2023/01/Screenshot-2023-01-17-at-11.32.34.png
GEO:53.404306319392;-2.9825169067472
X-APPLE-STRUCTURED-LOCATION;VALUE=URI;X-ADDRESS=Merseyside Youth Association 65-67 Hanover Street Liverpool Liverpool L1 3DY United Kingdom;X-APPLE-RADIUS=500;X-TITLE=65-67 Hanover Street:geo:-2.9825169067472,53.404306319392
END:VEVENT
BEGIN:VEVENT
DTSTART;TZID=UTC:20240812T133000
DTEND;TZID=UTC:20240812T143000
DTSTAMP:20260425T150807
CREATED:20240722T073850Z
LAST-MODIFIED:20240722T073852Z
UID:10010644-1723469400-1723473000@dev-bemore.awtg.net
SUMMARY:BEFREE MENTAL HEALTH WORKSHOPS
DESCRIPTION:Working on Body Image\, Self Esteem and Life Transitions.
URL:https://dev-bemore.awtg.net/events/befree-mental-health-workshops/2024-08-12/
LOCATION:Merseyside Youth Association\, 65-67 Hanover Street\, Liverpool\, Liverpool\, L1 3DY\, United Kingdom
ATTACH;FMTTYPE=image/png:https://dev-bemore.awtg.net/wp-content/uploads/2023/01/Screenshot-2023-01-17-at-11.32.34.png
GEO:53.404306319392;-2.9825169067472
X-APPLE-STRUCTURED-LOCATION;VALUE=URI;X-ADDRESS=Merseyside Youth Association 65-67 Hanover Street Liverpool Liverpool L1 3DY United Kingdom;X-APPLE-RADIUS=500;X-TITLE=65-67 Hanover Street:geo:-2.9825169067472,53.404306319392
END:VEVENT
BEGIN:VEVENT
DTSTART;TZID=UTC:20240812T100000
DTEND;TZID=UTC:20240812T150000
DTSTAMP:20260425T150807
CREATED:20240722T074128Z
LAST-MODIFIED:20240722T074130Z
UID:10010653-1723456800-1723474800@dev-bemore.awtg.net
SUMMARY:MYBNK MONEY MANAGEMENT COURSE
DESCRIPTION:Learn how to manage your money with this 2 day course.
URL:https://dev-bemore.awtg.net/events/mybnk-money-management-course/2024-08-12/
LOCATION:Merseyside Youth Association\, 65-67 Hanover Street\, Liverpool\, Liverpool\, L1 3DY\, United Kingdom
ATTACH;FMTTYPE=image/png:https://dev-bemore.awtg.net/wp-content/uploads/2023/01/Screenshot-2023-01-17-at-11.32.34.png
GEO:53.404306319392;-2.9825169067472
X-APPLE-STRUCTURED-LOCATION;VALUE=URI;X-ADDRESS=Merseyside Youth Association 65-67 Hanover Street Liverpool Liverpool L1 3DY United Kingdom;X-APPLE-RADIUS=500;X-TITLE=65-67 Hanover Street:geo:-2.9825169067472,53.404306319392
END:VEVENT
BEGIN:VEVENT
DTSTART;TZID=UTC:20240809T090000
DTEND;TZID=UTC:20240809T163000
DTSTAMP:20260425T150807
CREATED:20240722T073752Z
LAST-MODIFIED:20240722T073753Z
UID:10010541-1723194000-1723221000@dev-bemore.awtg.net
SUMMARY:SEETEC: IAG/CV CREATION
DESCRIPTION:Hourly appointments to help you create a stunning CV.
URL:https://dev-bemore.awtg.net/events/seetec-iag-cv-creation/2024-08-09/
LOCATION:Merseyside Youth Association\, 65-67 Hanover Street\, Liverpool\, Liverpool\, L1 3DY\, United Kingdom
ATTACH;FMTTYPE=image/png:https://dev-bemore.awtg.net/wp-content/uploads/2023/01/Screenshot-2023-01-17-at-11.32.34.png
GEO:53.404306319392;-2.9825169067472
X-APPLE-STRUCTURED-LOCATION;VALUE=URI;X-ADDRESS=Merseyside Youth Association 65-67 Hanover Street Liverpool Liverpool L1 3DY United Kingdom;X-APPLE-RADIUS=500;X-TITLE=65-67 Hanover Street:geo:-2.9825169067472,53.404306319392
END:VEVENT
BEGIN:VEVENT
DTSTART;TZID=UTC:20240809T000000
DTEND;TZID=UTC:20240809T235959
DTSTAMP:20260425T150807
CREATED:20221018T172012Z
LAST-MODIFIED:20221018T180345Z
UID:10005168-1723161600-1723247999@dev-bemore.awtg.net
SUMMARY:CV SUPPORT
DESCRIPTION:Seetec CV Advisor attending Hub
URL:https://dev-bemore.awtg.net/events/cv-support/2024-08-09/
LOCATION:Merseyside Youth Association\, 65-67 Hanover Street\, Liverpool\, Liverpool\, L1 3DY\, United Kingdom
ATTACH;FMTTYPE=image/png:https://dev-bemore.awtg.net/wp-content/uploads/2022/10/stock-event.png
GEO:53.404306319392;-2.9825169067472
X-APPLE-STRUCTURED-LOCATION;VALUE=URI;X-ADDRESS=Merseyside Youth Association 65-67 Hanover Street Liverpool Liverpool L1 3DY United Kingdom;X-APPLE-RADIUS=500;X-TITLE=65-67 Hanover Street:geo:-2.9825169067472,53.404306319392
END:VEVENT
BEGIN:VEVENT
DTSTART;TZID=UTC:20240808T133000
DTEND;TZID=UTC:20240808T153000
DTSTAMP:20260425T150807
CREATED:20240710T064620Z
LAST-MODIFIED:20240710T064622Z
UID:10010533-1723123800-1723131000@dev-bemore.awtg.net
SUMMARY:Build Your Own CV!
DESCRIPTION:Find out how to build a punchy CV!
URL:https://dev-bemore.awtg.net/events/build-your-own-cv/
LOCATION:Merseyside Youth Association\, 65-67 Hanover Street\, Liverpool\, Liverpool\, L1 3DY\, United Kingdom
ATTACH;FMTTYPE=image/png:https://dev-bemore.awtg.net/wp-content/uploads/2024/06/logo.png
GEO:53.404306319392;-2.9825169067472
X-APPLE-STRUCTURED-LOCATION;VALUE=URI;X-ADDRESS=Merseyside Youth Association 65-67 Hanover Street Liverpool Liverpool L1 3DY United Kingdom;X-APPLE-RADIUS=500;X-TITLE=65-67 Hanover Street:geo:-2.9825169067472,53.404306319392
END:VEVENT
BEGIN:VEVENT
DTSTART;TZID=UTC:20240807T130000
DTEND;TZID=UTC:20240807T170000
DTSTAMP:20260425T150807
CREATED:20221018T175015Z
LAST-MODIFIED:20231218T144607Z
UID:10005312-1723035600-1723050000@dev-bemore.awtg.net
SUMMARY:WEDNESDAY AFTERNOONS WITH THE HUB
DESCRIPTION:Personal skills development programme for a neurodiverse cohort of 15 young people. Activities include – CV building\, employer sessions\, woodland walk and much more!
URL:https://dev-bemore.awtg.net/events/wednesday-afternoons-with-the-hub-2/2024-08-07/
LOCATION:Merseyside Youth Association\, 65-67 Hanover Street\, Liverpool\, Liverpool\, L1 3DY\, United Kingdom
ATTACH;FMTTYPE=image/jpeg:https://dev-bemore.awtg.net/wp-content/uploads/2022/10/Merseyside-Youth-Association.jpg
GEO:53.404306319392;-2.9825169067472
X-APPLE-STRUCTURED-LOCATION;VALUE=URI;X-ADDRESS=Merseyside Youth Association 65-67 Hanover Street Liverpool Liverpool L1 3DY United Kingdom;X-APPLE-RADIUS=500;X-TITLE=65-67 Hanover Street:geo:-2.9825169067472,53.404306319392
END:VEVENT
BEGIN:VEVENT
DTSTART;TZID=UTC:20240807T130000
DTEND;TZID=UTC:20240807T170000
DTSTAMP:20260425T150807
CREATED:20221018T172632Z
LAST-MODIFIED:20221018T180221Z
UID:10005467-1723035600-1723050000@dev-bemore.awtg.net
SUMMARY:DROP IN SESSIONS
DESCRIPTION:DWP Work Coach available to support with Universal Credit claims.
URL:https://dev-bemore.awtg.net/events/drop-in-sessions/2024-08-07/
LOCATION:Merseyside Youth Association\, 65-67 Hanover Street\, Liverpool\, Liverpool\, L1 3DY\, United Kingdom
ATTACH;FMTTYPE=image/png:https://dev-bemore.awtg.net/wp-content/uploads/2022/10/stock-event.png
GEO:53.404306319392;-2.9825169067472
X-APPLE-STRUCTURED-LOCATION;VALUE=URI;X-ADDRESS=Merseyside Youth Association 65-67 Hanover Street Liverpool Liverpool L1 3DY United Kingdom;X-APPLE-RADIUS=500;X-TITLE=65-67 Hanover Street:geo:-2.9825169067472,53.404306319392
END:VEVENT
BEGIN:VEVENT
DTSTART;TZID=UTC:20240807T130000
DTEND;TZID=UTC:20240807T150000
DTSTAMP:20260425T150807
CREATED:20240722T074019Z
LAST-MODIFIED:20240722T074021Z
UID:10010647-1723035600-1723042800@dev-bemore.awtg.net
SUMMARY:FOOD BANK
DESCRIPTION:Available for everybody.
URL:https://dev-bemore.awtg.net/events/food-bank-2/2024-08-07/
LOCATION:Merseyside Youth Association\, 65-67 Hanover Street\, Liverpool\, Liverpool\, L1 3DY\, United Kingdom
ATTACH;FMTTYPE=image/png:https://dev-bemore.awtg.net/wp-content/uploads/2023/01/Screenshot-2023-01-17-at-11.32.34.png
GEO:53.404306319392;-2.9825169067472
X-APPLE-STRUCTURED-LOCATION;VALUE=URI;X-ADDRESS=Merseyside Youth Association 65-67 Hanover Street Liverpool Liverpool L1 3DY United Kingdom;X-APPLE-RADIUS=500;X-TITLE=65-67 Hanover Street:geo:-2.9825169067472,53.404306319392
END:VEVENT
BEGIN:VEVENT
DTSTART;TZID=UTC:20240807T100000
DTEND;TZID=UTC:20240807T150000
DTSTAMP:20260425T150807
CREATED:20240722T074128Z
LAST-MODIFIED:20240722T074130Z
UID:10010652-1723024800-1723042800@dev-bemore.awtg.net
SUMMARY:MYBNK MONEY MANAGEMENT COURSE
DESCRIPTION:Learn how to manage your money with this 2 day course.
URL:https://dev-bemore.awtg.net/events/mybnk-money-management-course/2024-08-07/
LOCATION:Merseyside Youth Association\, 65-67 Hanover Street\, Liverpool\, Liverpool\, L1 3DY\, United Kingdom
ATTACH;FMTTYPE=image/png:https://dev-bemore.awtg.net/wp-content/uploads/2023/01/Screenshot-2023-01-17-at-11.32.34.png
GEO:53.404306319392;-2.9825169067472
X-APPLE-STRUCTURED-LOCATION;VALUE=URI;X-ADDRESS=Merseyside Youth Association 65-67 Hanover Street Liverpool Liverpool L1 3DY United Kingdom;X-APPLE-RADIUS=500;X-TITLE=65-67 Hanover Street:geo:-2.9825169067472,53.404306319392
END:VEVENT
BEGIN:VEVENT
DTSTART;TZID=UTC:20240806T133000
DTEND;TZID=UTC:20240806T160000
DTSTAMP:20260425T150807
CREATED:20240722T073924Z
LAST-MODIFIED:20240722T073925Z
UID:10010645-1722951000-1722960000@dev-bemore.awtg.net
SUMMARY:LIVERPOOL COMMUNITY COLLEGE DROP IN INFORMATION
DESCRIPTION:Drop in. Information and advice on forthcoming courses.
URL:https://dev-bemore.awtg.net/events/liverpool-community-college-drop-in-information/
LOCATION:Merseyside Youth Association\, 65-67 Hanover Street\, Liverpool\, Liverpool\, L1 3DY\, United Kingdom
ATTACH;FMTTYPE=image/png:https://dev-bemore.awtg.net/wp-content/uploads/2023/01/Screenshot-2023-01-17-at-11.32.34.png
GEO:53.404306319392;-2.9825169067472
X-APPLE-STRUCTURED-LOCATION;VALUE=URI;X-ADDRESS=Merseyside Youth Association 65-67 Hanover Street Liverpool Liverpool L1 3DY United Kingdom;X-APPLE-RADIUS=500;X-TITLE=65-67 Hanover Street:geo:-2.9825169067472,53.404306319392
END:VEVENT
BEGIN:VEVENT
DTSTART;TZID=UTC:20240805T133000
DTEND;TZID=UTC:20240805T143000
DTSTAMP:20260425T150807
CREATED:20240722T073850Z
LAST-MODIFIED:20240722T073852Z
UID:10010643-1722864600-1722868200@dev-bemore.awtg.net
SUMMARY:BEFREE MENTAL HEALTH WORKSHOPS
DESCRIPTION:Working on Body Image\, Self Esteem and Life Transitions.
URL:https://dev-bemore.awtg.net/events/befree-mental-health-workshops/2024-08-05/
LOCATION:Merseyside Youth Association\, 65-67 Hanover Street\, Liverpool\, Liverpool\, L1 3DY\, United Kingdom
ATTACH;FMTTYPE=image/png:https://dev-bemore.awtg.net/wp-content/uploads/2023/01/Screenshot-2023-01-17-at-11.32.34.png
GEO:53.404306319392;-2.9825169067472
X-APPLE-STRUCTURED-LOCATION;VALUE=URI;X-ADDRESS=Merseyside Youth Association 65-67 Hanover Street Liverpool Liverpool L1 3DY United Kingdom;X-APPLE-RADIUS=500;X-TITLE=65-67 Hanover Street:geo:-2.9825169067472,53.404306319392
END:VEVENT
BEGIN:VEVENT
DTSTART;TZID=UTC:20240802T090000
DTEND;TZID=UTC:20240802T163000
DTSTAMP:20260425T150807
CREATED:20240722T073752Z
LAST-MODIFIED:20240722T073753Z
UID:10010540-1722589200-1722616200@dev-bemore.awtg.net
SUMMARY:SEETEC: IAG/CV CREATION
DESCRIPTION:Hourly appointments to help you create a stunning CV.
URL:https://dev-bemore.awtg.net/events/seetec-iag-cv-creation/2024-08-02/
LOCATION:Merseyside Youth Association\, 65-67 Hanover Street\, Liverpool\, Liverpool\, L1 3DY\, United Kingdom
ATTACH;FMTTYPE=image/png:https://dev-bemore.awtg.net/wp-content/uploads/2023/01/Screenshot-2023-01-17-at-11.32.34.png
GEO:53.404306319392;-2.9825169067472
X-APPLE-STRUCTURED-LOCATION;VALUE=URI;X-ADDRESS=Merseyside Youth Association 65-67 Hanover Street Liverpool Liverpool L1 3DY United Kingdom;X-APPLE-RADIUS=500;X-TITLE=65-67 Hanover Street:geo:-2.9825169067472,53.404306319392
END:VEVENT
BEGIN:VEVENT
DTSTART;TZID=UTC:20240802T000000
DTEND;TZID=UTC:20240802T235959
DTSTAMP:20260425T150807
CREATED:20221018T172012Z
LAST-MODIFIED:20221018T180345Z
UID:10005167-1722556800-1722643199@dev-bemore.awtg.net
SUMMARY:CV SUPPORT
DESCRIPTION:Seetec CV Advisor attending Hub
URL:https://dev-bemore.awtg.net/events/cv-support/2024-08-02/
LOCATION:Merseyside Youth Association\, 65-67 Hanover Street\, Liverpool\, Liverpool\, L1 3DY\, United Kingdom
ATTACH;FMTTYPE=image/png:https://dev-bemore.awtg.net/wp-content/uploads/2022/10/stock-event.png
GEO:53.404306319392;-2.9825169067472
X-APPLE-STRUCTURED-LOCATION;VALUE=URI;X-ADDRESS=Merseyside Youth Association 65-67 Hanover Street Liverpool Liverpool L1 3DY United Kingdom;X-APPLE-RADIUS=500;X-TITLE=65-67 Hanover Street:geo:-2.9825169067472,53.404306319392
END:VEVENT
BEGIN:VEVENT
DTSTART;TZID=UTC:20240801T130000
DTEND;TZID=UTC:20240801T160000
DTSTAMP:20260425T150807
CREATED:20240722T073820Z
LAST-MODIFIED:20240722T073821Z
UID:10010536-1722517200-1722528000@dev-bemore.awtg.net
SUMMARY:JOB CLUB
DESCRIPTION:Access to digital equipment for job search.
URL:https://dev-bemore.awtg.net/events/job-club-2/2024-08-01/
LOCATION:Merseyside Youth Association\, 65-67 Hanover Street\, Liverpool\, Liverpool\, L1 3DY\, United Kingdom
ATTACH;FMTTYPE=image/png:https://dev-bemore.awtg.net/wp-content/uploads/2024/06/logo.png
GEO:53.404306319392;-2.9825169067472
X-APPLE-STRUCTURED-LOCATION;VALUE=URI;X-ADDRESS=Merseyside Youth Association 65-67 Hanover Street Liverpool Liverpool L1 3DY United Kingdom;X-APPLE-RADIUS=500;X-TITLE=65-67 Hanover Street:geo:-2.9825169067472,53.404306319392
END:VEVENT
BEGIN:VEVENT
DTSTART;TZID=UTC:20240731T130000
DTEND;TZID=UTC:20240731T170000
DTSTAMP:20260425T150807
CREATED:20221018T175015Z
LAST-MODIFIED:20231218T144607Z
UID:10005311-1722430800-1722445200@dev-bemore.awtg.net
SUMMARY:WEDNESDAY AFTERNOONS WITH THE HUB
DESCRIPTION:Personal skills development programme for a neurodiverse cohort of 15 young people. Activities include – CV building\, employer sessions\, woodland walk and much more!
URL:https://dev-bemore.awtg.net/events/wednesday-afternoons-with-the-hub-2/2024-07-31/
LOCATION:Merseyside Youth Association\, 65-67 Hanover Street\, Liverpool\, Liverpool\, L1 3DY\, United Kingdom
ATTACH;FMTTYPE=image/jpeg:https://dev-bemore.awtg.net/wp-content/uploads/2022/10/Merseyside-Youth-Association.jpg
GEO:53.404306319392;-2.9825169067472
X-APPLE-STRUCTURED-LOCATION;VALUE=URI;X-ADDRESS=Merseyside Youth Association 65-67 Hanover Street Liverpool Liverpool L1 3DY United Kingdom;X-APPLE-RADIUS=500;X-TITLE=65-67 Hanover Street:geo:-2.9825169067472,53.404306319392
END:VEVENT
BEGIN:VEVENT
DTSTART;TZID=UTC:20240731T130000
DTEND;TZID=UTC:20240731T170000
DTSTAMP:20260425T150807
CREATED:20221018T172632Z
LAST-MODIFIED:20221018T180221Z
UID:10005466-1722430800-1722445200@dev-bemore.awtg.net
SUMMARY:DROP IN SESSIONS
DESCRIPTION:DWP Work Coach available to support with Universal Credit claims.
URL:https://dev-bemore.awtg.net/events/drop-in-sessions/2024-07-31/
LOCATION:Merseyside Youth Association\, 65-67 Hanover Street\, Liverpool\, Liverpool\, L1 3DY\, United Kingdom
ATTACH;FMTTYPE=image/png:https://dev-bemore.awtg.net/wp-content/uploads/2022/10/stock-event.png
GEO:53.404306319392;-2.9825169067472
X-APPLE-STRUCTURED-LOCATION;VALUE=URI;X-ADDRESS=Merseyside Youth Association 65-67 Hanover Street Liverpool Liverpool L1 3DY United Kingdom;X-APPLE-RADIUS=500;X-TITLE=65-67 Hanover Street:geo:-2.9825169067472,53.404306319392
END:VEVENT
BEGIN:VEVENT
DTSTART;TZID=UTC:20240731T130000
DTEND;TZID=UTC:20240731T163000
DTSTAMP:20260425T150807
CREATED:20240719T042955Z
LAST-MODIFIED:20240719T042957Z
UID:10010535-1722430800-1722443400@dev-bemore.awtg.net
SUMMARY:Become a Wikipedia whiz!
DESCRIPTION:🌟 Become a Wikipedia Whiz! 🌟 \n\n\n\nJoin us for a FREE skills workshop where you can get hands-on experience editing Wikipedia\, share your local knowledge with the world\, and earn a £50 high street voucher for participating! 📝🌍💷 \n\n\n\nFree lunch and snacks provided—just bring your enthusiasm! 🍽️✨ Limited spots available\, so don’t miss out on this exciting opportunity!
URL:https://dev-bemore.awtg.net/events/become-a-wikipedia-whiz/
LOCATION:Merseyside Youth Association\, 65-67 Hanover Street\, Liverpool\, Liverpool\, L1 3DY\, United Kingdom
ATTACH;FMTTYPE=image/png:https://dev-bemore.awtg.net/wp-content/uploads/2024/06/logo.png
GEO:53.404306319392;-2.9825169067472
X-APPLE-STRUCTURED-LOCATION;VALUE=URI;X-ADDRESS=Merseyside Youth Association 65-67 Hanover Street Liverpool Liverpool L1 3DY United Kingdom;X-APPLE-RADIUS=500;X-TITLE=65-67 Hanover Street:geo:-2.9825169067472,53.404306319392
END:VEVENT
BEGIN:VEVENT
DTSTART;TZID=UTC:20240731T130000
DTEND;TZID=UTC:20240731T160000
DTSTAMP:20260425T150807
CREATED:20240628T075334Z
LAST-MODIFIED:20240628T075336Z
UID:10010518-1722430800-1722441600@dev-bemore.awtg.net
SUMMARY:Job Club
DESCRIPTION:Access to digital equipment for your job search.
URL:https://dev-bemore.awtg.net/events/job-club/2024-07-31/
LOCATION:Merseyside Youth Association\, 65-67 Hanover Street\, Liverpool\, Liverpool\, L1 3DY\, United Kingdom
ATTACH;FMTTYPE=image/png:https://dev-bemore.awtg.net/wp-content/uploads/2024/06/logo.png
GEO:53.404306319392;-2.9825169067472
X-APPLE-STRUCTURED-LOCATION;VALUE=URI;X-ADDRESS=Merseyside Youth Association 65-67 Hanover Street Liverpool Liverpool L1 3DY United Kingdom;X-APPLE-RADIUS=500;X-TITLE=65-67 Hanover Street:geo:-2.9825169067472,53.404306319392
END:VEVENT
END:VCALENDAR