



BEGIN:VCALENDAR
VERSION:2.0
PRODID:-//BeMore - ECPv6.15.1//NONSGML v1.0//EN
CALSCALE:GREGORIAN
METHOD:PUBLISH
X-WR-CALNAME:BeMore
X-ORIGINAL-URL:https://dev-bemore.awtg.net
X-WR-CALDESC:Events for BeMore
REFRESH-INTERVAL;VALUE=DURATION:PT1H
X-Robots-Tag:noindex
X-PUBLISHED-TTL:PT1H
BEGIN:VTIMEZONE
TZID:UTC
BEGIN:STANDARD
TZOFFSETFROM:+0000
TZOFFSETTO:+0000
TZNAME:UTC
DTSTART:20240101T000000
END:STANDARD
END:VTIMEZONE
BEGIN:VEVENT
DTSTART;TZID=UTC:20240927T090000
DTEND;TZID=UTC:20240927T163000
DTSTAMP:20260425T110728
CREATED:20240722T073752Z
LAST-MODIFIED:20240722T073753Z
UID:10010548-1727427600-1727454600@dev-bemore.awtg.net
SUMMARY:SEETEC: IAG/CV CREATION
DESCRIPTION:Hourly appointments to help you create a stunning CV.
URL:https://dev-bemore.awtg.net/events/seetec-iag-cv-creation/2024-09-27/
LOCATION:Merseyside Youth Association\, 65-67 Hanover Street\, Liverpool\, Liverpool\, L1 3DY\, United Kingdom
ATTACH;FMTTYPE=image/png:https://dev-bemore.awtg.net/wp-content/uploads/2023/01/Screenshot-2023-01-17-at-11.32.34.png
GEO:53.404306319392;-2.9825169067472
X-APPLE-STRUCTURED-LOCATION;VALUE=URI;X-ADDRESS=Merseyside Youth Association 65-67 Hanover Street Liverpool Liverpool L1 3DY United Kingdom;X-APPLE-RADIUS=500;X-TITLE=65-67 Hanover Street:geo:-2.9825169067472,53.404306319392
END:VEVENT
BEGIN:VEVENT
DTSTART;TZID=UTC:20240927T000000
DTEND;TZID=UTC:20240927T235959
DTSTAMP:20260425T110728
CREATED:20221018T172012Z
LAST-MODIFIED:20221018T180345Z
UID:10005175-1727395200-1727481599@dev-bemore.awtg.net
SUMMARY:CV SUPPORT
DESCRIPTION:Seetec CV Advisor attending Hub
URL:https://dev-bemore.awtg.net/events/cv-support/2024-09-27/
LOCATION:Merseyside Youth Association\, 65-67 Hanover Street\, Liverpool\, Liverpool\, L1 3DY\, United Kingdom
ATTACH;FMTTYPE=image/png:https://dev-bemore.awtg.net/wp-content/uploads/2022/10/stock-event.png
GEO:53.404306319392;-2.9825169067472
X-APPLE-STRUCTURED-LOCATION;VALUE=URI;X-ADDRESS=Merseyside Youth Association 65-67 Hanover Street Liverpool Liverpool L1 3DY United Kingdom;X-APPLE-RADIUS=500;X-TITLE=65-67 Hanover Street:geo:-2.9825169067472,53.404306319392
END:VEVENT
BEGIN:VEVENT
DTSTART;TZID=UTC:20240925T130000
DTEND;TZID=UTC:20240925T170000
DTSTAMP:20260425T110728
CREATED:20221018T175015Z
LAST-MODIFIED:20231218T144607Z
UID:10005319-1727269200-1727283600@dev-bemore.awtg.net
SUMMARY:WEDNESDAY AFTERNOONS WITH THE HUB
DESCRIPTION:Personal skills development programme for a neurodiverse cohort of 15 young people. Activities include – CV building\, employer sessions\, woodland walk and much more!
URL:https://dev-bemore.awtg.net/events/wednesday-afternoons-with-the-hub-2/2024-09-25/
LOCATION:Merseyside Youth Association\, 65-67 Hanover Street\, Liverpool\, Liverpool\, L1 3DY\, United Kingdom
ATTACH;FMTTYPE=image/jpeg:https://dev-bemore.awtg.net/wp-content/uploads/2022/10/Merseyside-Youth-Association.jpg
GEO:53.404306319392;-2.9825169067472
X-APPLE-STRUCTURED-LOCATION;VALUE=URI;X-ADDRESS=Merseyside Youth Association 65-67 Hanover Street Liverpool Liverpool L1 3DY United Kingdom;X-APPLE-RADIUS=500;X-TITLE=65-67 Hanover Street:geo:-2.9825169067472,53.404306319392
END:VEVENT
BEGIN:VEVENT
DTSTART;TZID=UTC:20240925T130000
DTEND;TZID=UTC:20240925T170000
DTSTAMP:20260425T110728
CREATED:20221018T172632Z
LAST-MODIFIED:20221018T180221Z
UID:10005474-1727269200-1727283600@dev-bemore.awtg.net
SUMMARY:DROP IN SESSIONS
DESCRIPTION:DWP Work Coach available to support with Universal Credit claims.
URL:https://dev-bemore.awtg.net/events/drop-in-sessions/2024-09-25/
LOCATION:Merseyside Youth Association\, 65-67 Hanover Street\, Liverpool\, Liverpool\, L1 3DY\, United Kingdom
ATTACH;FMTTYPE=image/png:https://dev-bemore.awtg.net/wp-content/uploads/2022/10/stock-event.png
GEO:53.404306319392;-2.9825169067472
X-APPLE-STRUCTURED-LOCATION;VALUE=URI;X-ADDRESS=Merseyside Youth Association 65-67 Hanover Street Liverpool Liverpool L1 3DY United Kingdom;X-APPLE-RADIUS=500;X-TITLE=65-67 Hanover Street:geo:-2.9825169067472,53.404306319392
END:VEVENT
BEGIN:VEVENT
DTSTART;TZID=UTC:20240920T090000
DTEND;TZID=UTC:20240920T163000
DTSTAMP:20260425T110728
CREATED:20240722T073752Z
LAST-MODIFIED:20240722T073753Z
UID:10010547-1726822800-1726849800@dev-bemore.awtg.net
SUMMARY:SEETEC: IAG/CV CREATION
DESCRIPTION:Hourly appointments to help you create a stunning CV.
URL:https://dev-bemore.awtg.net/events/seetec-iag-cv-creation/2024-09-20/
LOCATION:Merseyside Youth Association\, 65-67 Hanover Street\, Liverpool\, Liverpool\, L1 3DY\, United Kingdom
ATTACH;FMTTYPE=image/png:https://dev-bemore.awtg.net/wp-content/uploads/2023/01/Screenshot-2023-01-17-at-11.32.34.png
GEO:53.404306319392;-2.9825169067472
X-APPLE-STRUCTURED-LOCATION;VALUE=URI;X-ADDRESS=Merseyside Youth Association 65-67 Hanover Street Liverpool Liverpool L1 3DY United Kingdom;X-APPLE-RADIUS=500;X-TITLE=65-67 Hanover Street:geo:-2.9825169067472,53.404306319392
END:VEVENT
BEGIN:VEVENT
DTSTART;TZID=UTC:20240920T000000
DTEND;TZID=UTC:20240920T235959
DTSTAMP:20260425T110728
CREATED:20221018T172012Z
LAST-MODIFIED:20221018T180345Z
UID:10005174-1726790400-1726876799@dev-bemore.awtg.net
SUMMARY:CV SUPPORT
DESCRIPTION:Seetec CV Advisor attending Hub
URL:https://dev-bemore.awtg.net/events/cv-support/2024-09-20/
LOCATION:Merseyside Youth Association\, 65-67 Hanover Street\, Liverpool\, Liverpool\, L1 3DY\, United Kingdom
ATTACH;FMTTYPE=image/png:https://dev-bemore.awtg.net/wp-content/uploads/2022/10/stock-event.png
GEO:53.404306319392;-2.9825169067472
X-APPLE-STRUCTURED-LOCATION;VALUE=URI;X-ADDRESS=Merseyside Youth Association 65-67 Hanover Street Liverpool Liverpool L1 3DY United Kingdom;X-APPLE-RADIUS=500;X-TITLE=65-67 Hanover Street:geo:-2.9825169067472,53.404306319392
END:VEVENT
BEGIN:VEVENT
DTSTART;TZID=UTC:20240918T130000
DTEND;TZID=UTC:20240918T170000
DTSTAMP:20260425T110728
CREATED:20221018T175015Z
LAST-MODIFIED:20231218T144607Z
UID:10005318-1726664400-1726678800@dev-bemore.awtg.net
SUMMARY:WEDNESDAY AFTERNOONS WITH THE HUB
DESCRIPTION:Personal skills development programme for a neurodiverse cohort of 15 young people. Activities include – CV building\, employer sessions\, woodland walk and much more!
URL:https://dev-bemore.awtg.net/events/wednesday-afternoons-with-the-hub-2/2024-09-18/
LOCATION:Merseyside Youth Association\, 65-67 Hanover Street\, Liverpool\, Liverpool\, L1 3DY\, United Kingdom
ATTACH;FMTTYPE=image/jpeg:https://dev-bemore.awtg.net/wp-content/uploads/2022/10/Merseyside-Youth-Association.jpg
GEO:53.404306319392;-2.9825169067472
X-APPLE-STRUCTURED-LOCATION;VALUE=URI;X-ADDRESS=Merseyside Youth Association 65-67 Hanover Street Liverpool Liverpool L1 3DY United Kingdom;X-APPLE-RADIUS=500;X-TITLE=65-67 Hanover Street:geo:-2.9825169067472,53.404306319392
END:VEVENT
BEGIN:VEVENT
DTSTART;TZID=UTC:20240918T130000
DTEND;TZID=UTC:20240918T170000
DTSTAMP:20260425T110728
CREATED:20221018T172632Z
LAST-MODIFIED:20221018T180221Z
UID:10005473-1726664400-1726678800@dev-bemore.awtg.net
SUMMARY:DROP IN SESSIONS
DESCRIPTION:DWP Work Coach available to support with Universal Credit claims.
URL:https://dev-bemore.awtg.net/events/drop-in-sessions/2024-09-18/
LOCATION:Merseyside Youth Association\, 65-67 Hanover Street\, Liverpool\, Liverpool\, L1 3DY\, United Kingdom
ATTACH;FMTTYPE=image/png:https://dev-bemore.awtg.net/wp-content/uploads/2022/10/stock-event.png
GEO:53.404306319392;-2.9825169067472
X-APPLE-STRUCTURED-LOCATION;VALUE=URI;X-ADDRESS=Merseyside Youth Association 65-67 Hanover Street Liverpool Liverpool L1 3DY United Kingdom;X-APPLE-RADIUS=500;X-TITLE=65-67 Hanover Street:geo:-2.9825169067472,53.404306319392
END:VEVENT
BEGIN:VEVENT
DTSTART;TZID=UTC:20240913T090000
DTEND;TZID=UTC:20240913T163000
DTSTAMP:20260425T110728
CREATED:20240722T073752Z
LAST-MODIFIED:20240722T073753Z
UID:10010546-1726218000-1726245000@dev-bemore.awtg.net
SUMMARY:SEETEC: IAG/CV CREATION
DESCRIPTION:Hourly appointments to help you create a stunning CV.
URL:https://dev-bemore.awtg.net/events/seetec-iag-cv-creation/2024-09-13/
LOCATION:Merseyside Youth Association\, 65-67 Hanover Street\, Liverpool\, Liverpool\, L1 3DY\, United Kingdom
ATTACH;FMTTYPE=image/png:https://dev-bemore.awtg.net/wp-content/uploads/2023/01/Screenshot-2023-01-17-at-11.32.34.png
GEO:53.404306319392;-2.9825169067472
X-APPLE-STRUCTURED-LOCATION;VALUE=URI;X-ADDRESS=Merseyside Youth Association 65-67 Hanover Street Liverpool Liverpool L1 3DY United Kingdom;X-APPLE-RADIUS=500;X-TITLE=65-67 Hanover Street:geo:-2.9825169067472,53.404306319392
END:VEVENT
BEGIN:VEVENT
DTSTART;TZID=UTC:20240913T000000
DTEND;TZID=UTC:20240913T235959
DTSTAMP:20260425T110728
CREATED:20221018T172012Z
LAST-MODIFIED:20221018T180345Z
UID:10005173-1726185600-1726271999@dev-bemore.awtg.net
SUMMARY:CV SUPPORT
DESCRIPTION:Seetec CV Advisor attending Hub
URL:https://dev-bemore.awtg.net/events/cv-support/2024-09-13/
LOCATION:Merseyside Youth Association\, 65-67 Hanover Street\, Liverpool\, Liverpool\, L1 3DY\, United Kingdom
ATTACH;FMTTYPE=image/png:https://dev-bemore.awtg.net/wp-content/uploads/2022/10/stock-event.png
GEO:53.404306319392;-2.9825169067472
X-APPLE-STRUCTURED-LOCATION;VALUE=URI;X-ADDRESS=Merseyside Youth Association 65-67 Hanover Street Liverpool Liverpool L1 3DY United Kingdom;X-APPLE-RADIUS=500;X-TITLE=65-67 Hanover Street:geo:-2.9825169067472,53.404306319392
END:VEVENT
BEGIN:VEVENT
DTSTART;TZID=UTC:20240911T130000
DTEND;TZID=UTC:20240911T170000
DTSTAMP:20260425T110728
CREATED:20221018T175015Z
LAST-MODIFIED:20231218T144607Z
UID:10005317-1726059600-1726074000@dev-bemore.awtg.net
SUMMARY:WEDNESDAY AFTERNOONS WITH THE HUB
DESCRIPTION:Personal skills development programme for a neurodiverse cohort of 15 young people. Activities include – CV building\, employer sessions\, woodland walk and much more!
URL:https://dev-bemore.awtg.net/events/wednesday-afternoons-with-the-hub-2/2024-09-11/
LOCATION:Merseyside Youth Association\, 65-67 Hanover Street\, Liverpool\, Liverpool\, L1 3DY\, United Kingdom
ATTACH;FMTTYPE=image/jpeg:https://dev-bemore.awtg.net/wp-content/uploads/2022/10/Merseyside-Youth-Association.jpg
GEO:53.404306319392;-2.9825169067472
X-APPLE-STRUCTURED-LOCATION;VALUE=URI;X-ADDRESS=Merseyside Youth Association 65-67 Hanover Street Liverpool Liverpool L1 3DY United Kingdom;X-APPLE-RADIUS=500;X-TITLE=65-67 Hanover Street:geo:-2.9825169067472,53.404306319392
END:VEVENT
BEGIN:VEVENT
DTSTART;TZID=UTC:20240911T130000
DTEND;TZID=UTC:20240911T170000
DTSTAMP:20260425T110728
CREATED:20221018T172632Z
LAST-MODIFIED:20221018T180221Z
UID:10005472-1726059600-1726074000@dev-bemore.awtg.net
SUMMARY:DROP IN SESSIONS
DESCRIPTION:DWP Work Coach available to support with Universal Credit claims.
URL:https://dev-bemore.awtg.net/events/drop-in-sessions/2024-09-11/
LOCATION:Merseyside Youth Association\, 65-67 Hanover Street\, Liverpool\, Liverpool\, L1 3DY\, United Kingdom
ATTACH;FMTTYPE=image/png:https://dev-bemore.awtg.net/wp-content/uploads/2022/10/stock-event.png
GEO:53.404306319392;-2.9825169067472
X-APPLE-STRUCTURED-LOCATION;VALUE=URI;X-ADDRESS=Merseyside Youth Association 65-67 Hanover Street Liverpool Liverpool L1 3DY United Kingdom;X-APPLE-RADIUS=500;X-TITLE=65-67 Hanover Street:geo:-2.9825169067472,53.404306319392
END:VEVENT
BEGIN:VEVENT
DTSTART;TZID=UTC:20240906T090000
DTEND;TZID=UTC:20240906T163000
DTSTAMP:20260425T110728
CREATED:20240722T073752Z
LAST-MODIFIED:20240722T073753Z
UID:10010545-1725613200-1725640200@dev-bemore.awtg.net
SUMMARY:SEETEC: IAG/CV CREATION
DESCRIPTION:Hourly appointments to help you create a stunning CV.
URL:https://dev-bemore.awtg.net/events/seetec-iag-cv-creation/2024-09-06/
LOCATION:Merseyside Youth Association\, 65-67 Hanover Street\, Liverpool\, Liverpool\, L1 3DY\, United Kingdom
ATTACH;FMTTYPE=image/png:https://dev-bemore.awtg.net/wp-content/uploads/2023/01/Screenshot-2023-01-17-at-11.32.34.png
GEO:53.404306319392;-2.9825169067472
X-APPLE-STRUCTURED-LOCATION;VALUE=URI;X-ADDRESS=Merseyside Youth Association 65-67 Hanover Street Liverpool Liverpool L1 3DY United Kingdom;X-APPLE-RADIUS=500;X-TITLE=65-67 Hanover Street:geo:-2.9825169067472,53.404306319392
END:VEVENT
BEGIN:VEVENT
DTSTART;TZID=UTC:20240906T000000
DTEND;TZID=UTC:20240906T235959
DTSTAMP:20260425T110728
CREATED:20221018T172012Z
LAST-MODIFIED:20221018T180345Z
UID:10005172-1725580800-1725667199@dev-bemore.awtg.net
SUMMARY:CV SUPPORT
DESCRIPTION:Seetec CV Advisor attending Hub
URL:https://dev-bemore.awtg.net/events/cv-support/2024-09-06/
LOCATION:Merseyside Youth Association\, 65-67 Hanover Street\, Liverpool\, Liverpool\, L1 3DY\, United Kingdom
ATTACH;FMTTYPE=image/png:https://dev-bemore.awtg.net/wp-content/uploads/2022/10/stock-event.png
GEO:53.404306319392;-2.9825169067472
X-APPLE-STRUCTURED-LOCATION;VALUE=URI;X-ADDRESS=Merseyside Youth Association 65-67 Hanover Street Liverpool Liverpool L1 3DY United Kingdom;X-APPLE-RADIUS=500;X-TITLE=65-67 Hanover Street:geo:-2.9825169067472,53.404306319392
END:VEVENT
BEGIN:VEVENT
DTSTART;TZID=UTC:20240904T130000
DTEND;TZID=UTC:20240904T170000
DTSTAMP:20260425T110728
CREATED:20221018T175015Z
LAST-MODIFIED:20231218T144607Z
UID:10005316-1725454800-1725469200@dev-bemore.awtg.net
SUMMARY:WEDNESDAY AFTERNOONS WITH THE HUB
DESCRIPTION:Personal skills development programme for a neurodiverse cohort of 15 young people. Activities include – CV building\, employer sessions\, woodland walk and much more!
URL:https://dev-bemore.awtg.net/events/wednesday-afternoons-with-the-hub-2/2024-09-04/
LOCATION:Merseyside Youth Association\, 65-67 Hanover Street\, Liverpool\, Liverpool\, L1 3DY\, United Kingdom
ATTACH;FMTTYPE=image/jpeg:https://dev-bemore.awtg.net/wp-content/uploads/2022/10/Merseyside-Youth-Association.jpg
GEO:53.404306319392;-2.9825169067472
X-APPLE-STRUCTURED-LOCATION;VALUE=URI;X-ADDRESS=Merseyside Youth Association 65-67 Hanover Street Liverpool Liverpool L1 3DY United Kingdom;X-APPLE-RADIUS=500;X-TITLE=65-67 Hanover Street:geo:-2.9825169067472,53.404306319392
END:VEVENT
BEGIN:VEVENT
DTSTART;TZID=UTC:20240904T130000
DTEND;TZID=UTC:20240904T170000
DTSTAMP:20260425T110728
CREATED:20221018T172632Z
LAST-MODIFIED:20221018T180221Z
UID:10005471-1725454800-1725469200@dev-bemore.awtg.net
SUMMARY:DROP IN SESSIONS
DESCRIPTION:DWP Work Coach available to support with Universal Credit claims.
URL:https://dev-bemore.awtg.net/events/drop-in-sessions/2024-09-04/
LOCATION:Merseyside Youth Association\, 65-67 Hanover Street\, Liverpool\, Liverpool\, L1 3DY\, United Kingdom
ATTACH;FMTTYPE=image/png:https://dev-bemore.awtg.net/wp-content/uploads/2022/10/stock-event.png
GEO:53.404306319392;-2.9825169067472
X-APPLE-STRUCTURED-LOCATION;VALUE=URI;X-ADDRESS=Merseyside Youth Association 65-67 Hanover Street Liverpool Liverpool L1 3DY United Kingdom;X-APPLE-RADIUS=500;X-TITLE=65-67 Hanover Street:geo:-2.9825169067472,53.404306319392
END:VEVENT
BEGIN:VEVENT
DTSTART;TZID=UTC:20240830T090000
DTEND;TZID=UTC:20240830T163000
DTSTAMP:20260425T110728
CREATED:20240722T073752Z
LAST-MODIFIED:20240722T073753Z
UID:10010544-1725008400-1725035400@dev-bemore.awtg.net
SUMMARY:SEETEC: IAG/CV CREATION
DESCRIPTION:Hourly appointments to help you create a stunning CV.
URL:https://dev-bemore.awtg.net/events/seetec-iag-cv-creation/2024-08-30/
LOCATION:Merseyside Youth Association\, 65-67 Hanover Street\, Liverpool\, Liverpool\, L1 3DY\, United Kingdom
ATTACH;FMTTYPE=image/png:https://dev-bemore.awtg.net/wp-content/uploads/2023/01/Screenshot-2023-01-17-at-11.32.34.png
GEO:53.404306319392;-2.9825169067472
X-APPLE-STRUCTURED-LOCATION;VALUE=URI;X-ADDRESS=Merseyside Youth Association 65-67 Hanover Street Liverpool Liverpool L1 3DY United Kingdom;X-APPLE-RADIUS=500;X-TITLE=65-67 Hanover Street:geo:-2.9825169067472,53.404306319392
END:VEVENT
BEGIN:VEVENT
DTSTART;TZID=UTC:20240830T000000
DTEND;TZID=UTC:20240830T235959
DTSTAMP:20260425T110728
CREATED:20221018T172012Z
LAST-MODIFIED:20221018T180345Z
UID:10005171-1724976000-1725062399@dev-bemore.awtg.net
SUMMARY:CV SUPPORT
DESCRIPTION:Seetec CV Advisor attending Hub
URL:https://dev-bemore.awtg.net/events/cv-support/2024-08-30/
LOCATION:Merseyside Youth Association\, 65-67 Hanover Street\, Liverpool\, Liverpool\, L1 3DY\, United Kingdom
ATTACH;FMTTYPE=image/png:https://dev-bemore.awtg.net/wp-content/uploads/2022/10/stock-event.png
GEO:53.404306319392;-2.9825169067472
X-APPLE-STRUCTURED-LOCATION;VALUE=URI;X-ADDRESS=Merseyside Youth Association 65-67 Hanover Street Liverpool Liverpool L1 3DY United Kingdom;X-APPLE-RADIUS=500;X-TITLE=65-67 Hanover Street:geo:-2.9825169067472,53.404306319392
END:VEVENT
BEGIN:VEVENT
DTSTART;TZID=UTC:20240829T130000
DTEND;TZID=UTC:20240829T160000
DTSTAMP:20260425T110728
CREATED:20240722T073820Z
LAST-MODIFIED:20240722T073821Z
UID:10010539-1724936400-1724947200@dev-bemore.awtg.net
SUMMARY:JOB CLUB
DESCRIPTION:Access to digital equipment for job search.
URL:https://dev-bemore.awtg.net/events/job-club-2/2024-08-29/
LOCATION:Merseyside Youth Association\, 65-67 Hanover Street\, Liverpool\, Liverpool\, L1 3DY\, United Kingdom
ATTACH;FMTTYPE=image/png:https://dev-bemore.awtg.net/wp-content/uploads/2024/06/logo.png
GEO:53.404306319392;-2.9825169067472
X-APPLE-STRUCTURED-LOCATION;VALUE=URI;X-ADDRESS=Merseyside Youth Association 65-67 Hanover Street Liverpool Liverpool L1 3DY United Kingdom;X-APPLE-RADIUS=500;X-TITLE=65-67 Hanover Street:geo:-2.9825169067472,53.404306319392
END:VEVENT
BEGIN:VEVENT
DTSTART;TZID=UTC:20240828T130000
DTEND;TZID=UTC:20240828T170000
DTSTAMP:20260425T110728
CREATED:20221018T175015Z
LAST-MODIFIED:20231218T144607Z
UID:10005315-1724850000-1724864400@dev-bemore.awtg.net
SUMMARY:WEDNESDAY AFTERNOONS WITH THE HUB
DESCRIPTION:Personal skills development programme for a neurodiverse cohort of 15 young people. Activities include – CV building\, employer sessions\, woodland walk and much more!
URL:https://dev-bemore.awtg.net/events/wednesday-afternoons-with-the-hub-2/2024-08-28/
LOCATION:Merseyside Youth Association\, 65-67 Hanover Street\, Liverpool\, Liverpool\, L1 3DY\, United Kingdom
ATTACH;FMTTYPE=image/jpeg:https://dev-bemore.awtg.net/wp-content/uploads/2022/10/Merseyside-Youth-Association.jpg
GEO:53.404306319392;-2.9825169067472
X-APPLE-STRUCTURED-LOCATION;VALUE=URI;X-ADDRESS=Merseyside Youth Association 65-67 Hanover Street Liverpool Liverpool L1 3DY United Kingdom;X-APPLE-RADIUS=500;X-TITLE=65-67 Hanover Street:geo:-2.9825169067472,53.404306319392
END:VEVENT
BEGIN:VEVENT
DTSTART;TZID=UTC:20240828T130000
DTEND;TZID=UTC:20240828T170000
DTSTAMP:20260425T110728
CREATED:20221018T172632Z
LAST-MODIFIED:20221018T180221Z
UID:10005470-1724850000-1724864400@dev-bemore.awtg.net
SUMMARY:DROP IN SESSIONS
DESCRIPTION:DWP Work Coach available to support with Universal Credit claims.
URL:https://dev-bemore.awtg.net/events/drop-in-sessions/2024-08-28/
LOCATION:Merseyside Youth Association\, 65-67 Hanover Street\, Liverpool\, Liverpool\, L1 3DY\, United Kingdom
ATTACH;FMTTYPE=image/png:https://dev-bemore.awtg.net/wp-content/uploads/2022/10/stock-event.png
GEO:53.404306319392;-2.9825169067472
X-APPLE-STRUCTURED-LOCATION;VALUE=URI;X-ADDRESS=Merseyside Youth Association 65-67 Hanover Street Liverpool Liverpool L1 3DY United Kingdom;X-APPLE-RADIUS=500;X-TITLE=65-67 Hanover Street:geo:-2.9825169067472,53.404306319392
END:VEVENT
BEGIN:VEVENT
DTSTART;TZID=UTC:20240828T130000
DTEND;TZID=UTC:20240828T150000
DTSTAMP:20260425T110728
CREATED:20240722T074019Z
LAST-MODIFIED:20240722T074021Z
UID:10010650-1724850000-1724857200@dev-bemore.awtg.net
SUMMARY:FOOD BANK
DESCRIPTION:Available for everybody.
URL:https://dev-bemore.awtg.net/events/food-bank-2/2024-08-28/
LOCATION:Merseyside Youth Association\, 65-67 Hanover Street\, Liverpool\, Liverpool\, L1 3DY\, United Kingdom
ATTACH;FMTTYPE=image/png:https://dev-bemore.awtg.net/wp-content/uploads/2023/01/Screenshot-2023-01-17-at-11.32.34.png
GEO:53.404306319392;-2.9825169067472
X-APPLE-STRUCTURED-LOCATION;VALUE=URI;X-ADDRESS=Merseyside Youth Association 65-67 Hanover Street Liverpool Liverpool L1 3DY United Kingdom;X-APPLE-RADIUS=500;X-TITLE=65-67 Hanover Street:geo:-2.9825169067472,53.404306319392
END:VEVENT
BEGIN:VEVENT
DTSTART;TZID=UTC:20240823T090000
DTEND;TZID=UTC:20240823T163000
DTSTAMP:20260425T110728
CREATED:20240722T073752Z
LAST-MODIFIED:20240722T073753Z
UID:10010543-1724403600-1724430600@dev-bemore.awtg.net
SUMMARY:SEETEC: IAG/CV CREATION
DESCRIPTION:Hourly appointments to help you create a stunning CV.
URL:https://dev-bemore.awtg.net/events/seetec-iag-cv-creation/2024-08-23/
LOCATION:Merseyside Youth Association\, 65-67 Hanover Street\, Liverpool\, Liverpool\, L1 3DY\, United Kingdom
ATTACH;FMTTYPE=image/png:https://dev-bemore.awtg.net/wp-content/uploads/2023/01/Screenshot-2023-01-17-at-11.32.34.png
GEO:53.404306319392;-2.9825169067472
X-APPLE-STRUCTURED-LOCATION;VALUE=URI;X-ADDRESS=Merseyside Youth Association 65-67 Hanover Street Liverpool Liverpool L1 3DY United Kingdom;X-APPLE-RADIUS=500;X-TITLE=65-67 Hanover Street:geo:-2.9825169067472,53.404306319392
END:VEVENT
BEGIN:VEVENT
DTSTART;TZID=UTC:20240823T000000
DTEND;TZID=UTC:20240823T235959
DTSTAMP:20260425T110728
CREATED:20221018T172012Z
LAST-MODIFIED:20221018T180345Z
UID:10005170-1724371200-1724457599@dev-bemore.awtg.net
SUMMARY:CV SUPPORT
DESCRIPTION:Seetec CV Advisor attending Hub
URL:https://dev-bemore.awtg.net/events/cv-support/2024-08-23/
LOCATION:Merseyside Youth Association\, 65-67 Hanover Street\, Liverpool\, Liverpool\, L1 3DY\, United Kingdom
ATTACH;FMTTYPE=image/png:https://dev-bemore.awtg.net/wp-content/uploads/2022/10/stock-event.png
GEO:53.404306319392;-2.9825169067472
X-APPLE-STRUCTURED-LOCATION;VALUE=URI;X-ADDRESS=Merseyside Youth Association 65-67 Hanover Street Liverpool Liverpool L1 3DY United Kingdom;X-APPLE-RADIUS=500;X-TITLE=65-67 Hanover Street:geo:-2.9825169067472,53.404306319392
END:VEVENT
BEGIN:VEVENT
DTSTART;TZID=UTC:20240822T130000
DTEND;TZID=UTC:20240822T160000
DTSTAMP:20260425T110728
CREATED:20240722T073820Z
LAST-MODIFIED:20240722T073821Z
UID:10010538-1724331600-1724342400@dev-bemore.awtg.net
SUMMARY:JOB CLUB
DESCRIPTION:Access to digital equipment for job search.
URL:https://dev-bemore.awtg.net/events/job-club-2/2024-08-22/
LOCATION:Merseyside Youth Association\, 65-67 Hanover Street\, Liverpool\, Liverpool\, L1 3DY\, United Kingdom
ATTACH;FMTTYPE=image/png:https://dev-bemore.awtg.net/wp-content/uploads/2024/06/logo.png
GEO:53.404306319392;-2.9825169067472
X-APPLE-STRUCTURED-LOCATION;VALUE=URI;X-ADDRESS=Merseyside Youth Association 65-67 Hanover Street Liverpool Liverpool L1 3DY United Kingdom;X-APPLE-RADIUS=500;X-TITLE=65-67 Hanover Street:geo:-2.9825169067472,53.404306319392
END:VEVENT
BEGIN:VEVENT
DTSTART;TZID=UTC:20240821T130000
DTEND;TZID=UTC:20240821T170000
DTSTAMP:20260425T110728
CREATED:20221018T175015Z
LAST-MODIFIED:20231218T144607Z
UID:10005314-1724245200-1724259600@dev-bemore.awtg.net
SUMMARY:WEDNESDAY AFTERNOONS WITH THE HUB
DESCRIPTION:Personal skills development programme for a neurodiverse cohort of 15 young people. Activities include – CV building\, employer sessions\, woodland walk and much more!
URL:https://dev-bemore.awtg.net/events/wednesday-afternoons-with-the-hub-2/2024-08-21/
LOCATION:Merseyside Youth Association\, 65-67 Hanover Street\, Liverpool\, Liverpool\, L1 3DY\, United Kingdom
ATTACH;FMTTYPE=image/jpeg:https://dev-bemore.awtg.net/wp-content/uploads/2022/10/Merseyside-Youth-Association.jpg
GEO:53.404306319392;-2.9825169067472
X-APPLE-STRUCTURED-LOCATION;VALUE=URI;X-ADDRESS=Merseyside Youth Association 65-67 Hanover Street Liverpool Liverpool L1 3DY United Kingdom;X-APPLE-RADIUS=500;X-TITLE=65-67 Hanover Street:geo:-2.9825169067472,53.404306319392
END:VEVENT
BEGIN:VEVENT
DTSTART;TZID=UTC:20240821T130000
DTEND;TZID=UTC:20240821T170000
DTSTAMP:20260425T110728
CREATED:20221018T172632Z
LAST-MODIFIED:20221018T180221Z
UID:10005469-1724245200-1724259600@dev-bemore.awtg.net
SUMMARY:DROP IN SESSIONS
DESCRIPTION:DWP Work Coach available to support with Universal Credit claims.
URL:https://dev-bemore.awtg.net/events/drop-in-sessions/2024-08-21/
LOCATION:Merseyside Youth Association\, 65-67 Hanover Street\, Liverpool\, Liverpool\, L1 3DY\, United Kingdom
ATTACH;FMTTYPE=image/png:https://dev-bemore.awtg.net/wp-content/uploads/2022/10/stock-event.png
GEO:53.404306319392;-2.9825169067472
X-APPLE-STRUCTURED-LOCATION;VALUE=URI;X-ADDRESS=Merseyside Youth Association 65-67 Hanover Street Liverpool Liverpool L1 3DY United Kingdom;X-APPLE-RADIUS=500;X-TITLE=65-67 Hanover Street:geo:-2.9825169067472,53.404306319392
END:VEVENT
BEGIN:VEVENT
DTSTART;TZID=UTC:20240821T130000
DTEND;TZID=UTC:20240821T150000
DTSTAMP:20260425T110728
CREATED:20240722T074019Z
LAST-MODIFIED:20240722T074021Z
UID:10010649-1724245200-1724252400@dev-bemore.awtg.net
SUMMARY:FOOD BANK
DESCRIPTION:Available for everybody.
URL:https://dev-bemore.awtg.net/events/food-bank-2/2024-08-21/
LOCATION:Merseyside Youth Association\, 65-67 Hanover Street\, Liverpool\, Liverpool\, L1 3DY\, United Kingdom
ATTACH;FMTTYPE=image/png:https://dev-bemore.awtg.net/wp-content/uploads/2023/01/Screenshot-2023-01-17-at-11.32.34.png
GEO:53.404306319392;-2.9825169067472
X-APPLE-STRUCTURED-LOCATION;VALUE=URI;X-ADDRESS=Merseyside Youth Association 65-67 Hanover Street Liverpool Liverpool L1 3DY United Kingdom;X-APPLE-RADIUS=500;X-TITLE=65-67 Hanover Street:geo:-2.9825169067472,53.404306319392
END:VEVENT
BEGIN:VEVENT
DTSTART;TZID=UTC:20240816T090000
DTEND;TZID=UTC:20240816T163000
DTSTAMP:20260425T110728
CREATED:20240722T073752Z
LAST-MODIFIED:20240722T073753Z
UID:10010542-1723798800-1723825800@dev-bemore.awtg.net
SUMMARY:SEETEC: IAG/CV CREATION
DESCRIPTION:Hourly appointments to help you create a stunning CV.
URL:https://dev-bemore.awtg.net/events/seetec-iag-cv-creation/2024-08-16/
LOCATION:Merseyside Youth Association\, 65-67 Hanover Street\, Liverpool\, Liverpool\, L1 3DY\, United Kingdom
ATTACH;FMTTYPE=image/png:https://dev-bemore.awtg.net/wp-content/uploads/2023/01/Screenshot-2023-01-17-at-11.32.34.png
GEO:53.404306319392;-2.9825169067472
X-APPLE-STRUCTURED-LOCATION;VALUE=URI;X-ADDRESS=Merseyside Youth Association 65-67 Hanover Street Liverpool Liverpool L1 3DY United Kingdom;X-APPLE-RADIUS=500;X-TITLE=65-67 Hanover Street:geo:-2.9825169067472,53.404306319392
END:VEVENT
BEGIN:VEVENT
DTSTART;TZID=UTC:20240816T000000
DTEND;TZID=UTC:20240816T235959
DTSTAMP:20260425T110728
CREATED:20221018T172012Z
LAST-MODIFIED:20221018T180345Z
UID:10005169-1723766400-1723852799@dev-bemore.awtg.net
SUMMARY:CV SUPPORT
DESCRIPTION:Seetec CV Advisor attending Hub
URL:https://dev-bemore.awtg.net/events/cv-support/2024-08-16/
LOCATION:Merseyside Youth Association\, 65-67 Hanover Street\, Liverpool\, Liverpool\, L1 3DY\, United Kingdom
ATTACH;FMTTYPE=image/png:https://dev-bemore.awtg.net/wp-content/uploads/2022/10/stock-event.png
GEO:53.404306319392;-2.9825169067472
X-APPLE-STRUCTURED-LOCATION;VALUE=URI;X-ADDRESS=Merseyside Youth Association 65-67 Hanover Street Liverpool Liverpool L1 3DY United Kingdom;X-APPLE-RADIUS=500;X-TITLE=65-67 Hanover Street:geo:-2.9825169067472,53.404306319392
END:VEVENT
END:VCALENDAR