



BEGIN:VCALENDAR
VERSION:2.0
PRODID:-//BeMore - ECPv6.15.1//NONSGML v1.0//EN
CALSCALE:GREGORIAN
METHOD:PUBLISH
X-WR-CALNAME:BeMore
X-ORIGINAL-URL:https://dev-bemore.awtg.net
X-WR-CALDESC:Events for BeMore
REFRESH-INTERVAL;VALUE=DURATION:PT1H
X-Robots-Tag:noindex
X-PUBLISHED-TTL:PT1H
BEGIN:VTIMEZONE
TZID:UTC
BEGIN:STANDARD
TZOFFSETFROM:+0000
TZOFFSETTO:+0000
TZNAME:UTC
DTSTART:20260101T000000
END:STANDARD
END:VTIMEZONE
BEGIN:VEVENT
DTSTART;TZID=UTC:20260424T090000
DTEND;TZID=UTC:20260424T163000
DTSTAMP:20260424T044003
CREATED:20240722T073752Z
LAST-MODIFIED:20240722T073753Z
UID:10010630-1777021200-1777048200@dev-bemore.awtg.net
SUMMARY:SEETEC: IAG/CV CREATION
DESCRIPTION:Hourly appointments to help you create a stunning CV.
URL:https://dev-bemore.awtg.net/events/seetec-iag-cv-creation/2026-04-24/
LOCATION:Merseyside Youth Association\, 65-67 Hanover Street\, Liverpool\, Liverpool\, L1 3DY\, United Kingdom
ATTACH;FMTTYPE=image/png:https://dev-bemore.awtg.net/wp-content/uploads/2023/01/Screenshot-2023-01-17-at-11.32.34.png
GEO:53.404306319392;-2.9825169067472
X-APPLE-STRUCTURED-LOCATION;VALUE=URI;X-ADDRESS=Merseyside Youth Association 65-67 Hanover Street Liverpool Liverpool L1 3DY United Kingdom;X-APPLE-RADIUS=500;X-TITLE=65-67 Hanover Street:geo:-2.9825169067472,53.404306319392
END:VEVENT
BEGIN:VEVENT
DTSTART;TZID=UTC:20260501T090000
DTEND;TZID=UTC:20260501T163000
DTSTAMP:20260424T044003
CREATED:20240722T073752Z
LAST-MODIFIED:20240722T073753Z
UID:10010631-1777626000-1777653000@dev-bemore.awtg.net
SUMMARY:SEETEC: IAG/CV CREATION
DESCRIPTION:Hourly appointments to help you create a stunning CV.
URL:https://dev-bemore.awtg.net/events/seetec-iag-cv-creation/2026-05-01/
LOCATION:Merseyside Youth Association\, 65-67 Hanover Street\, Liverpool\, Liverpool\, L1 3DY\, United Kingdom
ATTACH;FMTTYPE=image/png:https://dev-bemore.awtg.net/wp-content/uploads/2023/01/Screenshot-2023-01-17-at-11.32.34.png
GEO:53.404306319392;-2.9825169067472
X-APPLE-STRUCTURED-LOCATION;VALUE=URI;X-ADDRESS=Merseyside Youth Association 65-67 Hanover Street Liverpool Liverpool L1 3DY United Kingdom;X-APPLE-RADIUS=500;X-TITLE=65-67 Hanover Street:geo:-2.9825169067472,53.404306319392
END:VEVENT
BEGIN:VEVENT
DTSTART;TZID=UTC:20260508T090000
DTEND;TZID=UTC:20260508T163000
DTSTAMP:20260424T044003
CREATED:20240722T073752Z
LAST-MODIFIED:20240722T073753Z
UID:10010632-1778230800-1778257800@dev-bemore.awtg.net
SUMMARY:SEETEC: IAG/CV CREATION
DESCRIPTION:Hourly appointments to help you create a stunning CV.
URL:https://dev-bemore.awtg.net/events/seetec-iag-cv-creation/2026-05-08/
LOCATION:Merseyside Youth Association\, 65-67 Hanover Street\, Liverpool\, Liverpool\, L1 3DY\, United Kingdom
ATTACH;FMTTYPE=image/png:https://dev-bemore.awtg.net/wp-content/uploads/2023/01/Screenshot-2023-01-17-at-11.32.34.png
GEO:53.404306319392;-2.9825169067472
X-APPLE-STRUCTURED-LOCATION;VALUE=URI;X-ADDRESS=Merseyside Youth Association 65-67 Hanover Street Liverpool Liverpool L1 3DY United Kingdom;X-APPLE-RADIUS=500;X-TITLE=65-67 Hanover Street:geo:-2.9825169067472,53.404306319392
END:VEVENT
BEGIN:VEVENT
DTSTART;TZID=UTC:20260515T090000
DTEND;TZID=UTC:20260515T163000
DTSTAMP:20260424T044003
CREATED:20240722T073752Z
LAST-MODIFIED:20240722T073753Z
UID:10010633-1778835600-1778862600@dev-bemore.awtg.net
SUMMARY:SEETEC: IAG/CV CREATION
DESCRIPTION:Hourly appointments to help you create a stunning CV.
URL:https://dev-bemore.awtg.net/events/seetec-iag-cv-creation/2026-05-15/
LOCATION:Merseyside Youth Association\, 65-67 Hanover Street\, Liverpool\, Liverpool\, L1 3DY\, United Kingdom
ATTACH;FMTTYPE=image/png:https://dev-bemore.awtg.net/wp-content/uploads/2023/01/Screenshot-2023-01-17-at-11.32.34.png
GEO:53.404306319392;-2.9825169067472
X-APPLE-STRUCTURED-LOCATION;VALUE=URI;X-ADDRESS=Merseyside Youth Association 65-67 Hanover Street Liverpool Liverpool L1 3DY United Kingdom;X-APPLE-RADIUS=500;X-TITLE=65-67 Hanover Street:geo:-2.9825169067472,53.404306319392
END:VEVENT
BEGIN:VEVENT
DTSTART;TZID=UTC:20260522T090000
DTEND;TZID=UTC:20260522T163000
DTSTAMP:20260424T044003
CREATED:20240722T073752Z
LAST-MODIFIED:20240722T073753Z
UID:10010634-1779440400-1779467400@dev-bemore.awtg.net
SUMMARY:SEETEC: IAG/CV CREATION
DESCRIPTION:Hourly appointments to help you create a stunning CV.
URL:https://dev-bemore.awtg.net/events/seetec-iag-cv-creation/2026-05-22/
LOCATION:Merseyside Youth Association\, 65-67 Hanover Street\, Liverpool\, Liverpool\, L1 3DY\, United Kingdom
ATTACH;FMTTYPE=image/png:https://dev-bemore.awtg.net/wp-content/uploads/2023/01/Screenshot-2023-01-17-at-11.32.34.png
GEO:53.404306319392;-2.9825169067472
X-APPLE-STRUCTURED-LOCATION;VALUE=URI;X-ADDRESS=Merseyside Youth Association 65-67 Hanover Street Liverpool Liverpool L1 3DY United Kingdom;X-APPLE-RADIUS=500;X-TITLE=65-67 Hanover Street:geo:-2.9825169067472,53.404306319392
END:VEVENT
BEGIN:VEVENT
DTSTART;TZID=UTC:20260529T090000
DTEND;TZID=UTC:20260529T163000
DTSTAMP:20260424T044003
CREATED:20240722T073752Z
LAST-MODIFIED:20240722T073753Z
UID:10010635-1780045200-1780072200@dev-bemore.awtg.net
SUMMARY:SEETEC: IAG/CV CREATION
DESCRIPTION:Hourly appointments to help you create a stunning CV.
URL:https://dev-bemore.awtg.net/events/seetec-iag-cv-creation/2026-05-29/
LOCATION:Merseyside Youth Association\, 65-67 Hanover Street\, Liverpool\, Liverpool\, L1 3DY\, United Kingdom
ATTACH;FMTTYPE=image/png:https://dev-bemore.awtg.net/wp-content/uploads/2023/01/Screenshot-2023-01-17-at-11.32.34.png
GEO:53.404306319392;-2.9825169067472
X-APPLE-STRUCTURED-LOCATION;VALUE=URI;X-ADDRESS=Merseyside Youth Association 65-67 Hanover Street Liverpool Liverpool L1 3DY United Kingdom;X-APPLE-RADIUS=500;X-TITLE=65-67 Hanover Street:geo:-2.9825169067472,53.404306319392
END:VEVENT
BEGIN:VEVENT
DTSTART;TZID=UTC:20260605T090000
DTEND;TZID=UTC:20260605T163000
DTSTAMP:20260424T044003
CREATED:20240722T073752Z
LAST-MODIFIED:20240722T073753Z
UID:10010636-1780650000-1780677000@dev-bemore.awtg.net
SUMMARY:SEETEC: IAG/CV CREATION
DESCRIPTION:Hourly appointments to help you create a stunning CV.
URL:https://dev-bemore.awtg.net/events/seetec-iag-cv-creation/2026-06-05/
LOCATION:Merseyside Youth Association\, 65-67 Hanover Street\, Liverpool\, Liverpool\, L1 3DY\, United Kingdom
ATTACH;FMTTYPE=image/png:https://dev-bemore.awtg.net/wp-content/uploads/2023/01/Screenshot-2023-01-17-at-11.32.34.png
GEO:53.404306319392;-2.9825169067472
X-APPLE-STRUCTURED-LOCATION;VALUE=URI;X-ADDRESS=Merseyside Youth Association 65-67 Hanover Street Liverpool Liverpool L1 3DY United Kingdom;X-APPLE-RADIUS=500;X-TITLE=65-67 Hanover Street:geo:-2.9825169067472,53.404306319392
END:VEVENT
BEGIN:VEVENT
DTSTART;TZID=UTC:20260612T090000
DTEND;TZID=UTC:20260612T163000
DTSTAMP:20260424T044003
CREATED:20240722T073752Z
LAST-MODIFIED:20240722T073753Z
UID:10010637-1781254800-1781281800@dev-bemore.awtg.net
SUMMARY:SEETEC: IAG/CV CREATION
DESCRIPTION:Hourly appointments to help you create a stunning CV.
URL:https://dev-bemore.awtg.net/events/seetec-iag-cv-creation/2026-06-12/
LOCATION:Merseyside Youth Association\, 65-67 Hanover Street\, Liverpool\, Liverpool\, L1 3DY\, United Kingdom
ATTACH;FMTTYPE=image/png:https://dev-bemore.awtg.net/wp-content/uploads/2023/01/Screenshot-2023-01-17-at-11.32.34.png
GEO:53.404306319392;-2.9825169067472
X-APPLE-STRUCTURED-LOCATION;VALUE=URI;X-ADDRESS=Merseyside Youth Association 65-67 Hanover Street Liverpool Liverpool L1 3DY United Kingdom;X-APPLE-RADIUS=500;X-TITLE=65-67 Hanover Street:geo:-2.9825169067472,53.404306319392
END:VEVENT
BEGIN:VEVENT
DTSTART;TZID=UTC:20260619T090000
DTEND;TZID=UTC:20260619T163000
DTSTAMP:20260424T044003
CREATED:20240722T073752Z
LAST-MODIFIED:20240722T073753Z
UID:10010638-1781859600-1781886600@dev-bemore.awtg.net
SUMMARY:SEETEC: IAG/CV CREATION
DESCRIPTION:Hourly appointments to help you create a stunning CV.
URL:https://dev-bemore.awtg.net/events/seetec-iag-cv-creation/2026-06-19/
LOCATION:Merseyside Youth Association\, 65-67 Hanover Street\, Liverpool\, Liverpool\, L1 3DY\, United Kingdom
ATTACH;FMTTYPE=image/png:https://dev-bemore.awtg.net/wp-content/uploads/2023/01/Screenshot-2023-01-17-at-11.32.34.png
GEO:53.404306319392;-2.9825169067472
X-APPLE-STRUCTURED-LOCATION;VALUE=URI;X-ADDRESS=Merseyside Youth Association 65-67 Hanover Street Liverpool Liverpool L1 3DY United Kingdom;X-APPLE-RADIUS=500;X-TITLE=65-67 Hanover Street:geo:-2.9825169067472,53.404306319392
END:VEVENT
BEGIN:VEVENT
DTSTART;TZID=UTC:20260626T090000
DTEND;TZID=UTC:20260626T163000
DTSTAMP:20260424T044003
CREATED:20240722T073752Z
LAST-MODIFIED:20240722T073753Z
UID:10010639-1782464400-1782491400@dev-bemore.awtg.net
SUMMARY:SEETEC: IAG/CV CREATION
DESCRIPTION:Hourly appointments to help you create a stunning CV.
URL:https://dev-bemore.awtg.net/events/seetec-iag-cv-creation/2026-06-26/
LOCATION:Merseyside Youth Association\, 65-67 Hanover Street\, Liverpool\, Liverpool\, L1 3DY\, United Kingdom
ATTACH;FMTTYPE=image/png:https://dev-bemore.awtg.net/wp-content/uploads/2023/01/Screenshot-2023-01-17-at-11.32.34.png
GEO:53.404306319392;-2.9825169067472
X-APPLE-STRUCTURED-LOCATION;VALUE=URI;X-ADDRESS=Merseyside Youth Association 65-67 Hanover Street Liverpool Liverpool L1 3DY United Kingdom;X-APPLE-RADIUS=500;X-TITLE=65-67 Hanover Street:geo:-2.9825169067472,53.404306319392
END:VEVENT
BEGIN:VEVENT
DTSTART;TZID=UTC:20260703T090000
DTEND;TZID=UTC:20260703T163000
DTSTAMP:20260424T044003
CREATED:20240722T073752Z
LAST-MODIFIED:20240722T073753Z
UID:10010640-1783069200-1783096200@dev-bemore.awtg.net
SUMMARY:SEETEC: IAG/CV CREATION
DESCRIPTION:Hourly appointments to help you create a stunning CV.
URL:https://dev-bemore.awtg.net/events/seetec-iag-cv-creation/2026-07-03/
LOCATION:Merseyside Youth Association\, 65-67 Hanover Street\, Liverpool\, Liverpool\, L1 3DY\, United Kingdom
ATTACH;FMTTYPE=image/png:https://dev-bemore.awtg.net/wp-content/uploads/2023/01/Screenshot-2023-01-17-at-11.32.34.png
GEO:53.404306319392;-2.9825169067472
X-APPLE-STRUCTURED-LOCATION;VALUE=URI;X-ADDRESS=Merseyside Youth Association 65-67 Hanover Street Liverpool Liverpool L1 3DY United Kingdom;X-APPLE-RADIUS=500;X-TITLE=65-67 Hanover Street:geo:-2.9825169067472,53.404306319392
END:VEVENT
BEGIN:VEVENT
DTSTART;TZID=UTC:20260710T090000
DTEND;TZID=UTC:20260710T163000
DTSTAMP:20260424T044003
CREATED:20240722T073752Z
LAST-MODIFIED:20240722T073753Z
UID:10010641-1783674000-1783701000@dev-bemore.awtg.net
SUMMARY:SEETEC: IAG/CV CREATION
DESCRIPTION:Hourly appointments to help you create a stunning CV.
URL:https://dev-bemore.awtg.net/events/seetec-iag-cv-creation/2026-07-10/
LOCATION:Merseyside Youth Association\, 65-67 Hanover Street\, Liverpool\, Liverpool\, L1 3DY\, United Kingdom
ATTACH;FMTTYPE=image/png:https://dev-bemore.awtg.net/wp-content/uploads/2023/01/Screenshot-2023-01-17-at-11.32.34.png
GEO:53.404306319392;-2.9825169067472
X-APPLE-STRUCTURED-LOCATION;VALUE=URI;X-ADDRESS=Merseyside Youth Association 65-67 Hanover Street Liverpool Liverpool L1 3DY United Kingdom;X-APPLE-RADIUS=500;X-TITLE=65-67 Hanover Street:geo:-2.9825169067472,53.404306319392
END:VEVENT
BEGIN:VEVENT
DTSTART;TZID=UTC:20260717T090000
DTEND;TZID=UTC:20260717T163000
DTSTAMP:20260424T044003
CREATED:20240722T073752Z
LAST-MODIFIED:20240722T073753Z
UID:10010642-1784278800-1784305800@dev-bemore.awtg.net
SUMMARY:SEETEC: IAG/CV CREATION
DESCRIPTION:Hourly appointments to help you create a stunning CV.
URL:https://dev-bemore.awtg.net/events/seetec-iag-cv-creation/2026-07-17/
LOCATION:Merseyside Youth Association\, 65-67 Hanover Street\, Liverpool\, Liverpool\, L1 3DY\, United Kingdom
ATTACH;FMTTYPE=image/png:https://dev-bemore.awtg.net/wp-content/uploads/2023/01/Screenshot-2023-01-17-at-11.32.34.png
GEO:53.404306319392;-2.9825169067472
X-APPLE-STRUCTURED-LOCATION;VALUE=URI;X-ADDRESS=Merseyside Youth Association 65-67 Hanover Street Liverpool Liverpool L1 3DY United Kingdom;X-APPLE-RADIUS=500;X-TITLE=65-67 Hanover Street:geo:-2.9825169067472,53.404306319392
END:VEVENT
END:VCALENDAR