



BEGIN:VCALENDAR
VERSION:2.0
PRODID:-//BeMore - ECPv6.15.1//NONSGML v1.0//EN
CALSCALE:GREGORIAN
METHOD:PUBLISH
X-WR-CALNAME:BeMore
X-ORIGINAL-URL:https://dev-bemore.awtg.net
X-WR-CALDESC:Events for BeMore
REFRESH-INTERVAL;VALUE=DURATION:PT1H
X-Robots-Tag:noindex
X-PUBLISHED-TTL:PT1H
BEGIN:VTIMEZONE
TZID:UTC
BEGIN:STANDARD
TZOFFSETFROM:+0000
TZOFFSETTO:+0000
TZNAME:UTC
DTSTART:20230101T000000
END:STANDARD
END:VTIMEZONE
BEGIN:VEVENT
DTSTART;TZID=UTC:20230419T153000
DTEND;TZID=UTC:20230419T161500
DTSTAMP:20260421T061300
CREATED:20230413T082507Z
LAST-MODIFIED:20230413T082509Z
UID:10005053-1681918200-1681920900@dev-bemore.awtg.net
SUMMARY:COMMUNITY YOGA AT THRIVE
DESCRIPTION:For 18-24 year olds. Call 07373 648 622 for further information or to book a place.
URL:https://dev-bemore.awtg.net/events/community-yoga-at-thrive/
LOCATION:L1 6DP\, 21 Preston Street\, Liverpool\, Merseyside\, L1 6DP\, United Kingdom
ATTACH;FMTTYPE=image/png:https://dev-bemore.awtg.net/wp-content/uploads/2023/04/thrive.png
ORGANIZER;CN="THRIVE":MAILTO:hannah@thrive-cic.co.uk
END:VEVENT
END:VCALENDAR