



BEGIN:VCALENDAR
VERSION:2.0
PRODID:-//BeMore - ECPv6.15.1//NONSGML v1.0//EN
CALSCALE:GREGORIAN
METHOD:PUBLISH
X-WR-CALNAME:BeMore
X-ORIGINAL-URL:https://dev-bemore.awtg.net
X-WR-CALDESC:Events for BeMore
REFRESH-INTERVAL;VALUE=DURATION:PT1H
X-Robots-Tag:noindex
X-PUBLISHED-TTL:PT1H
BEGIN:VTIMEZONE
TZID:UTC
BEGIN:STANDARD
TZOFFSETFROM:+0000
TZOFFSETTO:+0000
TZNAME:UTC
DTSTART:20230101T000000
END:STANDARD
END:VTIMEZONE
BEGIN:VEVENT
DTSTART;TZID=UTC:20230426T123000
DTEND;TZID=UTC:20230426T133000
DTSTAMP:20260421T022342
CREATED:20230420T084423Z
LAST-MODIFIED:20230420T084459Z
UID:10009894-1682512200-1682515800@dev-bemore.awtg.net
SUMMARY:LUNCHTIME LEARNING: ADJUSTMENTS IN THE WORKPLACE
DESCRIPTION:Mandy is a State registered Occupational Therapist specialising in employment health and well-being in the workplace. At this event Mandy will talk about Adjustments on the work place and how employers will benefit from the Empowerment passport. This is an event not to be missed.
URL:https://dev-bemore.awtg.net/events/lunchtime-learning-adjustments-in-the-workplace/
LOCATION:CLOCKWORK STUDIOS\, 12 ECCLESTON STREET\, PRESCOT\, Merseyside\, L34 5QE\, United Kingdom
ATTACH;FMTTYPE=image/png:https://dev-bemore.awtg.net/wp-content/uploads/2023/04/clockwork.png
ORGANIZER;CN="CLOCKWORK STUDIOS":MAILTO:info@clockwork-studios.co.uk
END:VEVENT
END:VCALENDAR