



BEGIN:VCALENDAR
VERSION:2.0
PRODID:-//BeMore - ECPv6.15.1//NONSGML v1.0//EN
CALSCALE:GREGORIAN
METHOD:PUBLISH
X-ORIGINAL-URL:https://dev-bemore.awtg.net
X-WR-CALDESC:Events for BeMore
REFRESH-INTERVAL;VALUE=DURATION:PT1H
X-Robots-Tag:noindex
X-PUBLISHED-TTL:PT1H
BEGIN:VTIMEZONE
TZID:UTC
BEGIN:STANDARD
TZOFFSETFROM:+0000
TZOFFSETTO:+0000
TZNAME:UTC
DTSTART:20230101T000000
END:STANDARD
END:VTIMEZONE
BEGIN:VEVENT
DTSTART;TZID=UTC:20230208T130000
DTEND;TZID=UTC:20230208T200000
DTSTAMP:20260425T033631
CREATED:20230127T100531Z
LAST-MODIFIED:20230127T100531Z
UID:10009882-1675861200-1675886400@dev-bemore.awtg.net
SUMMARY:Blue Light Job Fair
DESCRIPTION:Various job opportunities across the Blue Light Services. Join us to talk to members of Merseyside Police\, Mersey Fire and Rescue and Northwest Ambulance Service. The teams at Liverpool in Work will be there to support unemployed residents and Adult Learning to advise on courses to enhance your career options. 8 Feb 1pm until 4pm & 5pm until 8pm. Granby Adult Learning L8 2TU. https://liverpoolinwork.co.uk/merseyside-blue-light-careers-fair-8th-february-2023/?_gl=1*1iox7w8*_ga*MTY0NDkzMzA3OC4xNjc0NjQ1NTc1*_up*MQ..
URL:https://dev-bemore.awtg.net/events/blue-light-job-fair/
LOCATION:Granby Adult Learning L8 2TU\, 79 Granby Street\, Liverpool
ATTACH;FMTTYPE=image/png:https://dev-bemore.awtg.net/wp-content/uploads/2023/01/Screenshot-2023-01-17-at-11.32.34.png
END:VEVENT
END:VCALENDAR