



BEGIN:VCALENDAR
VERSION:2.0
PRODID:-//BeMore - ECPv6.15.1//NONSGML v1.0//EN
CALSCALE:GREGORIAN
METHOD:PUBLISH
X-WR-CALNAME:BeMore
X-ORIGINAL-URL:https://dev-bemore.awtg.net
X-WR-CALDESC:Events for BeMore
REFRESH-INTERVAL;VALUE=DURATION:PT1H
X-Robots-Tag:noindex
X-PUBLISHED-TTL:PT1H
BEGIN:VTIMEZONE
TZID:UTC
BEGIN:STANDARD
TZOFFSETFROM:+0000
TZOFFSETTO:+0000
TZNAME:UTC
DTSTART:20240101T000000
END:STANDARD
END:VTIMEZONE
BEGIN:VEVENT
DTSTART;TZID=UTC:20240320T100000
DTEND;TZID=UTC:20240411T140000
DTSTAMP:20260425T195342
CREATED:20240325T091103Z
LAST-MODIFIED:20240325T091105Z
UID:10010100-1710928800-1712844000@dev-bemore.awtg.net
SUMMARY:Free Training with Complete Skills Solutions - Music Technology (online)
DESCRIPTION:Join our 3 week music tech course tailored for budding music producers! Get hands-on with cutting-edge gear and expert guidance from local nightlife pros. Our course fuels your creativity\, letting you craft cool digital projects to share with your crew.  Join online if you have your own gear.
URL:https://dev-bemore.awtg.net/events/free-training-with-complete-skills-solutions-music-technology-online/
ATTACH;FMTTYPE=image/png:https://dev-bemore.awtg.net/wp-content/uploads/2023/01/Screenshot-2023-01-17-at-11.32.34.png
ORGANIZER;CN="Complete Skills Solutions":MAILTO:info@completeskillssolutions.co.uk
END:VEVENT
BEGIN:VEVENT
DTSTART;TZID=UTC:20240401T103000
DTEND;TZID=UTC:20240401T103000
DTSTAMP:20260425T195342
CREATED:20221018T181702Z
LAST-MODIFIED:20221018T181703Z
UID:10007061-1711967400-1711967400@dev-bemore.awtg.net
SUMMARY:DBS EXPERIENCE PROGRAMME
DESCRIPTION:
URL:https://dev-bemore.awtg.net/events/dbs-experience-programme/2024-04-01/
LOCATION:Thrive\, 21-23 Preston Street\, Liverpool\, Liverpool\, L1 6DP\, United Kingdom
ATTACH;FMTTYPE=image/jpeg:https://dev-bemore.awtg.net/wp-content/uploads/2022/10/Thrive.jpg
GEO:53.408947259526;-2.9849363644176
X-APPLE-STRUCTURED-LOCATION;VALUE=URI;X-ADDRESS=Thrive 21-23 Preston Street Liverpool Liverpool L1 6DP United Kingdom;X-APPLE-RADIUS=500;X-TITLE=21-23 Preston Street:geo:-2.9849363644176,53.408947259526
END:VEVENT
BEGIN:VEVENT
DTSTART;TZID=UTC:20240401T103000
DTEND;TZID=UTC:20240401T103000
DTSTAMP:20260425T195342
CREATED:20221018T181857Z
LAST-MODIFIED:20221018T181858Z
UID:10008215-1711967400-1711967400@dev-bemore.awtg.net
SUMMARY:TRAINING WITH THE LEARNING FOUNDRY
DESCRIPTION:
URL:https://dev-bemore.awtg.net/events/training-with-the-learning-foundry/2024-04-01/
LOCATION:Thrive\, 21-23 Preston Street\, Liverpool\, Liverpool\, L1 6DP\, United Kingdom
ATTACH;FMTTYPE=image/jpeg:https://dev-bemore.awtg.net/wp-content/uploads/2022/10/Thrive.jpg
GEO:53.408947259526;-2.9849363644176
X-APPLE-STRUCTURED-LOCATION;VALUE=URI;X-ADDRESS=Thrive 21-23 Preston Street Liverpool Liverpool L1 6DP United Kingdom;X-APPLE-RADIUS=500;X-TITLE=21-23 Preston Street:geo:-2.9849363644176,53.408947259526
END:VEVENT
BEGIN:VEVENT
DTSTART;TZID=UTC:20240401T130000
DTEND;TZID=UTC:20240401T130000
DTSTAMP:20260425T195342
CREATED:20221018T181508Z
LAST-MODIFIED:20221018T181509Z
UID:10006062-1711976400-1711976400@dev-bemore.awtg.net
SUMMARY:CV DROP IN
DESCRIPTION:
URL:https://dev-bemore.awtg.net/events/cv-drop-in/2024-04-01/
LOCATION:Thrive\, 21-23 Preston Street\, Liverpool\, Liverpool\, L1 6DP\, United Kingdom
ATTACH;FMTTYPE=image/jpeg:https://dev-bemore.awtg.net/wp-content/uploads/2022/10/Thrive.jpg
GEO:53.408947259526;-2.9849363644176
X-APPLE-STRUCTURED-LOCATION;VALUE=URI;X-ADDRESS=Thrive 21-23 Preston Street Liverpool Liverpool L1 6DP United Kingdom;X-APPLE-RADIUS=500;X-TITLE=21-23 Preston Street:geo:-2.9849363644176,53.408947259526
END:VEVENT
BEGIN:VEVENT
DTSTART;TZID=UTC:20240401T130000
DTEND;TZID=UTC:20240401T130000
DTSTAMP:20260425T195342
CREATED:20221018T182437Z
LAST-MODIFIED:20221018T182438Z
UID:10009291-1711976400-1711976400@dev-bemore.awtg.net
SUMMARY:REGENDA HOUSING SUPPORT
DESCRIPTION:
URL:https://dev-bemore.awtg.net/events/regenda-housing-support/2024-04-01/
LOCATION:Thrive\, 21-23 Preston Street\, Liverpool\, Liverpool\, L1 6DP\, United Kingdom
ATTACH;FMTTYPE=image/jpeg:https://dev-bemore.awtg.net/wp-content/uploads/2022/10/Thrive.jpg
GEO:53.408947259526;-2.9849363644176
X-APPLE-STRUCTURED-LOCATION;VALUE=URI;X-ADDRESS=Thrive 21-23 Preston Street Liverpool Liverpool L1 6DP United Kingdom;X-APPLE-RADIUS=500;X-TITLE=21-23 Preston Street:geo:-2.9849363644176,53.408947259526
END:VEVENT
BEGIN:VEVENT
DTSTART;TZID=UTC:20240402T093000
DTEND;TZID=UTC:20240415T150000
DTSTAMP:20260425T195342
CREATED:20240325T091021Z
LAST-MODIFIED:20240325T091022Z
UID:10010101-1712050200-1713193200@dev-bemore.awtg.net
SUMMARY:Free Training with Complete Skills Solutions - Prisoner Custody Officer Training
DESCRIPTION:Grab the opportunity to learn about the Prisoner Custody Officer role and gain an interview with GeoAmey – further training then provided by GeoAmey – start an exciting new career here!
URL:https://dev-bemore.awtg.net/events/free-training-with-complete-skills-solutions-prisoner-custody-officer-training/
LOCATION:Adelphi Hotel Liverpool\, Ranelagh St\, Liverpool\, L3 5UL
ATTACH;FMTTYPE=image/png:https://dev-bemore.awtg.net/wp-content/uploads/2023/01/Screenshot-2023-01-17-at-11.32.34.png
ORGANIZER;CN="Complete Skills Solutions":MAILTO:info@completeskillssolutions.co.uk
END:VEVENT
BEGIN:VEVENT
DTSTART;TZID=UTC:20240402T103000
DTEND;TZID=UTC:20240402T103000
DTSTAMP:20260425T195342
CREATED:20221018T181702Z
LAST-MODIFIED:20221018T181703Z
UID:10007062-1712053800-1712053800@dev-bemore.awtg.net
SUMMARY:DBS EXPERIENCE PROGRAMME
DESCRIPTION:
URL:https://dev-bemore.awtg.net/events/dbs-experience-programme/2024-04-02/
LOCATION:Thrive\, 21-23 Preston Street\, Liverpool\, Liverpool\, L1 6DP\, United Kingdom
ATTACH;FMTTYPE=image/jpeg:https://dev-bemore.awtg.net/wp-content/uploads/2022/10/Thrive.jpg
GEO:53.408947259526;-2.9849363644176
X-APPLE-STRUCTURED-LOCATION;VALUE=URI;X-ADDRESS=Thrive 21-23 Preston Street Liverpool Liverpool L1 6DP United Kingdom;X-APPLE-RADIUS=500;X-TITLE=21-23 Preston Street:geo:-2.9849363644176,53.408947259526
END:VEVENT
BEGIN:VEVENT
DTSTART;TZID=UTC:20240402T103000
DTEND;TZID=UTC:20240402T103000
DTSTAMP:20260425T195342
CREATED:20221018T181857Z
LAST-MODIFIED:20221018T181858Z
UID:10008216-1712053800-1712053800@dev-bemore.awtg.net
SUMMARY:TRAINING WITH THE LEARNING FOUNDRY
DESCRIPTION:
URL:https://dev-bemore.awtg.net/events/training-with-the-learning-foundry/2024-04-02/
LOCATION:Thrive\, 21-23 Preston Street\, Liverpool\, Liverpool\, L1 6DP\, United Kingdom
ATTACH;FMTTYPE=image/jpeg:https://dev-bemore.awtg.net/wp-content/uploads/2022/10/Thrive.jpg
GEO:53.408947259526;-2.9849363644176
X-APPLE-STRUCTURED-LOCATION;VALUE=URI;X-ADDRESS=Thrive 21-23 Preston Street Liverpool Liverpool L1 6DP United Kingdom;X-APPLE-RADIUS=500;X-TITLE=21-23 Preston Street:geo:-2.9849363644176,53.408947259526
END:VEVENT
BEGIN:VEVENT
DTSTART;TZID=UTC:20240402T130000
DTEND;TZID=UTC:20240402T130000
DTSTAMP:20260425T195342
CREATED:20221018T181508Z
LAST-MODIFIED:20221018T181509Z
UID:10006063-1712062800-1712062800@dev-bemore.awtg.net
SUMMARY:CV DROP IN
DESCRIPTION:
URL:https://dev-bemore.awtg.net/events/cv-drop-in/2024-04-02/
LOCATION:Thrive\, 21-23 Preston Street\, Liverpool\, Liverpool\, L1 6DP\, United Kingdom
ATTACH;FMTTYPE=image/jpeg:https://dev-bemore.awtg.net/wp-content/uploads/2022/10/Thrive.jpg
GEO:53.408947259526;-2.9849363644176
X-APPLE-STRUCTURED-LOCATION;VALUE=URI;X-ADDRESS=Thrive 21-23 Preston Street Liverpool Liverpool L1 6DP United Kingdom;X-APPLE-RADIUS=500;X-TITLE=21-23 Preston Street:geo:-2.9849363644176,53.408947259526
END:VEVENT
BEGIN:VEVENT
DTSTART;TZID=UTC:20240402T130000
DTEND;TZID=UTC:20240402T130000
DTSTAMP:20260425T195342
CREATED:20221018T182437Z
LAST-MODIFIED:20221018T182438Z
UID:10009292-1712062800-1712062800@dev-bemore.awtg.net
SUMMARY:REGENDA HOUSING SUPPORT
DESCRIPTION:
URL:https://dev-bemore.awtg.net/events/regenda-housing-support/2024-04-02/
LOCATION:Thrive\, 21-23 Preston Street\, Liverpool\, Liverpool\, L1 6DP\, United Kingdom
ATTACH;FMTTYPE=image/jpeg:https://dev-bemore.awtg.net/wp-content/uploads/2022/10/Thrive.jpg
GEO:53.408947259526;-2.9849363644176
X-APPLE-STRUCTURED-LOCATION;VALUE=URI;X-ADDRESS=Thrive 21-23 Preston Street Liverpool Liverpool L1 6DP United Kingdom;X-APPLE-RADIUS=500;X-TITLE=21-23 Preston Street:geo:-2.9849363644176,53.408947259526
END:VEVENT
BEGIN:VEVENT
DTSTART;TZID=UTC:20240403T103000
DTEND;TZID=UTC:20240403T103000
DTSTAMP:20260425T195342
CREATED:20221018T181702Z
LAST-MODIFIED:20221018T181703Z
UID:10007063-1712140200-1712140200@dev-bemore.awtg.net
SUMMARY:DBS EXPERIENCE PROGRAMME
DESCRIPTION:
URL:https://dev-bemore.awtg.net/events/dbs-experience-programme/2024-04-03/
LOCATION:Thrive\, 21-23 Preston Street\, Liverpool\, Liverpool\, L1 6DP\, United Kingdom
ATTACH;FMTTYPE=image/jpeg:https://dev-bemore.awtg.net/wp-content/uploads/2022/10/Thrive.jpg
GEO:53.408947259526;-2.9849363644176
X-APPLE-STRUCTURED-LOCATION;VALUE=URI;X-ADDRESS=Thrive 21-23 Preston Street Liverpool Liverpool L1 6DP United Kingdom;X-APPLE-RADIUS=500;X-TITLE=21-23 Preston Street:geo:-2.9849363644176,53.408947259526
END:VEVENT
BEGIN:VEVENT
DTSTART;TZID=UTC:20240403T103000
DTEND;TZID=UTC:20240403T103000
DTSTAMP:20260425T195342
CREATED:20221018T181857Z
LAST-MODIFIED:20221018T181858Z
UID:10008217-1712140200-1712140200@dev-bemore.awtg.net
SUMMARY:TRAINING WITH THE LEARNING FOUNDRY
DESCRIPTION:
URL:https://dev-bemore.awtg.net/events/training-with-the-learning-foundry/2024-04-03/
LOCATION:Thrive\, 21-23 Preston Street\, Liverpool\, Liverpool\, L1 6DP\, United Kingdom
ATTACH;FMTTYPE=image/jpeg:https://dev-bemore.awtg.net/wp-content/uploads/2022/10/Thrive.jpg
GEO:53.408947259526;-2.9849363644176
X-APPLE-STRUCTURED-LOCATION;VALUE=URI;X-ADDRESS=Thrive 21-23 Preston Street Liverpool Liverpool L1 6DP United Kingdom;X-APPLE-RADIUS=500;X-TITLE=21-23 Preston Street:geo:-2.9849363644176,53.408947259526
END:VEVENT
BEGIN:VEVENT
DTSTART;TZID=UTC:20240403T130000
DTEND;TZID=UTC:20240403T130000
DTSTAMP:20260425T195342
CREATED:20221018T181508Z
LAST-MODIFIED:20221018T181509Z
UID:10006064-1712149200-1712149200@dev-bemore.awtg.net
SUMMARY:CV DROP IN
DESCRIPTION:
URL:https://dev-bemore.awtg.net/events/cv-drop-in/2024-04-03/
LOCATION:Thrive\, 21-23 Preston Street\, Liverpool\, Liverpool\, L1 6DP\, United Kingdom
ATTACH;FMTTYPE=image/jpeg:https://dev-bemore.awtg.net/wp-content/uploads/2022/10/Thrive.jpg
GEO:53.408947259526;-2.9849363644176
X-APPLE-STRUCTURED-LOCATION;VALUE=URI;X-ADDRESS=Thrive 21-23 Preston Street Liverpool Liverpool L1 6DP United Kingdom;X-APPLE-RADIUS=500;X-TITLE=21-23 Preston Street:geo:-2.9849363644176,53.408947259526
END:VEVENT
BEGIN:VEVENT
DTSTART;TZID=UTC:20240403T130000
DTEND;TZID=UTC:20240403T130000
DTSTAMP:20260425T195342
CREATED:20221018T182437Z
LAST-MODIFIED:20221018T182438Z
UID:10009293-1712149200-1712149200@dev-bemore.awtg.net
SUMMARY:REGENDA HOUSING SUPPORT
DESCRIPTION:
URL:https://dev-bemore.awtg.net/events/regenda-housing-support/2024-04-03/
LOCATION:Thrive\, 21-23 Preston Street\, Liverpool\, Liverpool\, L1 6DP\, United Kingdom
ATTACH;FMTTYPE=image/jpeg:https://dev-bemore.awtg.net/wp-content/uploads/2022/10/Thrive.jpg
GEO:53.408947259526;-2.9849363644176
X-APPLE-STRUCTURED-LOCATION;VALUE=URI;X-ADDRESS=Thrive 21-23 Preston Street Liverpool Liverpool L1 6DP United Kingdom;X-APPLE-RADIUS=500;X-TITLE=21-23 Preston Street:geo:-2.9849363644176,53.408947259526
END:VEVENT
BEGIN:VEVENT
DTSTART;TZID=UTC:20240403T130000
DTEND;TZID=UTC:20240403T170000
DTSTAMP:20260425T195342
CREATED:20221018T172632Z
LAST-MODIFIED:20221018T180221Z
UID:10005449-1712149200-1712163600@dev-bemore.awtg.net
SUMMARY:DROP IN SESSIONS
DESCRIPTION:DWP Work Coach available to support with Universal Credit claims.
URL:https://dev-bemore.awtg.net/events/drop-in-sessions/2024-04-03/
LOCATION:Merseyside Youth Association\, 65-67 Hanover Street\, Liverpool\, Liverpool\, L1 3DY\, United Kingdom
ATTACH;FMTTYPE=image/png:https://dev-bemore.awtg.net/wp-content/uploads/2022/10/stock-event.png
GEO:53.404306319392;-2.9825169067472
X-APPLE-STRUCTURED-LOCATION;VALUE=URI;X-ADDRESS=Merseyside Youth Association 65-67 Hanover Street Liverpool Liverpool L1 3DY United Kingdom;X-APPLE-RADIUS=500;X-TITLE=65-67 Hanover Street:geo:-2.9825169067472,53.404306319392
END:VEVENT
BEGIN:VEVENT
DTSTART;TZID=UTC:20240403T130000
DTEND;TZID=UTC:20240403T170000
DTSTAMP:20260425T195342
CREATED:20221018T175015Z
LAST-MODIFIED:20231218T144607Z
UID:10005294-1712149200-1712163600@dev-bemore.awtg.net
SUMMARY:WEDNESDAY AFTERNOONS WITH THE HUB
DESCRIPTION:Personal skills development programme for a neurodiverse cohort of 15 young people. Activities include – CV building\, employer sessions\, woodland walk and much more!
URL:https://dev-bemore.awtg.net/events/wednesday-afternoons-with-the-hub-2/2024-04-03/
LOCATION:Merseyside Youth Association\, 65-67 Hanover Street\, Liverpool\, Liverpool\, L1 3DY\, United Kingdom
ATTACH;FMTTYPE=image/jpeg:https://dev-bemore.awtg.net/wp-content/uploads/2022/10/Merseyside-Youth-Association.jpg
GEO:53.404306319392;-2.9825169067472
X-APPLE-STRUCTURED-LOCATION;VALUE=URI;X-ADDRESS=Merseyside Youth Association 65-67 Hanover Street Liverpool Liverpool L1 3DY United Kingdom;X-APPLE-RADIUS=500;X-TITLE=65-67 Hanover Street:geo:-2.9825169067472,53.404306319392
END:VEVENT
BEGIN:VEVENT
DTSTART;TZID=UTC:20240404T103000
DTEND;TZID=UTC:20240404T103000
DTSTAMP:20260425T195342
CREATED:20221018T181702Z
LAST-MODIFIED:20221018T181703Z
UID:10007064-1712226600-1712226600@dev-bemore.awtg.net
SUMMARY:DBS EXPERIENCE PROGRAMME
DESCRIPTION:
URL:https://dev-bemore.awtg.net/events/dbs-experience-programme/2024-04-04/
LOCATION:Thrive\, 21-23 Preston Street\, Liverpool\, Liverpool\, L1 6DP\, United Kingdom
ATTACH;FMTTYPE=image/jpeg:https://dev-bemore.awtg.net/wp-content/uploads/2022/10/Thrive.jpg
GEO:53.408947259526;-2.9849363644176
X-APPLE-STRUCTURED-LOCATION;VALUE=URI;X-ADDRESS=Thrive 21-23 Preston Street Liverpool Liverpool L1 6DP United Kingdom;X-APPLE-RADIUS=500;X-TITLE=21-23 Preston Street:geo:-2.9849363644176,53.408947259526
END:VEVENT
BEGIN:VEVENT
DTSTART;TZID=UTC:20240404T103000
DTEND;TZID=UTC:20240404T103000
DTSTAMP:20260425T195342
CREATED:20221018T181857Z
LAST-MODIFIED:20221018T181858Z
UID:10008218-1712226600-1712226600@dev-bemore.awtg.net
SUMMARY:TRAINING WITH THE LEARNING FOUNDRY
DESCRIPTION:
URL:https://dev-bemore.awtg.net/events/training-with-the-learning-foundry/2024-04-04/
LOCATION:Thrive\, 21-23 Preston Street\, Liverpool\, Liverpool\, L1 6DP\, United Kingdom
ATTACH;FMTTYPE=image/jpeg:https://dev-bemore.awtg.net/wp-content/uploads/2022/10/Thrive.jpg
GEO:53.408947259526;-2.9849363644176
X-APPLE-STRUCTURED-LOCATION;VALUE=URI;X-ADDRESS=Thrive 21-23 Preston Street Liverpool Liverpool L1 6DP United Kingdom;X-APPLE-RADIUS=500;X-TITLE=21-23 Preston Street:geo:-2.9849363644176,53.408947259526
END:VEVENT
BEGIN:VEVENT
DTSTART;TZID=UTC:20240404T130000
DTEND;TZID=UTC:20240404T130000
DTSTAMP:20260425T195342
CREATED:20221018T181508Z
LAST-MODIFIED:20221018T181509Z
UID:10006065-1712235600-1712235600@dev-bemore.awtg.net
SUMMARY:CV DROP IN
DESCRIPTION:
URL:https://dev-bemore.awtg.net/events/cv-drop-in/2024-04-04/
LOCATION:Thrive\, 21-23 Preston Street\, Liverpool\, Liverpool\, L1 6DP\, United Kingdom
ATTACH;FMTTYPE=image/jpeg:https://dev-bemore.awtg.net/wp-content/uploads/2022/10/Thrive.jpg
GEO:53.408947259526;-2.9849363644176
X-APPLE-STRUCTURED-LOCATION;VALUE=URI;X-ADDRESS=Thrive 21-23 Preston Street Liverpool Liverpool L1 6DP United Kingdom;X-APPLE-RADIUS=500;X-TITLE=21-23 Preston Street:geo:-2.9849363644176,53.408947259526
END:VEVENT
BEGIN:VEVENT
DTSTART;TZID=UTC:20240404T130000
DTEND;TZID=UTC:20240404T130000
DTSTAMP:20260425T195342
CREATED:20221018T182437Z
LAST-MODIFIED:20221018T182438Z
UID:10009294-1712235600-1712235600@dev-bemore.awtg.net
SUMMARY:REGENDA HOUSING SUPPORT
DESCRIPTION:
URL:https://dev-bemore.awtg.net/events/regenda-housing-support/2024-04-04/
LOCATION:Thrive\, 21-23 Preston Street\, Liverpool\, Liverpool\, L1 6DP\, United Kingdom
ATTACH;FMTTYPE=image/jpeg:https://dev-bemore.awtg.net/wp-content/uploads/2022/10/Thrive.jpg
GEO:53.408947259526;-2.9849363644176
X-APPLE-STRUCTURED-LOCATION;VALUE=URI;X-ADDRESS=Thrive 21-23 Preston Street Liverpool Liverpool L1 6DP United Kingdom;X-APPLE-RADIUS=500;X-TITLE=21-23 Preston Street:geo:-2.9849363644176,53.408947259526
END:VEVENT
BEGIN:VEVENT
DTSTART;TZID=UTC:20240404T140000
DTEND;TZID=UTC:20240404T170000
DTSTAMP:20260425T195342
CREATED:20240220T091838Z
LAST-MODIFIED:20240220T091840Z
UID:10010092-1712239200-1712250000@dev-bemore.awtg.net
SUMMARY:Fully funded - Level 2 Team Leader
DESCRIPTION:This course is free for anyone 19+ living in the Liverpool City Region. Sessions are delivered virtually between 2pm – 5pm for 6 weeks. \n\n\n\nThe programme is perfect for anyone currently leading a team and would like to enhance their skills or who will manage a team in the future. \n\n\n\nThis course includes: \n\n\n\n\nLearn the principles of team leading\n\n\n\nDevelop the knowledge needed to support communication with a range of stakeholders at different levels\n\n\n\nLearn how to keep your staff safe\n\n\n\nUnderstand how to support the personal development of your team\n\n\n\n\nQualifications: NCFE Level 2 Certificate in Principles of Team Leading.
URL:https://dev-bemore.awtg.net/events/fully-funded-level-2-team-leader/
LOCATION:The Learning Foundry\, The Watson Building\, 4 Renshaw Street\, Liverpool\, L12SA\, United Kingdom
ATTACH;FMTTYPE=image/png:https://dev-bemore.awtg.net/wp-content/uploads/2023/01/Screenshot-2023-01-17-at-11.32.34.png
ORGANIZER;CN="The Learning Foundry":MAILTO:info@thelearningfoundry.co.uk
END:VEVENT
BEGIN:VEVENT
DTSTART;TZID=UTC:20240405T000000
DTEND;TZID=UTC:20240405T235959
DTSTAMP:20260425T195342
CREATED:20221018T172012Z
LAST-MODIFIED:20221018T180345Z
UID:10005150-1712275200-1712361599@dev-bemore.awtg.net
SUMMARY:CV SUPPORT
DESCRIPTION:Seetec CV Advisor attending Hub
URL:https://dev-bemore.awtg.net/events/cv-support/2024-04-05/
LOCATION:Merseyside Youth Association\, 65-67 Hanover Street\, Liverpool\, Liverpool\, L1 3DY\, United Kingdom
ATTACH;FMTTYPE=image/png:https://dev-bemore.awtg.net/wp-content/uploads/2022/10/stock-event.png
GEO:53.404306319392;-2.9825169067472
X-APPLE-STRUCTURED-LOCATION;VALUE=URI;X-ADDRESS=Merseyside Youth Association 65-67 Hanover Street Liverpool Liverpool L1 3DY United Kingdom;X-APPLE-RADIUS=500;X-TITLE=65-67 Hanover Street:geo:-2.9825169067472,53.404306319392
END:VEVENT
BEGIN:VEVENT
DTSTART;TZID=UTC:20240405T103000
DTEND;TZID=UTC:20240405T103000
DTSTAMP:20260425T195342
CREATED:20221018T181702Z
LAST-MODIFIED:20221018T181703Z
UID:10007065-1712313000-1712313000@dev-bemore.awtg.net
SUMMARY:DBS EXPERIENCE PROGRAMME
DESCRIPTION:
URL:https://dev-bemore.awtg.net/events/dbs-experience-programme/2024-04-05/
LOCATION:Thrive\, 21-23 Preston Street\, Liverpool\, Liverpool\, L1 6DP\, United Kingdom
ATTACH;FMTTYPE=image/jpeg:https://dev-bemore.awtg.net/wp-content/uploads/2022/10/Thrive.jpg
GEO:53.408947259526;-2.9849363644176
X-APPLE-STRUCTURED-LOCATION;VALUE=URI;X-ADDRESS=Thrive 21-23 Preston Street Liverpool Liverpool L1 6DP United Kingdom;X-APPLE-RADIUS=500;X-TITLE=21-23 Preston Street:geo:-2.9849363644176,53.408947259526
END:VEVENT
BEGIN:VEVENT
DTSTART;TZID=UTC:20240405T103000
DTEND;TZID=UTC:20240405T103000
DTSTAMP:20260425T195342
CREATED:20221018T181857Z
LAST-MODIFIED:20221018T181858Z
UID:10008219-1712313000-1712313000@dev-bemore.awtg.net
SUMMARY:TRAINING WITH THE LEARNING FOUNDRY
DESCRIPTION:
URL:https://dev-bemore.awtg.net/events/training-with-the-learning-foundry/2024-04-05/
LOCATION:Thrive\, 21-23 Preston Street\, Liverpool\, Liverpool\, L1 6DP\, United Kingdom
ATTACH;FMTTYPE=image/jpeg:https://dev-bemore.awtg.net/wp-content/uploads/2022/10/Thrive.jpg
GEO:53.408947259526;-2.9849363644176
X-APPLE-STRUCTURED-LOCATION;VALUE=URI;X-ADDRESS=Thrive 21-23 Preston Street Liverpool Liverpool L1 6DP United Kingdom;X-APPLE-RADIUS=500;X-TITLE=21-23 Preston Street:geo:-2.9849363644176,53.408947259526
END:VEVENT
BEGIN:VEVENT
DTSTART;TZID=UTC:20240405T130000
DTEND;TZID=UTC:20240405T130000
DTSTAMP:20260425T195342
CREATED:20221018T181508Z
LAST-MODIFIED:20221018T181509Z
UID:10006066-1712322000-1712322000@dev-bemore.awtg.net
SUMMARY:CV DROP IN
DESCRIPTION:
URL:https://dev-bemore.awtg.net/events/cv-drop-in/2024-04-05/
LOCATION:Thrive\, 21-23 Preston Street\, Liverpool\, Liverpool\, L1 6DP\, United Kingdom
ATTACH;FMTTYPE=image/jpeg:https://dev-bemore.awtg.net/wp-content/uploads/2022/10/Thrive.jpg
GEO:53.408947259526;-2.9849363644176
X-APPLE-STRUCTURED-LOCATION;VALUE=URI;X-ADDRESS=Thrive 21-23 Preston Street Liverpool Liverpool L1 6DP United Kingdom;X-APPLE-RADIUS=500;X-TITLE=21-23 Preston Street:geo:-2.9849363644176,53.408947259526
END:VEVENT
BEGIN:VEVENT
DTSTART;TZID=UTC:20240405T130000
DTEND;TZID=UTC:20240405T130000
DTSTAMP:20260425T195342
CREATED:20221018T182437Z
LAST-MODIFIED:20221018T182438Z
UID:10009295-1712322000-1712322000@dev-bemore.awtg.net
SUMMARY:REGENDA HOUSING SUPPORT
DESCRIPTION:
URL:https://dev-bemore.awtg.net/events/regenda-housing-support/2024-04-05/
LOCATION:Thrive\, 21-23 Preston Street\, Liverpool\, Liverpool\, L1 6DP\, United Kingdom
ATTACH;FMTTYPE=image/jpeg:https://dev-bemore.awtg.net/wp-content/uploads/2022/10/Thrive.jpg
GEO:53.408947259526;-2.9849363644176
X-APPLE-STRUCTURED-LOCATION;VALUE=URI;X-ADDRESS=Thrive 21-23 Preston Street Liverpool Liverpool L1 6DP United Kingdom;X-APPLE-RADIUS=500;X-TITLE=21-23 Preston Street:geo:-2.9849363644176,53.408947259526
END:VEVENT
BEGIN:VEVENT
DTSTART;TZID=UTC:20240406T103000
DTEND;TZID=UTC:20240406T103000
DTSTAMP:20260425T195342
CREATED:20221018T181702Z
LAST-MODIFIED:20221018T181703Z
UID:10007066-1712399400-1712399400@dev-bemore.awtg.net
SUMMARY:DBS EXPERIENCE PROGRAMME
DESCRIPTION:
URL:https://dev-bemore.awtg.net/events/dbs-experience-programme/2024-04-06/
LOCATION:Thrive\, 21-23 Preston Street\, Liverpool\, Liverpool\, L1 6DP\, United Kingdom
ATTACH;FMTTYPE=image/jpeg:https://dev-bemore.awtg.net/wp-content/uploads/2022/10/Thrive.jpg
GEO:53.408947259526;-2.9849363644176
X-APPLE-STRUCTURED-LOCATION;VALUE=URI;X-ADDRESS=Thrive 21-23 Preston Street Liverpool Liverpool L1 6DP United Kingdom;X-APPLE-RADIUS=500;X-TITLE=21-23 Preston Street:geo:-2.9849363644176,53.408947259526
END:VEVENT
BEGIN:VEVENT
DTSTART;TZID=UTC:20240406T103000
DTEND;TZID=UTC:20240406T103000
DTSTAMP:20260425T195342
CREATED:20221018T181857Z
LAST-MODIFIED:20221018T181858Z
UID:10008220-1712399400-1712399400@dev-bemore.awtg.net
SUMMARY:TRAINING WITH THE LEARNING FOUNDRY
DESCRIPTION:
URL:https://dev-bemore.awtg.net/events/training-with-the-learning-foundry/2024-04-06/
LOCATION:Thrive\, 21-23 Preston Street\, Liverpool\, Liverpool\, L1 6DP\, United Kingdom
ATTACH;FMTTYPE=image/jpeg:https://dev-bemore.awtg.net/wp-content/uploads/2022/10/Thrive.jpg
GEO:53.408947259526;-2.9849363644176
X-APPLE-STRUCTURED-LOCATION;VALUE=URI;X-ADDRESS=Thrive 21-23 Preston Street Liverpool Liverpool L1 6DP United Kingdom;X-APPLE-RADIUS=500;X-TITLE=21-23 Preston Street:geo:-2.9849363644176,53.408947259526
END:VEVENT
BEGIN:VEVENT
DTSTART;TZID=UTC:20240406T130000
DTEND;TZID=UTC:20240406T130000
DTSTAMP:20260425T195342
CREATED:20221018T181508Z
LAST-MODIFIED:20221018T181509Z
UID:10006067-1712408400-1712408400@dev-bemore.awtg.net
SUMMARY:CV DROP IN
DESCRIPTION:
URL:https://dev-bemore.awtg.net/events/cv-drop-in/2024-04-06/
LOCATION:Thrive\, 21-23 Preston Street\, Liverpool\, Liverpool\, L1 6DP\, United Kingdom
ATTACH;FMTTYPE=image/jpeg:https://dev-bemore.awtg.net/wp-content/uploads/2022/10/Thrive.jpg
GEO:53.408947259526;-2.9849363644176
X-APPLE-STRUCTURED-LOCATION;VALUE=URI;X-ADDRESS=Thrive 21-23 Preston Street Liverpool Liverpool L1 6DP United Kingdom;X-APPLE-RADIUS=500;X-TITLE=21-23 Preston Street:geo:-2.9849363644176,53.408947259526
END:VEVENT
BEGIN:VEVENT
DTSTART;TZID=UTC:20240406T130000
DTEND;TZID=UTC:20240406T130000
DTSTAMP:20260425T195342
CREATED:20221018T182437Z
LAST-MODIFIED:20221018T182438Z
UID:10009296-1712408400-1712408400@dev-bemore.awtg.net
SUMMARY:REGENDA HOUSING SUPPORT
DESCRIPTION:
URL:https://dev-bemore.awtg.net/events/regenda-housing-support/2024-04-06/
LOCATION:Thrive\, 21-23 Preston Street\, Liverpool\, Liverpool\, L1 6DP\, United Kingdom
ATTACH;FMTTYPE=image/jpeg:https://dev-bemore.awtg.net/wp-content/uploads/2022/10/Thrive.jpg
GEO:53.408947259526;-2.9849363644176
X-APPLE-STRUCTURED-LOCATION;VALUE=URI;X-ADDRESS=Thrive 21-23 Preston Street Liverpool Liverpool L1 6DP United Kingdom;X-APPLE-RADIUS=500;X-TITLE=21-23 Preston Street:geo:-2.9849363644176,53.408947259526
END:VEVENT
END:VCALENDAR