



BEGIN:VCALENDAR
VERSION:2.0
PRODID:-//BeMore - ECPv6.15.1//NONSGML v1.0//EN
CALSCALE:GREGORIAN
METHOD:PUBLISH
X-ORIGINAL-URL:https://dev-bemore.awtg.net
X-WR-CALDESC:Events for BeMore
REFRESH-INTERVAL;VALUE=DURATION:PT1H
X-Robots-Tag:noindex
X-PUBLISHED-TTL:PT1H
BEGIN:VTIMEZONE
TZID:UTC
BEGIN:STANDARD
TZOFFSETFROM:+0000
TZOFFSETTO:+0000
TZNAME:UTC
DTSTART:20240101T000000
END:STANDARD
END:VTIMEZONE
BEGIN:VEVENT
DTSTART;TZID=UTC:20240429T093000
DTEND;TZID=UTC:20240513T153000
DTSTAMP:20260425T233237
CREATED:20240325T090713Z
LAST-MODIFIED:20240325T090743Z
UID:10010103-1714383000-1715614200@dev-bemore.awtg.net
SUMMARY:Free Warehouse and Logistics Training - TJ Morris Job Opportunities
DESCRIPTION:This qualification informs and guides learners working or wishing to work in express logistics\, with job opportuities available with the TJ Morris (Home Bargains) on completion of the course. \n\n\n\nIt provides learners with an overall understanding of how goods are transported from sortation hubs to domestic and business customers. It includes planning/tracking schedules\, sorting equipment/processes\, and loading/unloading techniques all underpinned by the relevant H&S regulations.
URL:https://dev-bemore.awtg.net/events/free-warehouse-and-logistics-training-tj-morris-job-opportunities/
LOCATION:Kirkdale Community Shop\, 211 Walton Rd\, Liverpool\, L4 4AJ
ATTACH;FMTTYPE=image/png:https://dev-bemore.awtg.net/wp-content/uploads/2023/01/Screenshot-2023-01-17-at-11.32.34.png
ORGANIZER;CN="Complete Skills Solutions":MAILTO:info@completeskillssolutions.co.uk
END:VEVENT
BEGIN:VEVENT
DTSTART;TZID=UTC:20240506T103000
DTEND;TZID=UTC:20240506T103000
DTSTAMP:20260425T233237
CREATED:20221018T181702Z
LAST-MODIFIED:20221018T181703Z
UID:10007096-1714991400-1714991400@dev-bemore.awtg.net
SUMMARY:DBS EXPERIENCE PROGRAMME
DESCRIPTION:
URL:https://dev-bemore.awtg.net/events/dbs-experience-programme/2024-05-06/
LOCATION:Thrive\, 21-23 Preston Street\, Liverpool\, Liverpool\, L1 6DP\, United Kingdom
ATTACH;FMTTYPE=image/jpeg:https://dev-bemore.awtg.net/wp-content/uploads/2022/10/Thrive.jpg
GEO:53.408947259526;-2.9849363644176
X-APPLE-STRUCTURED-LOCATION;VALUE=URI;X-ADDRESS=Thrive 21-23 Preston Street Liverpool Liverpool L1 6DP United Kingdom;X-APPLE-RADIUS=500;X-TITLE=21-23 Preston Street:geo:-2.9849363644176,53.408947259526
END:VEVENT
BEGIN:VEVENT
DTSTART;TZID=UTC:20240506T103000
DTEND;TZID=UTC:20240506T103000
DTSTAMP:20260425T233237
CREATED:20221018T181857Z
LAST-MODIFIED:20221018T181858Z
UID:10008250-1714991400-1714991400@dev-bemore.awtg.net
SUMMARY:TRAINING WITH THE LEARNING FOUNDRY
DESCRIPTION:
URL:https://dev-bemore.awtg.net/events/training-with-the-learning-foundry/2024-05-06/
LOCATION:Thrive\, 21-23 Preston Street\, Liverpool\, Liverpool\, L1 6DP\, United Kingdom
ATTACH;FMTTYPE=image/jpeg:https://dev-bemore.awtg.net/wp-content/uploads/2022/10/Thrive.jpg
GEO:53.408947259526;-2.9849363644176
X-APPLE-STRUCTURED-LOCATION;VALUE=URI;X-ADDRESS=Thrive 21-23 Preston Street Liverpool Liverpool L1 6DP United Kingdom;X-APPLE-RADIUS=500;X-TITLE=21-23 Preston Street:geo:-2.9849363644176,53.408947259526
END:VEVENT
BEGIN:VEVENT
DTSTART;TZID=UTC:20240506T130000
DTEND;TZID=UTC:20240506T130000
DTSTAMP:20260425T233237
CREATED:20221018T181508Z
LAST-MODIFIED:20221018T181509Z
UID:10006097-1715000400-1715000400@dev-bemore.awtg.net
SUMMARY:CV DROP IN
DESCRIPTION:
URL:https://dev-bemore.awtg.net/events/cv-drop-in/2024-05-06/
LOCATION:Thrive\, 21-23 Preston Street\, Liverpool\, Liverpool\, L1 6DP\, United Kingdom
ATTACH;FMTTYPE=image/jpeg:https://dev-bemore.awtg.net/wp-content/uploads/2022/10/Thrive.jpg
GEO:53.408947259526;-2.9849363644176
X-APPLE-STRUCTURED-LOCATION;VALUE=URI;X-ADDRESS=Thrive 21-23 Preston Street Liverpool Liverpool L1 6DP United Kingdom;X-APPLE-RADIUS=500;X-TITLE=21-23 Preston Street:geo:-2.9849363644176,53.408947259526
END:VEVENT
BEGIN:VEVENT
DTSTART;TZID=UTC:20240506T130000
DTEND;TZID=UTC:20240506T130000
DTSTAMP:20260425T233237
CREATED:20221018T182437Z
LAST-MODIFIED:20221018T182438Z
UID:10009326-1715000400-1715000400@dev-bemore.awtg.net
SUMMARY:REGENDA HOUSING SUPPORT
DESCRIPTION:
URL:https://dev-bemore.awtg.net/events/regenda-housing-support/2024-05-06/
LOCATION:Thrive\, 21-23 Preston Street\, Liverpool\, Liverpool\, L1 6DP\, United Kingdom
ATTACH;FMTTYPE=image/jpeg:https://dev-bemore.awtg.net/wp-content/uploads/2022/10/Thrive.jpg
GEO:53.408947259526;-2.9849363644176
X-APPLE-STRUCTURED-LOCATION;VALUE=URI;X-ADDRESS=Thrive 21-23 Preston Street Liverpool Liverpool L1 6DP United Kingdom;X-APPLE-RADIUS=500;X-TITLE=21-23 Preston Street:geo:-2.9849363644176,53.408947259526
END:VEVENT
BEGIN:VEVENT
DTSTART;TZID=UTC:20240507T080000
DTEND;TZID=UTC:20240507T170000
DTSTAMP:20260425T233237
CREATED:20240422T082412Z
LAST-MODIFIED:20240422T082414Z
UID:10010121-1715068800-1715101200@dev-bemore.awtg.net
SUMMARY:🏗️ Warehouse and Storage - with Forklift Truck License - Fully Funded Adult Training Course
DESCRIPTION:This is a fully funded course for adults 19+ in the Liverpool City Region. \n\n\n\nDuration: Starting 7th May for 3 weeks. \n\n\n\nAn introduction to warehousing\, including stock control and health and safety.
URL:https://dev-bemore.awtg.net/events/%f0%9f%8f%97%ef%b8%8f-warehouse-and-storage-with-forklift-truck-license-fully-funded-adult-training-course/
LOCATION:The Learning Foundry\, The Watson Building\, 4 Renshaw Street\, Liverpool\, L12SA\, United Kingdom
ATTACH;FMTTYPE=image/png:https://dev-bemore.awtg.net/wp-content/uploads/2023/01/Screenshot-2023-01-17-at-11.32.34.png
ORGANIZER;CN="The Learning Foundry":MAILTO:info@thelearningfoundry.co.uk
END:VEVENT
BEGIN:VEVENT
DTSTART;TZID=UTC:20240507T093000
DTEND;TZID=UTC:20240507T120000
DTSTAMP:20260425T233237
CREATED:20240422T082355Z
LAST-MODIFIED:20240422T082357Z
UID:10010120-1715074200-1715083200@dev-bemore.awtg.net
SUMMARY:🎓 Level 3 - Leadership and Management - Fully Funded Adult Training Course
DESCRIPTION:This is a fully funded course for adults 19+ in the Liverpool City Region. \n\n\n\nDuration: Starting 7th May for 8 weeks\, delivered online\, 1 day per week – 9.30am – 12pm. \n\n\n\nLearn to organise\, manage and motivate a team – and get an industry-recognised qualification at the same time!
URL:https://dev-bemore.awtg.net/events/%f0%9f%8e%93-level-3-leadership-and-management-fully-funded-adult-training-course/
LOCATION:The Learning Foundry\, The Watson Building\, 4 Renshaw Street\, Liverpool\, L12SA\, United Kingdom
ATTACH;FMTTYPE=image/png:https://dev-bemore.awtg.net/wp-content/uploads/2023/01/Screenshot-2023-01-17-at-11.32.34.png
ORGANIZER;CN="The Learning Foundry":MAILTO:info@thelearningfoundry.co.uk
END:VEVENT
BEGIN:VEVENT
DTSTART;TZID=UTC:20240507T103000
DTEND;TZID=UTC:20240507T103000
DTSTAMP:20260425T233237
CREATED:20221018T181702Z
LAST-MODIFIED:20221018T181703Z
UID:10007097-1715077800-1715077800@dev-bemore.awtg.net
SUMMARY:DBS EXPERIENCE PROGRAMME
DESCRIPTION:
URL:https://dev-bemore.awtg.net/events/dbs-experience-programme/2024-05-07/
LOCATION:Thrive\, 21-23 Preston Street\, Liverpool\, Liverpool\, L1 6DP\, United Kingdom
ATTACH;FMTTYPE=image/jpeg:https://dev-bemore.awtg.net/wp-content/uploads/2022/10/Thrive.jpg
GEO:53.408947259526;-2.9849363644176
X-APPLE-STRUCTURED-LOCATION;VALUE=URI;X-ADDRESS=Thrive 21-23 Preston Street Liverpool Liverpool L1 6DP United Kingdom;X-APPLE-RADIUS=500;X-TITLE=21-23 Preston Street:geo:-2.9849363644176,53.408947259526
END:VEVENT
BEGIN:VEVENT
DTSTART;TZID=UTC:20240507T103000
DTEND;TZID=UTC:20240507T103000
DTSTAMP:20260425T233237
CREATED:20221018T181857Z
LAST-MODIFIED:20221018T181858Z
UID:10008251-1715077800-1715077800@dev-bemore.awtg.net
SUMMARY:TRAINING WITH THE LEARNING FOUNDRY
DESCRIPTION:
URL:https://dev-bemore.awtg.net/events/training-with-the-learning-foundry/2024-05-07/
LOCATION:Thrive\, 21-23 Preston Street\, Liverpool\, Liverpool\, L1 6DP\, United Kingdom
ATTACH;FMTTYPE=image/jpeg:https://dev-bemore.awtg.net/wp-content/uploads/2022/10/Thrive.jpg
GEO:53.408947259526;-2.9849363644176
X-APPLE-STRUCTURED-LOCATION;VALUE=URI;X-ADDRESS=Thrive 21-23 Preston Street Liverpool Liverpool L1 6DP United Kingdom;X-APPLE-RADIUS=500;X-TITLE=21-23 Preston Street:geo:-2.9849363644176,53.408947259526
END:VEVENT
BEGIN:VEVENT
DTSTART;TZID=UTC:20240507T130000
DTEND;TZID=UTC:20240507T130000
DTSTAMP:20260425T233237
CREATED:20221018T181508Z
LAST-MODIFIED:20221018T181509Z
UID:10006098-1715086800-1715086800@dev-bemore.awtg.net
SUMMARY:CV DROP IN
DESCRIPTION:
URL:https://dev-bemore.awtg.net/events/cv-drop-in/2024-05-07/
LOCATION:Thrive\, 21-23 Preston Street\, Liverpool\, Liverpool\, L1 6DP\, United Kingdom
ATTACH;FMTTYPE=image/jpeg:https://dev-bemore.awtg.net/wp-content/uploads/2022/10/Thrive.jpg
GEO:53.408947259526;-2.9849363644176
X-APPLE-STRUCTURED-LOCATION;VALUE=URI;X-ADDRESS=Thrive 21-23 Preston Street Liverpool Liverpool L1 6DP United Kingdom;X-APPLE-RADIUS=500;X-TITLE=21-23 Preston Street:geo:-2.9849363644176,53.408947259526
END:VEVENT
BEGIN:VEVENT
DTSTART;TZID=UTC:20240507T130000
DTEND;TZID=UTC:20240507T130000
DTSTAMP:20260425T233237
CREATED:20221018T182437Z
LAST-MODIFIED:20221018T182438Z
UID:10009327-1715086800-1715086800@dev-bemore.awtg.net
SUMMARY:REGENDA HOUSING SUPPORT
DESCRIPTION:
URL:https://dev-bemore.awtg.net/events/regenda-housing-support/2024-05-07/
LOCATION:Thrive\, 21-23 Preston Street\, Liverpool\, Liverpool\, L1 6DP\, United Kingdom
ATTACH;FMTTYPE=image/jpeg:https://dev-bemore.awtg.net/wp-content/uploads/2022/10/Thrive.jpg
GEO:53.408947259526;-2.9849363644176
X-APPLE-STRUCTURED-LOCATION;VALUE=URI;X-ADDRESS=Thrive 21-23 Preston Street Liverpool Liverpool L1 6DP United Kingdom;X-APPLE-RADIUS=500;X-TITLE=21-23 Preston Street:geo:-2.9849363644176,53.408947259526
END:VEVENT
BEGIN:VEVENT
DTSTART;TZID=UTC:20240508T103000
DTEND;TZID=UTC:20240508T103000
DTSTAMP:20260425T233237
CREATED:20221018T181702Z
LAST-MODIFIED:20221018T181703Z
UID:10007098-1715164200-1715164200@dev-bemore.awtg.net
SUMMARY:DBS EXPERIENCE PROGRAMME
DESCRIPTION:
URL:https://dev-bemore.awtg.net/events/dbs-experience-programme/2024-05-08/
LOCATION:Thrive\, 21-23 Preston Street\, Liverpool\, Liverpool\, L1 6DP\, United Kingdom
ATTACH;FMTTYPE=image/jpeg:https://dev-bemore.awtg.net/wp-content/uploads/2022/10/Thrive.jpg
GEO:53.408947259526;-2.9849363644176
X-APPLE-STRUCTURED-LOCATION;VALUE=URI;X-ADDRESS=Thrive 21-23 Preston Street Liverpool Liverpool L1 6DP United Kingdom;X-APPLE-RADIUS=500;X-TITLE=21-23 Preston Street:geo:-2.9849363644176,53.408947259526
END:VEVENT
BEGIN:VEVENT
DTSTART;TZID=UTC:20240508T103000
DTEND;TZID=UTC:20240508T103000
DTSTAMP:20260425T233237
CREATED:20221018T181857Z
LAST-MODIFIED:20221018T181858Z
UID:10008252-1715164200-1715164200@dev-bemore.awtg.net
SUMMARY:TRAINING WITH THE LEARNING FOUNDRY
DESCRIPTION:
URL:https://dev-bemore.awtg.net/events/training-with-the-learning-foundry/2024-05-08/
LOCATION:Thrive\, 21-23 Preston Street\, Liverpool\, Liverpool\, L1 6DP\, United Kingdom
ATTACH;FMTTYPE=image/jpeg:https://dev-bemore.awtg.net/wp-content/uploads/2022/10/Thrive.jpg
GEO:53.408947259526;-2.9849363644176
X-APPLE-STRUCTURED-LOCATION;VALUE=URI;X-ADDRESS=Thrive 21-23 Preston Street Liverpool Liverpool L1 6DP United Kingdom;X-APPLE-RADIUS=500;X-TITLE=21-23 Preston Street:geo:-2.9849363644176,53.408947259526
END:VEVENT
BEGIN:VEVENT
DTSTART;TZID=UTC:20240508T130000
DTEND;TZID=UTC:20240508T130000
DTSTAMP:20260425T233237
CREATED:20221018T181508Z
LAST-MODIFIED:20221018T181509Z
UID:10006099-1715173200-1715173200@dev-bemore.awtg.net
SUMMARY:CV DROP IN
DESCRIPTION:
URL:https://dev-bemore.awtg.net/events/cv-drop-in/2024-05-08/
LOCATION:Thrive\, 21-23 Preston Street\, Liverpool\, Liverpool\, L1 6DP\, United Kingdom
ATTACH;FMTTYPE=image/jpeg:https://dev-bemore.awtg.net/wp-content/uploads/2022/10/Thrive.jpg
GEO:53.408947259526;-2.9849363644176
X-APPLE-STRUCTURED-LOCATION;VALUE=URI;X-ADDRESS=Thrive 21-23 Preston Street Liverpool Liverpool L1 6DP United Kingdom;X-APPLE-RADIUS=500;X-TITLE=21-23 Preston Street:geo:-2.9849363644176,53.408947259526
END:VEVENT
BEGIN:VEVENT
DTSTART;TZID=UTC:20240508T130000
DTEND;TZID=UTC:20240508T130000
DTSTAMP:20260425T233237
CREATED:20221018T182437Z
LAST-MODIFIED:20221018T182438Z
UID:10009328-1715173200-1715173200@dev-bemore.awtg.net
SUMMARY:REGENDA HOUSING SUPPORT
DESCRIPTION:
URL:https://dev-bemore.awtg.net/events/regenda-housing-support/2024-05-08/
LOCATION:Thrive\, 21-23 Preston Street\, Liverpool\, Liverpool\, L1 6DP\, United Kingdom
ATTACH;FMTTYPE=image/jpeg:https://dev-bemore.awtg.net/wp-content/uploads/2022/10/Thrive.jpg
GEO:53.408947259526;-2.9849363644176
X-APPLE-STRUCTURED-LOCATION;VALUE=URI;X-ADDRESS=Thrive 21-23 Preston Street Liverpool Liverpool L1 6DP United Kingdom;X-APPLE-RADIUS=500;X-TITLE=21-23 Preston Street:geo:-2.9849363644176,53.408947259526
END:VEVENT
BEGIN:VEVENT
DTSTART;TZID=UTC:20240508T130000
DTEND;TZID=UTC:20240508T170000
DTSTAMP:20260425T233237
CREATED:20221018T172632Z
LAST-MODIFIED:20221018T180221Z
UID:10005454-1715173200-1715187600@dev-bemore.awtg.net
SUMMARY:DROP IN SESSIONS
DESCRIPTION:DWP Work Coach available to support with Universal Credit claims.
URL:https://dev-bemore.awtg.net/events/drop-in-sessions/2024-05-08/
LOCATION:Merseyside Youth Association\, 65-67 Hanover Street\, Liverpool\, Liverpool\, L1 3DY\, United Kingdom
ATTACH;FMTTYPE=image/png:https://dev-bemore.awtg.net/wp-content/uploads/2022/10/stock-event.png
GEO:53.404306319392;-2.9825169067472
X-APPLE-STRUCTURED-LOCATION;VALUE=URI;X-ADDRESS=Merseyside Youth Association 65-67 Hanover Street Liverpool Liverpool L1 3DY United Kingdom;X-APPLE-RADIUS=500;X-TITLE=65-67 Hanover Street:geo:-2.9825169067472,53.404306319392
END:VEVENT
BEGIN:VEVENT
DTSTART;TZID=UTC:20240508T130000
DTEND;TZID=UTC:20240508T170000
DTSTAMP:20260425T233237
CREATED:20221018T175015Z
LAST-MODIFIED:20231218T144607Z
UID:10005299-1715173200-1715187600@dev-bemore.awtg.net
SUMMARY:WEDNESDAY AFTERNOONS WITH THE HUB
DESCRIPTION:Personal skills development programme for a neurodiverse cohort of 15 young people. Activities include – CV building\, employer sessions\, woodland walk and much more!
URL:https://dev-bemore.awtg.net/events/wednesday-afternoons-with-the-hub-2/2024-05-08/
LOCATION:Merseyside Youth Association\, 65-67 Hanover Street\, Liverpool\, Liverpool\, L1 3DY\, United Kingdom
ATTACH;FMTTYPE=image/jpeg:https://dev-bemore.awtg.net/wp-content/uploads/2022/10/Merseyside-Youth-Association.jpg
GEO:53.404306319392;-2.9825169067472
X-APPLE-STRUCTURED-LOCATION;VALUE=URI;X-ADDRESS=Merseyside Youth Association 65-67 Hanover Street Liverpool Liverpool L1 3DY United Kingdom;X-APPLE-RADIUS=500;X-TITLE=65-67 Hanover Street:geo:-2.9825169067472,53.404306319392
END:VEVENT
BEGIN:VEVENT
DTSTART;TZID=UTC:20240509T103000
DTEND;TZID=UTC:20240509T103000
DTSTAMP:20260425T233237
CREATED:20221018T181702Z
LAST-MODIFIED:20221018T181703Z
UID:10007099-1715250600-1715250600@dev-bemore.awtg.net
SUMMARY:DBS EXPERIENCE PROGRAMME
DESCRIPTION:
URL:https://dev-bemore.awtg.net/events/dbs-experience-programme/2024-05-09/
LOCATION:Thrive\, 21-23 Preston Street\, Liverpool\, Liverpool\, L1 6DP\, United Kingdom
ATTACH;FMTTYPE=image/jpeg:https://dev-bemore.awtg.net/wp-content/uploads/2022/10/Thrive.jpg
GEO:53.408947259526;-2.9849363644176
X-APPLE-STRUCTURED-LOCATION;VALUE=URI;X-ADDRESS=Thrive 21-23 Preston Street Liverpool Liverpool L1 6DP United Kingdom;X-APPLE-RADIUS=500;X-TITLE=21-23 Preston Street:geo:-2.9849363644176,53.408947259526
END:VEVENT
BEGIN:VEVENT
DTSTART;TZID=UTC:20240509T103000
DTEND;TZID=UTC:20240509T103000
DTSTAMP:20260425T233237
CREATED:20221018T181857Z
LAST-MODIFIED:20221018T181858Z
UID:10008253-1715250600-1715250600@dev-bemore.awtg.net
SUMMARY:TRAINING WITH THE LEARNING FOUNDRY
DESCRIPTION:
URL:https://dev-bemore.awtg.net/events/training-with-the-learning-foundry/2024-05-09/
LOCATION:Thrive\, 21-23 Preston Street\, Liverpool\, Liverpool\, L1 6DP\, United Kingdom
ATTACH;FMTTYPE=image/jpeg:https://dev-bemore.awtg.net/wp-content/uploads/2022/10/Thrive.jpg
GEO:53.408947259526;-2.9849363644176
X-APPLE-STRUCTURED-LOCATION;VALUE=URI;X-ADDRESS=Thrive 21-23 Preston Street Liverpool Liverpool L1 6DP United Kingdom;X-APPLE-RADIUS=500;X-TITLE=21-23 Preston Street:geo:-2.9849363644176,53.408947259526
END:VEVENT
BEGIN:VEVENT
DTSTART;TZID=UTC:20240509T130000
DTEND;TZID=UTC:20240509T130000
DTSTAMP:20260425T233237
CREATED:20221018T181508Z
LAST-MODIFIED:20221018T181509Z
UID:10006100-1715259600-1715259600@dev-bemore.awtg.net
SUMMARY:CV DROP IN
DESCRIPTION:
URL:https://dev-bemore.awtg.net/events/cv-drop-in/2024-05-09/
LOCATION:Thrive\, 21-23 Preston Street\, Liverpool\, Liverpool\, L1 6DP\, United Kingdom
ATTACH;FMTTYPE=image/jpeg:https://dev-bemore.awtg.net/wp-content/uploads/2022/10/Thrive.jpg
GEO:53.408947259526;-2.9849363644176
X-APPLE-STRUCTURED-LOCATION;VALUE=URI;X-ADDRESS=Thrive 21-23 Preston Street Liverpool Liverpool L1 6DP United Kingdom;X-APPLE-RADIUS=500;X-TITLE=21-23 Preston Street:geo:-2.9849363644176,53.408947259526
END:VEVENT
BEGIN:VEVENT
DTSTART;TZID=UTC:20240509T130000
DTEND;TZID=UTC:20240509T130000
DTSTAMP:20260425T233237
CREATED:20221018T182437Z
LAST-MODIFIED:20221018T182438Z
UID:10009329-1715259600-1715259600@dev-bemore.awtg.net
SUMMARY:REGENDA HOUSING SUPPORT
DESCRIPTION:
URL:https://dev-bemore.awtg.net/events/regenda-housing-support/2024-05-09/
LOCATION:Thrive\, 21-23 Preston Street\, Liverpool\, Liverpool\, L1 6DP\, United Kingdom
ATTACH;FMTTYPE=image/jpeg:https://dev-bemore.awtg.net/wp-content/uploads/2022/10/Thrive.jpg
GEO:53.408947259526;-2.9849363644176
X-APPLE-STRUCTURED-LOCATION;VALUE=URI;X-ADDRESS=Thrive 21-23 Preston Street Liverpool Liverpool L1 6DP United Kingdom;X-APPLE-RADIUS=500;X-TITLE=21-23 Preston Street:geo:-2.9849363644176,53.408947259526
END:VEVENT
BEGIN:VEVENT
DTSTART;TZID=UTC:20240510T000000
DTEND;TZID=UTC:20240510T235959
DTSTAMP:20260425T233237
CREATED:20221018T172012Z
LAST-MODIFIED:20221018T180345Z
UID:10005155-1715299200-1715385599@dev-bemore.awtg.net
SUMMARY:CV SUPPORT
DESCRIPTION:Seetec CV Advisor attending Hub
URL:https://dev-bemore.awtg.net/events/cv-support/2024-05-10/
LOCATION:Merseyside Youth Association\, 65-67 Hanover Street\, Liverpool\, Liverpool\, L1 3DY\, United Kingdom
ATTACH;FMTTYPE=image/png:https://dev-bemore.awtg.net/wp-content/uploads/2022/10/stock-event.png
GEO:53.404306319392;-2.9825169067472
X-APPLE-STRUCTURED-LOCATION;VALUE=URI;X-ADDRESS=Merseyside Youth Association 65-67 Hanover Street Liverpool Liverpool L1 3DY United Kingdom;X-APPLE-RADIUS=500;X-TITLE=65-67 Hanover Street:geo:-2.9825169067472,53.404306319392
END:VEVENT
BEGIN:VEVENT
DTSTART;TZID=UTC:20240510T103000
DTEND;TZID=UTC:20240510T103000
DTSTAMP:20260425T233237
CREATED:20221018T181702Z
LAST-MODIFIED:20221018T181703Z
UID:10007100-1715337000-1715337000@dev-bemore.awtg.net
SUMMARY:DBS EXPERIENCE PROGRAMME
DESCRIPTION:
URL:https://dev-bemore.awtg.net/events/dbs-experience-programme/2024-05-10/
LOCATION:Thrive\, 21-23 Preston Street\, Liverpool\, Liverpool\, L1 6DP\, United Kingdom
ATTACH;FMTTYPE=image/jpeg:https://dev-bemore.awtg.net/wp-content/uploads/2022/10/Thrive.jpg
GEO:53.408947259526;-2.9849363644176
X-APPLE-STRUCTURED-LOCATION;VALUE=URI;X-ADDRESS=Thrive 21-23 Preston Street Liverpool Liverpool L1 6DP United Kingdom;X-APPLE-RADIUS=500;X-TITLE=21-23 Preston Street:geo:-2.9849363644176,53.408947259526
END:VEVENT
BEGIN:VEVENT
DTSTART;TZID=UTC:20240510T103000
DTEND;TZID=UTC:20240510T103000
DTSTAMP:20260425T233237
CREATED:20221018T181857Z
LAST-MODIFIED:20221018T181858Z
UID:10008254-1715337000-1715337000@dev-bemore.awtg.net
SUMMARY:TRAINING WITH THE LEARNING FOUNDRY
DESCRIPTION:
URL:https://dev-bemore.awtg.net/events/training-with-the-learning-foundry/2024-05-10/
LOCATION:Thrive\, 21-23 Preston Street\, Liverpool\, Liverpool\, L1 6DP\, United Kingdom
ATTACH;FMTTYPE=image/jpeg:https://dev-bemore.awtg.net/wp-content/uploads/2022/10/Thrive.jpg
GEO:53.408947259526;-2.9849363644176
X-APPLE-STRUCTURED-LOCATION;VALUE=URI;X-ADDRESS=Thrive 21-23 Preston Street Liverpool Liverpool L1 6DP United Kingdom;X-APPLE-RADIUS=500;X-TITLE=21-23 Preston Street:geo:-2.9849363644176,53.408947259526
END:VEVENT
BEGIN:VEVENT
DTSTART;TZID=UTC:20240510T130000
DTEND;TZID=UTC:20240510T130000
DTSTAMP:20260425T233237
CREATED:20221018T181508Z
LAST-MODIFIED:20221018T181509Z
UID:10006101-1715346000-1715346000@dev-bemore.awtg.net
SUMMARY:CV DROP IN
DESCRIPTION:
URL:https://dev-bemore.awtg.net/events/cv-drop-in/2024-05-10/
LOCATION:Thrive\, 21-23 Preston Street\, Liverpool\, Liverpool\, L1 6DP\, United Kingdom
ATTACH;FMTTYPE=image/jpeg:https://dev-bemore.awtg.net/wp-content/uploads/2022/10/Thrive.jpg
GEO:53.408947259526;-2.9849363644176
X-APPLE-STRUCTURED-LOCATION;VALUE=URI;X-ADDRESS=Thrive 21-23 Preston Street Liverpool Liverpool L1 6DP United Kingdom;X-APPLE-RADIUS=500;X-TITLE=21-23 Preston Street:geo:-2.9849363644176,53.408947259526
END:VEVENT
BEGIN:VEVENT
DTSTART;TZID=UTC:20240510T130000
DTEND;TZID=UTC:20240510T130000
DTSTAMP:20260425T233237
CREATED:20221018T182437Z
LAST-MODIFIED:20221018T182438Z
UID:10009330-1715346000-1715346000@dev-bemore.awtg.net
SUMMARY:REGENDA HOUSING SUPPORT
DESCRIPTION:
URL:https://dev-bemore.awtg.net/events/regenda-housing-support/2024-05-10/
LOCATION:Thrive\, 21-23 Preston Street\, Liverpool\, Liverpool\, L1 6DP\, United Kingdom
ATTACH;FMTTYPE=image/jpeg:https://dev-bemore.awtg.net/wp-content/uploads/2022/10/Thrive.jpg
GEO:53.408947259526;-2.9849363644176
X-APPLE-STRUCTURED-LOCATION;VALUE=URI;X-ADDRESS=Thrive 21-23 Preston Street Liverpool Liverpool L1 6DP United Kingdom;X-APPLE-RADIUS=500;X-TITLE=21-23 Preston Street:geo:-2.9849363644176,53.408947259526
END:VEVENT
BEGIN:VEVENT
DTSTART;TZID=UTC:20240511T100000
DTEND;TZID=UTC:20240511T120000
DTSTAMP:20260425T233237
CREATED:20240510T110847Z
LAST-MODIFIED:20240510T110848Z
UID:10010362-1715421600-1715428800@dev-bemore.awtg.net
SUMMARY:JUNIOR ARTS SMART
DESCRIPTION:For young people who are children in Care aged between 8-14 years  \n\n\n\nWirral Youth Voice Projects enable young people to have a voice and influence providers\, in Wirral and beyond. \n\n\n\nThese groups work on the annual Wirral Youth Conference and Parliament \n\n\n\nFor more details contact Seline Wakerley – selinewakerley@wirral.gov.uk
URL:https://dev-bemore.awtg.net/events/junior-arts-smart/2024-05-11/
LOCATION:Pilgrim Street Arts Centre\, 1 Pilgrim Street\, Birkenhead\, CH41 5EH\, United Kingdom
ATTACH;FMTTYPE=image/jpeg:https://dev-bemore.awtg.net/wp-content/uploads/2024/05/YOUTH-VOICE-WIRRAL.jpg
END:VEVENT
BEGIN:VEVENT
DTSTART;TZID=UTC:20240511T103000
DTEND;TZID=UTC:20240511T103000
DTSTAMP:20260425T233237
CREATED:20221018T181702Z
LAST-MODIFIED:20221018T181703Z
UID:10007101-1715423400-1715423400@dev-bemore.awtg.net
SUMMARY:DBS EXPERIENCE PROGRAMME
DESCRIPTION:
URL:https://dev-bemore.awtg.net/events/dbs-experience-programme/2024-05-11/
LOCATION:Thrive\, 21-23 Preston Street\, Liverpool\, Liverpool\, L1 6DP\, United Kingdom
ATTACH;FMTTYPE=image/jpeg:https://dev-bemore.awtg.net/wp-content/uploads/2022/10/Thrive.jpg
GEO:53.408947259526;-2.9849363644176
X-APPLE-STRUCTURED-LOCATION;VALUE=URI;X-ADDRESS=Thrive 21-23 Preston Street Liverpool Liverpool L1 6DP United Kingdom;X-APPLE-RADIUS=500;X-TITLE=21-23 Preston Street:geo:-2.9849363644176,53.408947259526
END:VEVENT
BEGIN:VEVENT
DTSTART;TZID=UTC:20240511T103000
DTEND;TZID=UTC:20240511T103000
DTSTAMP:20260425T233237
CREATED:20221018T181857Z
LAST-MODIFIED:20221018T181858Z
UID:10008255-1715423400-1715423400@dev-bemore.awtg.net
SUMMARY:TRAINING WITH THE LEARNING FOUNDRY
DESCRIPTION:
URL:https://dev-bemore.awtg.net/events/training-with-the-learning-foundry/2024-05-11/
LOCATION:Thrive\, 21-23 Preston Street\, Liverpool\, Liverpool\, L1 6DP\, United Kingdom
ATTACH;FMTTYPE=image/jpeg:https://dev-bemore.awtg.net/wp-content/uploads/2022/10/Thrive.jpg
GEO:53.408947259526;-2.9849363644176
X-APPLE-STRUCTURED-LOCATION;VALUE=URI;X-ADDRESS=Thrive 21-23 Preston Street Liverpool Liverpool L1 6DP United Kingdom;X-APPLE-RADIUS=500;X-TITLE=21-23 Preston Street:geo:-2.9849363644176,53.408947259526
END:VEVENT
BEGIN:VEVENT
DTSTART;TZID=UTC:20240511T130000
DTEND;TZID=UTC:20240511T130000
DTSTAMP:20260425T233237
CREATED:20221018T181508Z
LAST-MODIFIED:20221018T181509Z
UID:10006102-1715432400-1715432400@dev-bemore.awtg.net
SUMMARY:CV DROP IN
DESCRIPTION:
URL:https://dev-bemore.awtg.net/events/cv-drop-in/2024-05-11/
LOCATION:Thrive\, 21-23 Preston Street\, Liverpool\, Liverpool\, L1 6DP\, United Kingdom
ATTACH;FMTTYPE=image/jpeg:https://dev-bemore.awtg.net/wp-content/uploads/2022/10/Thrive.jpg
GEO:53.408947259526;-2.9849363644176
X-APPLE-STRUCTURED-LOCATION;VALUE=URI;X-ADDRESS=Thrive 21-23 Preston Street Liverpool Liverpool L1 6DP United Kingdom;X-APPLE-RADIUS=500;X-TITLE=21-23 Preston Street:geo:-2.9849363644176,53.408947259526
END:VEVENT
END:VCALENDAR