



BEGIN:VCALENDAR
VERSION:2.0
PRODID:-//BeMore - ECPv6.15.1//NONSGML v1.0//EN
CALSCALE:GREGORIAN
METHOD:PUBLISH
X-WR-CALNAME:BeMore
X-ORIGINAL-URL:https://dev-bemore.awtg.net
X-WR-CALDESC:Events for BeMore
REFRESH-INTERVAL;VALUE=DURATION:PT1H
X-Robots-Tag:noindex
X-PUBLISHED-TTL:PT1H
BEGIN:VTIMEZONE
TZID:UTC
BEGIN:STANDARD
TZOFFSETFROM:+0000
TZOFFSETTO:+0000
TZNAME:UTC
DTSTART:20240101T000000
END:STANDARD
END:VTIMEZONE
BEGIN:VTIMEZONE
TZID:Europe/Paris
BEGIN:DAYLIGHT
TZOFFSETFROM:+0100
TZOFFSETTO:+0200
TZNAME:CEST
DTSTART:20240331T010000
END:DAYLIGHT
BEGIN:STANDARD
TZOFFSETFROM:+0200
TZOFFSETTO:+0100
TZNAME:CET
DTSTART:20241027T010000
END:STANDARD
END:VTIMEZONE
BEGIN:VEVENT
DTSTART;TZID=UTC:20240402T093000
DTEND;TZID=UTC:20240415T150000
DTSTAMP:20260425T232844
CREATED:20240325T091021Z
LAST-MODIFIED:20240325T091022Z
UID:10010101-1712050200-1713193200@dev-bemore.awtg.net
SUMMARY:Free Training with Complete Skills Solutions - Prisoner Custody Officer Training
DESCRIPTION:Grab the opportunity to learn about the Prisoner Custody Officer role and gain an interview with GeoAmey – further training then provided by GeoAmey – start an exciting new career here!
URL:https://dev-bemore.awtg.net/events/free-training-with-complete-skills-solutions-prisoner-custody-officer-training/
LOCATION:Adelphi Hotel Liverpool\, Ranelagh St\, Liverpool\, L3 5UL
ATTACH;FMTTYPE=image/png:https://dev-bemore.awtg.net/wp-content/uploads/2023/01/Screenshot-2023-01-17-at-11.32.34.png
ORGANIZER;CN="Complete Skills Solutions":MAILTO:info@completeskillssolutions.co.uk
END:VEVENT
BEGIN:VEVENT
DTSTART;TZID=UTC:20240408T093000
DTEND;TZID=UTC:20240419T153000
DTSTAMP:20260425T232844
CREATED:20240325T091003Z
LAST-MODIFIED:20240325T091005Z
UID:10010102-1712568600-1713540600@dev-bemore.awtg.net
SUMMARY:Free Training with Complete Skills Solutions - Warehouse and Logistics Training - Tesco Job Opportunities
DESCRIPTION:This qualification informs and guides learners working or wishing to work in express logistics\, with job opportuities available with the Challenge/Tesco on completion of the course. \n\n\n\nIt provides learners with an overall understanding of how goods are transported from sortation hubs to domestic and business customers. It includes planning/tracking schedules\, sorting equipment/processes\, and loading/unloading techniques all underpinned by the relevant H&S regulations.
URL:https://dev-bemore.awtg.net/events/free-training-with-complete-skills-solutions-warehouse-and-logistics-training-tesco-job-opportunities/
LOCATION:Upton Community Centre\, Hough Green Road\, Widnes\, WA8 4PF
ATTACH;FMTTYPE=image/png:https://dev-bemore.awtg.net/wp-content/uploads/2023/01/Screenshot-2023-01-17-at-11.32.34.png
ORGANIZER;CN="Complete Skills Solutions":MAILTO:info@completeskillssolutions.co.uk
END:VEVENT
BEGIN:VEVENT
DTSTART;TZID=UTC:20240408T093000
DTEND;TZID=UTC:20240426T150000
DTSTAMP:20260425T232844
CREATED:20240325T090933Z
LAST-MODIFIED:20240325T090934Z
UID:10010104-1712568600-1714143600@dev-bemore.awtg.net
SUMMARY:Free Training with Complete Skills Solutions - Construction with CSCS Card
DESCRIPTION:Join our free 3 week Construction course with the opportunity to gain a green CSCS card at no additional cost. We can also put you in touch with employers who have work available. (Please note\, the course duration may be reduced). \n\n\n\nThe course will teach or refresh you about Construction health and safety and working in construction. There is the opportunity to learn about retrofitting and gain skills in time management and team working as well. The Level 1 Health and Safety Test is included\, (this is a requirement to take a CSCS test) as is the CSCS Test (resits for both may incur an additional cost).  \n\n\n\nYou will also be eligible for Community Shop membership. The Community Shops (Kirkdale. Beechwood and Halton) provide low cost food/shopping and you will be provided with a free lunch for the duration of the course.
URL:https://dev-bemore.awtg.net/events/free-training-with-complete-skills-solutions-construction-with-cscs-card/
LOCATION:Kirkdale Community Shop\, 211 Walton Rd\, Liverpool\, L4 4AJ
ATTACH;FMTTYPE=image/png:https://dev-bemore.awtg.net/wp-content/uploads/2023/01/Screenshot-2023-01-17-at-11.32.34.png
ORGANIZER;CN="Complete Skills Solutions":MAILTO:info@completeskillssolutions.co.uk
END:VEVENT
BEGIN:VEVENT
DTSTART;TZID=UTC:20240415T103000
DTEND;TZID=UTC:20240415T103000
DTSTAMP:20260425T232844
CREATED:20221018T181702Z
LAST-MODIFIED:20221018T181703Z
UID:10007075-1713177000-1713177000@dev-bemore.awtg.net
SUMMARY:DBS EXPERIENCE PROGRAMME
DESCRIPTION:
URL:https://dev-bemore.awtg.net/events/dbs-experience-programme/2024-04-15/
LOCATION:Thrive\, 21-23 Preston Street\, Liverpool\, Liverpool\, L1 6DP\, United Kingdom
ATTACH;FMTTYPE=image/jpeg:https://dev-bemore.awtg.net/wp-content/uploads/2022/10/Thrive.jpg
GEO:53.408947259526;-2.9849363644176
X-APPLE-STRUCTURED-LOCATION;VALUE=URI;X-ADDRESS=Thrive 21-23 Preston Street Liverpool Liverpool L1 6DP United Kingdom;X-APPLE-RADIUS=500;X-TITLE=21-23 Preston Street:geo:-2.9849363644176,53.408947259526
END:VEVENT
BEGIN:VEVENT
DTSTART;TZID=UTC:20240415T103000
DTEND;TZID=UTC:20240415T103000
DTSTAMP:20260425T232844
CREATED:20221018T181857Z
LAST-MODIFIED:20221018T181858Z
UID:10008229-1713177000-1713177000@dev-bemore.awtg.net
SUMMARY:TRAINING WITH THE LEARNING FOUNDRY
DESCRIPTION:
URL:https://dev-bemore.awtg.net/events/training-with-the-learning-foundry/2024-04-15/
LOCATION:Thrive\, 21-23 Preston Street\, Liverpool\, Liverpool\, L1 6DP\, United Kingdom
ATTACH;FMTTYPE=image/jpeg:https://dev-bemore.awtg.net/wp-content/uploads/2022/10/Thrive.jpg
GEO:53.408947259526;-2.9849363644176
X-APPLE-STRUCTURED-LOCATION;VALUE=URI;X-ADDRESS=Thrive 21-23 Preston Street Liverpool Liverpool L1 6DP United Kingdom;X-APPLE-RADIUS=500;X-TITLE=21-23 Preston Street:geo:-2.9849363644176,53.408947259526
END:VEVENT
BEGIN:VEVENT
DTSTART;TZID=UTC:20240415T130000
DTEND;TZID=UTC:20240415T130000
DTSTAMP:20260425T232844
CREATED:20221018T181508Z
LAST-MODIFIED:20221018T181509Z
UID:10006076-1713186000-1713186000@dev-bemore.awtg.net
SUMMARY:CV DROP IN
DESCRIPTION:
URL:https://dev-bemore.awtg.net/events/cv-drop-in/2024-04-15/
LOCATION:Thrive\, 21-23 Preston Street\, Liverpool\, Liverpool\, L1 6DP\, United Kingdom
ATTACH;FMTTYPE=image/jpeg:https://dev-bemore.awtg.net/wp-content/uploads/2022/10/Thrive.jpg
GEO:53.408947259526;-2.9849363644176
X-APPLE-STRUCTURED-LOCATION;VALUE=URI;X-ADDRESS=Thrive 21-23 Preston Street Liverpool Liverpool L1 6DP United Kingdom;X-APPLE-RADIUS=500;X-TITLE=21-23 Preston Street:geo:-2.9849363644176,53.408947259526
END:VEVENT
BEGIN:VEVENT
DTSTART;TZID=UTC:20240415T130000
DTEND;TZID=UTC:20240415T130000
DTSTAMP:20260425T232844
CREATED:20221018T182437Z
LAST-MODIFIED:20221018T182438Z
UID:10009305-1713186000-1713186000@dev-bemore.awtg.net
SUMMARY:REGENDA HOUSING SUPPORT
DESCRIPTION:
URL:https://dev-bemore.awtg.net/events/regenda-housing-support/2024-04-15/
LOCATION:Thrive\, 21-23 Preston Street\, Liverpool\, Liverpool\, L1 6DP\, United Kingdom
ATTACH;FMTTYPE=image/jpeg:https://dev-bemore.awtg.net/wp-content/uploads/2022/10/Thrive.jpg
GEO:53.408947259526;-2.9849363644176
X-APPLE-STRUCTURED-LOCATION;VALUE=URI;X-ADDRESS=Thrive 21-23 Preston Street Liverpool Liverpool L1 6DP United Kingdom;X-APPLE-RADIUS=500;X-TITLE=21-23 Preston Street:geo:-2.9849363644176,53.408947259526
END:VEVENT
BEGIN:VEVENT
DTSTART;TZID=UTC:20240416T103000
DTEND;TZID=UTC:20240416T103000
DTSTAMP:20260425T232844
CREATED:20221018T181702Z
LAST-MODIFIED:20221018T181703Z
UID:10007076-1713263400-1713263400@dev-bemore.awtg.net
SUMMARY:DBS EXPERIENCE PROGRAMME
DESCRIPTION:
URL:https://dev-bemore.awtg.net/events/dbs-experience-programme/2024-04-16/
LOCATION:Thrive\, 21-23 Preston Street\, Liverpool\, Liverpool\, L1 6DP\, United Kingdom
ATTACH;FMTTYPE=image/jpeg:https://dev-bemore.awtg.net/wp-content/uploads/2022/10/Thrive.jpg
GEO:53.408947259526;-2.9849363644176
X-APPLE-STRUCTURED-LOCATION;VALUE=URI;X-ADDRESS=Thrive 21-23 Preston Street Liverpool Liverpool L1 6DP United Kingdom;X-APPLE-RADIUS=500;X-TITLE=21-23 Preston Street:geo:-2.9849363644176,53.408947259526
END:VEVENT
BEGIN:VEVENT
DTSTART;TZID=UTC:20240416T103000
DTEND;TZID=UTC:20240416T103000
DTSTAMP:20260425T232844
CREATED:20221018T181857Z
LAST-MODIFIED:20221018T181858Z
UID:10008230-1713263400-1713263400@dev-bemore.awtg.net
SUMMARY:TRAINING WITH THE LEARNING FOUNDRY
DESCRIPTION:
URL:https://dev-bemore.awtg.net/events/training-with-the-learning-foundry/2024-04-16/
LOCATION:Thrive\, 21-23 Preston Street\, Liverpool\, Liverpool\, L1 6DP\, United Kingdom
ATTACH;FMTTYPE=image/jpeg:https://dev-bemore.awtg.net/wp-content/uploads/2022/10/Thrive.jpg
GEO:53.408947259526;-2.9849363644176
X-APPLE-STRUCTURED-LOCATION;VALUE=URI;X-ADDRESS=Thrive 21-23 Preston Street Liverpool Liverpool L1 6DP United Kingdom;X-APPLE-RADIUS=500;X-TITLE=21-23 Preston Street:geo:-2.9849363644176,53.408947259526
END:VEVENT
BEGIN:VEVENT
DTSTART;TZID=Europe/Paris:20240416T110000
DTEND;TZID=Europe/Paris:20240416T130000
DTSTAMP:20260425T232844
CREATED:20221017T134933Z
LAST-MODIFIED:20221018T180001Z
UID:10004973-1713265200-1713272400@dev-bemore.awtg.net
SUMMARY:HOW TO GET AND KEEP CUSTOMERS
DESCRIPTION:Entrepreneurs and SME leaders can receive a masterclass on gaining clients and keeping returning customers
URL:https://dev-bemore.awtg.net/events/how-to-get-and-keep-customers%ef%bf%bc%ef%bf%bc/2024-04-16/
ATTACH;FMTTYPE=image/png:https://dev-bemore.awtg.net/wp-content/uploads/2022/10/stock-event.png
END:VEVENT
BEGIN:VEVENT
DTSTART;TZID=UTC:20240416T130000
DTEND;TZID=UTC:20240416T130000
DTSTAMP:20260425T232844
CREATED:20221018T181508Z
LAST-MODIFIED:20221018T181509Z
UID:10006077-1713272400-1713272400@dev-bemore.awtg.net
SUMMARY:CV DROP IN
DESCRIPTION:
URL:https://dev-bemore.awtg.net/events/cv-drop-in/2024-04-16/
LOCATION:Thrive\, 21-23 Preston Street\, Liverpool\, Liverpool\, L1 6DP\, United Kingdom
ATTACH;FMTTYPE=image/jpeg:https://dev-bemore.awtg.net/wp-content/uploads/2022/10/Thrive.jpg
GEO:53.408947259526;-2.9849363644176
X-APPLE-STRUCTURED-LOCATION;VALUE=URI;X-ADDRESS=Thrive 21-23 Preston Street Liverpool Liverpool L1 6DP United Kingdom;X-APPLE-RADIUS=500;X-TITLE=21-23 Preston Street:geo:-2.9849363644176,53.408947259526
END:VEVENT
BEGIN:VEVENT
DTSTART;TZID=UTC:20240416T130000
DTEND;TZID=UTC:20240416T130000
DTSTAMP:20260425T232844
CREATED:20221018T182437Z
LAST-MODIFIED:20221018T182438Z
UID:10009306-1713272400-1713272400@dev-bemore.awtg.net
SUMMARY:REGENDA HOUSING SUPPORT
DESCRIPTION:
URL:https://dev-bemore.awtg.net/events/regenda-housing-support/2024-04-16/
LOCATION:Thrive\, 21-23 Preston Street\, Liverpool\, Liverpool\, L1 6DP\, United Kingdom
ATTACH;FMTTYPE=image/jpeg:https://dev-bemore.awtg.net/wp-content/uploads/2022/10/Thrive.jpg
GEO:53.408947259526;-2.9849363644176
X-APPLE-STRUCTURED-LOCATION;VALUE=URI;X-ADDRESS=Thrive 21-23 Preston Street Liverpool Liverpool L1 6DP United Kingdom;X-APPLE-RADIUS=500;X-TITLE=21-23 Preston Street:geo:-2.9849363644176,53.408947259526
END:VEVENT
BEGIN:VEVENT
DTSTART;TZID=UTC:20240417T103000
DTEND;TZID=UTC:20240417T103000
DTSTAMP:20260425T232844
CREATED:20221018T181702Z
LAST-MODIFIED:20221018T181703Z
UID:10007077-1713349800-1713349800@dev-bemore.awtg.net
SUMMARY:DBS EXPERIENCE PROGRAMME
DESCRIPTION:
URL:https://dev-bemore.awtg.net/events/dbs-experience-programme/2024-04-17/
LOCATION:Thrive\, 21-23 Preston Street\, Liverpool\, Liverpool\, L1 6DP\, United Kingdom
ATTACH;FMTTYPE=image/jpeg:https://dev-bemore.awtg.net/wp-content/uploads/2022/10/Thrive.jpg
GEO:53.408947259526;-2.9849363644176
X-APPLE-STRUCTURED-LOCATION;VALUE=URI;X-ADDRESS=Thrive 21-23 Preston Street Liverpool Liverpool L1 6DP United Kingdom;X-APPLE-RADIUS=500;X-TITLE=21-23 Preston Street:geo:-2.9849363644176,53.408947259526
END:VEVENT
BEGIN:VEVENT
DTSTART;TZID=UTC:20240417T103000
DTEND;TZID=UTC:20240417T103000
DTSTAMP:20260425T232844
CREATED:20221018T181857Z
LAST-MODIFIED:20221018T181858Z
UID:10008231-1713349800-1713349800@dev-bemore.awtg.net
SUMMARY:TRAINING WITH THE LEARNING FOUNDRY
DESCRIPTION:
URL:https://dev-bemore.awtg.net/events/training-with-the-learning-foundry/2024-04-17/
LOCATION:Thrive\, 21-23 Preston Street\, Liverpool\, Liverpool\, L1 6DP\, United Kingdom
ATTACH;FMTTYPE=image/jpeg:https://dev-bemore.awtg.net/wp-content/uploads/2022/10/Thrive.jpg
GEO:53.408947259526;-2.9849363644176
X-APPLE-STRUCTURED-LOCATION;VALUE=URI;X-ADDRESS=Thrive 21-23 Preston Street Liverpool Liverpool L1 6DP United Kingdom;X-APPLE-RADIUS=500;X-TITLE=21-23 Preston Street:geo:-2.9849363644176,53.408947259526
END:VEVENT
BEGIN:VEVENT
DTSTART;TZID=UTC:20240417T130000
DTEND;TZID=UTC:20240417T130000
DTSTAMP:20260425T232844
CREATED:20221018T181508Z
LAST-MODIFIED:20221018T181509Z
UID:10006078-1713358800-1713358800@dev-bemore.awtg.net
SUMMARY:CV DROP IN
DESCRIPTION:
URL:https://dev-bemore.awtg.net/events/cv-drop-in/2024-04-17/
LOCATION:Thrive\, 21-23 Preston Street\, Liverpool\, Liverpool\, L1 6DP\, United Kingdom
ATTACH;FMTTYPE=image/jpeg:https://dev-bemore.awtg.net/wp-content/uploads/2022/10/Thrive.jpg
GEO:53.408947259526;-2.9849363644176
X-APPLE-STRUCTURED-LOCATION;VALUE=URI;X-ADDRESS=Thrive 21-23 Preston Street Liverpool Liverpool L1 6DP United Kingdom;X-APPLE-RADIUS=500;X-TITLE=21-23 Preston Street:geo:-2.9849363644176,53.408947259526
END:VEVENT
BEGIN:VEVENT
DTSTART;TZID=UTC:20240417T130000
DTEND;TZID=UTC:20240417T130000
DTSTAMP:20260425T232844
CREATED:20221018T182437Z
LAST-MODIFIED:20221018T182438Z
UID:10009307-1713358800-1713358800@dev-bemore.awtg.net
SUMMARY:REGENDA HOUSING SUPPORT
DESCRIPTION:
URL:https://dev-bemore.awtg.net/events/regenda-housing-support/2024-04-17/
LOCATION:Thrive\, 21-23 Preston Street\, Liverpool\, Liverpool\, L1 6DP\, United Kingdom
ATTACH;FMTTYPE=image/jpeg:https://dev-bemore.awtg.net/wp-content/uploads/2022/10/Thrive.jpg
GEO:53.408947259526;-2.9849363644176
X-APPLE-STRUCTURED-LOCATION;VALUE=URI;X-ADDRESS=Thrive 21-23 Preston Street Liverpool Liverpool L1 6DP United Kingdom;X-APPLE-RADIUS=500;X-TITLE=21-23 Preston Street:geo:-2.9849363644176,53.408947259526
END:VEVENT
BEGIN:VEVENT
DTSTART;TZID=UTC:20240417T130000
DTEND;TZID=UTC:20240417T170000
DTSTAMP:20260425T232844
CREATED:20221018T172632Z
LAST-MODIFIED:20221018T180221Z
UID:10005451-1713358800-1713373200@dev-bemore.awtg.net
SUMMARY:DROP IN SESSIONS
DESCRIPTION:DWP Work Coach available to support with Universal Credit claims.
URL:https://dev-bemore.awtg.net/events/drop-in-sessions/2024-04-17/
LOCATION:Merseyside Youth Association\, 65-67 Hanover Street\, Liverpool\, Liverpool\, L1 3DY\, United Kingdom
ATTACH;FMTTYPE=image/png:https://dev-bemore.awtg.net/wp-content/uploads/2022/10/stock-event.png
GEO:53.404306319392;-2.9825169067472
X-APPLE-STRUCTURED-LOCATION;VALUE=URI;X-ADDRESS=Merseyside Youth Association 65-67 Hanover Street Liverpool Liverpool L1 3DY United Kingdom;X-APPLE-RADIUS=500;X-TITLE=65-67 Hanover Street:geo:-2.9825169067472,53.404306319392
END:VEVENT
BEGIN:VEVENT
DTSTART;TZID=UTC:20240417T130000
DTEND;TZID=UTC:20240417T170000
DTSTAMP:20260425T232844
CREATED:20221018T175015Z
LAST-MODIFIED:20231218T144607Z
UID:10005296-1713358800-1713373200@dev-bemore.awtg.net
SUMMARY:WEDNESDAY AFTERNOONS WITH THE HUB
DESCRIPTION:Personal skills development programme for a neurodiverse cohort of 15 young people. Activities include – CV building\, employer sessions\, woodland walk and much more!
URL:https://dev-bemore.awtg.net/events/wednesday-afternoons-with-the-hub-2/2024-04-17/
LOCATION:Merseyside Youth Association\, 65-67 Hanover Street\, Liverpool\, Liverpool\, L1 3DY\, United Kingdom
ATTACH;FMTTYPE=image/jpeg:https://dev-bemore.awtg.net/wp-content/uploads/2022/10/Merseyside-Youth-Association.jpg
GEO:53.404306319392;-2.9825169067472
X-APPLE-STRUCTURED-LOCATION;VALUE=URI;X-ADDRESS=Merseyside Youth Association 65-67 Hanover Street Liverpool Liverpool L1 3DY United Kingdom;X-APPLE-RADIUS=500;X-TITLE=65-67 Hanover Street:geo:-2.9825169067472,53.404306319392
END:VEVENT
BEGIN:VEVENT
DTSTART;TZID=UTC:20240418T103000
DTEND;TZID=UTC:20240418T103000
DTSTAMP:20260425T232844
CREATED:20221018T181702Z
LAST-MODIFIED:20221018T181703Z
UID:10007078-1713436200-1713436200@dev-bemore.awtg.net
SUMMARY:DBS EXPERIENCE PROGRAMME
DESCRIPTION:
URL:https://dev-bemore.awtg.net/events/dbs-experience-programme/2024-04-18/
LOCATION:Thrive\, 21-23 Preston Street\, Liverpool\, Liverpool\, L1 6DP\, United Kingdom
ATTACH;FMTTYPE=image/jpeg:https://dev-bemore.awtg.net/wp-content/uploads/2022/10/Thrive.jpg
GEO:53.408947259526;-2.9849363644176
X-APPLE-STRUCTURED-LOCATION;VALUE=URI;X-ADDRESS=Thrive 21-23 Preston Street Liverpool Liverpool L1 6DP United Kingdom;X-APPLE-RADIUS=500;X-TITLE=21-23 Preston Street:geo:-2.9849363644176,53.408947259526
END:VEVENT
BEGIN:VEVENT
DTSTART;TZID=UTC:20240418T103000
DTEND;TZID=UTC:20240418T103000
DTSTAMP:20260425T232844
CREATED:20221018T181857Z
LAST-MODIFIED:20221018T181858Z
UID:10008232-1713436200-1713436200@dev-bemore.awtg.net
SUMMARY:TRAINING WITH THE LEARNING FOUNDRY
DESCRIPTION:
URL:https://dev-bemore.awtg.net/events/training-with-the-learning-foundry/2024-04-18/
LOCATION:Thrive\, 21-23 Preston Street\, Liverpool\, Liverpool\, L1 6DP\, United Kingdom
ATTACH;FMTTYPE=image/jpeg:https://dev-bemore.awtg.net/wp-content/uploads/2022/10/Thrive.jpg
GEO:53.408947259526;-2.9849363644176
X-APPLE-STRUCTURED-LOCATION;VALUE=URI;X-ADDRESS=Thrive 21-23 Preston Street Liverpool Liverpool L1 6DP United Kingdom;X-APPLE-RADIUS=500;X-TITLE=21-23 Preston Street:geo:-2.9849363644176,53.408947259526
END:VEVENT
BEGIN:VEVENT
DTSTART;TZID=UTC:20240418T130000
DTEND;TZID=UTC:20240418T130000
DTSTAMP:20260425T232844
CREATED:20221018T181508Z
LAST-MODIFIED:20221018T181509Z
UID:10006079-1713445200-1713445200@dev-bemore.awtg.net
SUMMARY:CV DROP IN
DESCRIPTION:
URL:https://dev-bemore.awtg.net/events/cv-drop-in/2024-04-18/
LOCATION:Thrive\, 21-23 Preston Street\, Liverpool\, Liverpool\, L1 6DP\, United Kingdom
ATTACH;FMTTYPE=image/jpeg:https://dev-bemore.awtg.net/wp-content/uploads/2022/10/Thrive.jpg
GEO:53.408947259526;-2.9849363644176
X-APPLE-STRUCTURED-LOCATION;VALUE=URI;X-ADDRESS=Thrive 21-23 Preston Street Liverpool Liverpool L1 6DP United Kingdom;X-APPLE-RADIUS=500;X-TITLE=21-23 Preston Street:geo:-2.9849363644176,53.408947259526
END:VEVENT
BEGIN:VEVENT
DTSTART;TZID=UTC:20240418T130000
DTEND;TZID=UTC:20240418T130000
DTSTAMP:20260425T232844
CREATED:20221018T182437Z
LAST-MODIFIED:20221018T182438Z
UID:10009308-1713445200-1713445200@dev-bemore.awtg.net
SUMMARY:REGENDA HOUSING SUPPORT
DESCRIPTION:
URL:https://dev-bemore.awtg.net/events/regenda-housing-support/2024-04-18/
LOCATION:Thrive\, 21-23 Preston Street\, Liverpool\, Liverpool\, L1 6DP\, United Kingdom
ATTACH;FMTTYPE=image/jpeg:https://dev-bemore.awtg.net/wp-content/uploads/2022/10/Thrive.jpg
GEO:53.408947259526;-2.9849363644176
X-APPLE-STRUCTURED-LOCATION;VALUE=URI;X-ADDRESS=Thrive 21-23 Preston Street Liverpool Liverpool L1 6DP United Kingdom;X-APPLE-RADIUS=500;X-TITLE=21-23 Preston Street:geo:-2.9849363644176,53.408947259526
END:VEVENT
BEGIN:VEVENT
DTSTART;TZID=UTC:20240419T000000
DTEND;TZID=UTC:20240419T235959
DTSTAMP:20260425T232844
CREATED:20221018T172012Z
LAST-MODIFIED:20221018T180345Z
UID:10005152-1713484800-1713571199@dev-bemore.awtg.net
SUMMARY:CV SUPPORT
DESCRIPTION:Seetec CV Advisor attending Hub
URL:https://dev-bemore.awtg.net/events/cv-support/2024-04-19/
LOCATION:Merseyside Youth Association\, 65-67 Hanover Street\, Liverpool\, Liverpool\, L1 3DY\, United Kingdom
ATTACH;FMTTYPE=image/png:https://dev-bemore.awtg.net/wp-content/uploads/2022/10/stock-event.png
GEO:53.404306319392;-2.9825169067472
X-APPLE-STRUCTURED-LOCATION;VALUE=URI;X-ADDRESS=Merseyside Youth Association 65-67 Hanover Street Liverpool Liverpool L1 3DY United Kingdom;X-APPLE-RADIUS=500;X-TITLE=65-67 Hanover Street:geo:-2.9825169067472,53.404306319392
END:VEVENT
BEGIN:VEVENT
DTSTART;TZID=UTC:20240419T103000
DTEND;TZID=UTC:20240419T103000
DTSTAMP:20260425T232844
CREATED:20221018T181702Z
LAST-MODIFIED:20221018T181703Z
UID:10007079-1713522600-1713522600@dev-bemore.awtg.net
SUMMARY:DBS EXPERIENCE PROGRAMME
DESCRIPTION:
URL:https://dev-bemore.awtg.net/events/dbs-experience-programme/2024-04-19/
LOCATION:Thrive\, 21-23 Preston Street\, Liverpool\, Liverpool\, L1 6DP\, United Kingdom
ATTACH;FMTTYPE=image/jpeg:https://dev-bemore.awtg.net/wp-content/uploads/2022/10/Thrive.jpg
GEO:53.408947259526;-2.9849363644176
X-APPLE-STRUCTURED-LOCATION;VALUE=URI;X-ADDRESS=Thrive 21-23 Preston Street Liverpool Liverpool L1 6DP United Kingdom;X-APPLE-RADIUS=500;X-TITLE=21-23 Preston Street:geo:-2.9849363644176,53.408947259526
END:VEVENT
BEGIN:VEVENT
DTSTART;TZID=UTC:20240419T103000
DTEND;TZID=UTC:20240419T103000
DTSTAMP:20260425T232844
CREATED:20221018T181857Z
LAST-MODIFIED:20221018T181858Z
UID:10008233-1713522600-1713522600@dev-bemore.awtg.net
SUMMARY:TRAINING WITH THE LEARNING FOUNDRY
DESCRIPTION:
URL:https://dev-bemore.awtg.net/events/training-with-the-learning-foundry/2024-04-19/
LOCATION:Thrive\, 21-23 Preston Street\, Liverpool\, Liverpool\, L1 6DP\, United Kingdom
ATTACH;FMTTYPE=image/jpeg:https://dev-bemore.awtg.net/wp-content/uploads/2022/10/Thrive.jpg
GEO:53.408947259526;-2.9849363644176
X-APPLE-STRUCTURED-LOCATION;VALUE=URI;X-ADDRESS=Thrive 21-23 Preston Street Liverpool Liverpool L1 6DP United Kingdom;X-APPLE-RADIUS=500;X-TITLE=21-23 Preston Street:geo:-2.9849363644176,53.408947259526
END:VEVENT
BEGIN:VEVENT
DTSTART;TZID=UTC:20240419T110000
DTEND;TZID=UTC:20240419T140000
DTSTAMP:20260425T232844
CREATED:20240408T110321Z
LAST-MODIFIED:20240408T110324Z
UID:10010116-1713524400-1713535200@dev-bemore.awtg.net
SUMMARY:WIRRAL EARLY YEARS AND CHILDCARE RECRUITMENT EVENT
DESCRIPTION:The Recruitment Event is aimed at claimants of ALL ages\, who are looking for work in the Early Years Sector. \n\n\n\nThis is an excellent way to meet local employers and enhance your career. \n\n\n\nEmployment & Training opportunities available on the day! \n\n\n\nEmail your name and preferred time slot to attend: employersupport.merseysidewirral@dwp.gov.uk \n\n\n\nTime slots: 11am\, 11.30am\, 12pm\, 12.30pm\, 1pm\, 1.30pm
URL:https://dev-bemore.awtg.net/events/wirral-early-years-and-childcare-recruitment-event/
LOCATION:Upton Job Centre\, 52 Arrowe Park Road\, Birkenhead\, CH49 0UE\, United Kingdom
ATTACH;FMTTYPE=image/jpeg:https://dev-bemore.awtg.net/wp-content/uploads/2024/04/event-image-002-EY.jpg
END:VEVENT
BEGIN:VEVENT
DTSTART;TZID=UTC:20240419T130000
DTEND;TZID=UTC:20240419T130000
DTSTAMP:20260425T232844
CREATED:20221018T181508Z
LAST-MODIFIED:20221018T181509Z
UID:10006080-1713531600-1713531600@dev-bemore.awtg.net
SUMMARY:CV DROP IN
DESCRIPTION:
URL:https://dev-bemore.awtg.net/events/cv-drop-in/2024-04-19/
LOCATION:Thrive\, 21-23 Preston Street\, Liverpool\, Liverpool\, L1 6DP\, United Kingdom
ATTACH;FMTTYPE=image/jpeg:https://dev-bemore.awtg.net/wp-content/uploads/2022/10/Thrive.jpg
GEO:53.408947259526;-2.9849363644176
X-APPLE-STRUCTURED-LOCATION;VALUE=URI;X-ADDRESS=Thrive 21-23 Preston Street Liverpool Liverpool L1 6DP United Kingdom;X-APPLE-RADIUS=500;X-TITLE=21-23 Preston Street:geo:-2.9849363644176,53.408947259526
END:VEVENT
BEGIN:VEVENT
DTSTART;TZID=UTC:20240419T130000
DTEND;TZID=UTC:20240419T130000
DTSTAMP:20260425T232844
CREATED:20221018T182437Z
LAST-MODIFIED:20221018T182438Z
UID:10009309-1713531600-1713531600@dev-bemore.awtg.net
SUMMARY:REGENDA HOUSING SUPPORT
DESCRIPTION:
URL:https://dev-bemore.awtg.net/events/regenda-housing-support/2024-04-19/
LOCATION:Thrive\, 21-23 Preston Street\, Liverpool\, Liverpool\, L1 6DP\, United Kingdom
ATTACH;FMTTYPE=image/jpeg:https://dev-bemore.awtg.net/wp-content/uploads/2022/10/Thrive.jpg
GEO:53.408947259526;-2.9849363644176
X-APPLE-STRUCTURED-LOCATION;VALUE=URI;X-ADDRESS=Thrive 21-23 Preston Street Liverpool Liverpool L1 6DP United Kingdom;X-APPLE-RADIUS=500;X-TITLE=21-23 Preston Street:geo:-2.9849363644176,53.408947259526
END:VEVENT
BEGIN:VEVENT
DTSTART;TZID=UTC:20240420T103000
DTEND;TZID=UTC:20240420T103000
DTSTAMP:20260425T232844
CREATED:20221018T181702Z
LAST-MODIFIED:20221018T181703Z
UID:10007080-1713609000-1713609000@dev-bemore.awtg.net
SUMMARY:DBS EXPERIENCE PROGRAMME
DESCRIPTION:
URL:https://dev-bemore.awtg.net/events/dbs-experience-programme/2024-04-20/
LOCATION:Thrive\, 21-23 Preston Street\, Liverpool\, Liverpool\, L1 6DP\, United Kingdom
ATTACH;FMTTYPE=image/jpeg:https://dev-bemore.awtg.net/wp-content/uploads/2022/10/Thrive.jpg
GEO:53.408947259526;-2.9849363644176
X-APPLE-STRUCTURED-LOCATION;VALUE=URI;X-ADDRESS=Thrive 21-23 Preston Street Liverpool Liverpool L1 6DP United Kingdom;X-APPLE-RADIUS=500;X-TITLE=21-23 Preston Street:geo:-2.9849363644176,53.408947259526
END:VEVENT
BEGIN:VEVENT
DTSTART;TZID=UTC:20240420T103000
DTEND;TZID=UTC:20240420T103000
DTSTAMP:20260425T232844
CREATED:20221018T181857Z
LAST-MODIFIED:20221018T181858Z
UID:10008234-1713609000-1713609000@dev-bemore.awtg.net
SUMMARY:TRAINING WITH THE LEARNING FOUNDRY
DESCRIPTION:
URL:https://dev-bemore.awtg.net/events/training-with-the-learning-foundry/2024-04-20/
LOCATION:Thrive\, 21-23 Preston Street\, Liverpool\, Liverpool\, L1 6DP\, United Kingdom
ATTACH;FMTTYPE=image/jpeg:https://dev-bemore.awtg.net/wp-content/uploads/2022/10/Thrive.jpg
GEO:53.408947259526;-2.9849363644176
X-APPLE-STRUCTURED-LOCATION;VALUE=URI;X-ADDRESS=Thrive 21-23 Preston Street Liverpool Liverpool L1 6DP United Kingdom;X-APPLE-RADIUS=500;X-TITLE=21-23 Preston Street:geo:-2.9849363644176,53.408947259526
END:VEVENT
END:VCALENDAR